BEGIN:VCALENDAR
VERSION:2.0
PRODID:-//Folk Dance Federation of California - ECPv6.15.20//NONSGML v1.0//EN
CALSCALE:GREGORIAN
METHOD:PUBLISH
X-WR-CALNAME:Folk Dance Federation of California
X-ORIGINAL-URL:https://www.folkdance.com
X-WR-CALDESC:Events for Folk Dance Federation of California
REFRESH-INTERVAL;VALUE=DURATION:PT1H
X-Robots-Tag:noindex
X-PUBLISHED-TTL:PT1H
BEGIN:VTIMEZONE
TZID:America/Los_Angeles
BEGIN:DAYLIGHT
TZOFFSETFROM:-0800
TZOFFSETTO:-0700
TZNAME:PDT
DTSTART:20250309T100000
END:DAYLIGHT
BEGIN:STANDARD
TZOFFSETFROM:-0700
TZOFFSETTO:-0800
TZNAME:PST
DTSTART:20251102T090000
END:STANDARD
BEGIN:DAYLIGHT
TZOFFSETFROM:-0800
TZOFFSETTO:-0700
TZNAME:PDT
DTSTART:20260308T100000
END:DAYLIGHT
BEGIN:STANDARD
TZOFFSETFROM:-0700
TZOFFSETTO:-0800
TZNAME:PST
DTSTART:20261101T090000
END:STANDARD
BEGIN:DAYLIGHT
TZOFFSETFROM:-0800
TZOFFSETTO:-0700
TZNAME:PDT
DTSTART:20270314T100000
END:DAYLIGHT
BEGIN:STANDARD
TZOFFSETFROM:-0700
TZOFFSETTO:-0800
TZNAME:PST
DTSTART:20271107T090000
END:STANDARD
END:VTIMEZONE
BEGIN:VEVENT
DTSTART;TZID=America/Los_Angeles:20260424T190000
DTEND;TZID=America/Los_Angeles:20260424T220000
DTSTAMP:20260420T221459
CREATED:20260214T063546Z
LAST-MODIFIED:20260214T063546Z
UID:10001548-1777057200-1777068000@www.folkdance.com
SUMMARY:Family Fun and Dancing
DESCRIPTION:Join Changs International Folk Dancers for a night of music and dance for the entire family! \nAn hour of fun dance activities to music from around the world. Every Fourth Friday\, 7pm-8pm. Followed at 8-10pm by international folk dances from our club’s repertoire. \nAdults accompanied by kids always free!
URL:https://www.folkdance.com/event/bfd-family-fun-apr26/2026-04-24/
LOCATION:Miraloma Park Clubhouse\, 350 O’Shaughnessey Boulevard (at Del Vale Avenue)\, San Francisco\, CA\, 94127\, United States
CATEGORIES:Dance Party,Workshop
ATTACH;FMTTYPE=image/png:https://www.folkdance.com/wp-content/uploads/2023/08/clipart3061462.png
ORGANIZER;CN="Changs International Folk Dancers":MAILTO:changsdancers@aol.com
GEO:37.7932697;-122.3928679
X-APPLE-STRUCTURED-LOCATION;VALUE=URI;X-ADDRESS=Miraloma Park Clubhouse 350 O’Shaughnessey Boulevard (at Del Vale Avenue) San Francisco CA 94127 United States;X-APPLE-RADIUS=500;X-TITLE=350 O’Shaughnessey Boulevard (at Del Vale Avenue):geo:-122.3928679,37.7932697
END:VEVENT
BEGIN:VEVENT
DTSTART;TZID=America/Los_Angeles:20260522T190000
DTEND;TZID=America/Los_Angeles:20260522T220000
DTSTAMP:20260420T221459
CREATED:20260214T063637Z
LAST-MODIFIED:20260214T063637Z
UID:10001549-1779476400-1779487200@www.folkdance.com
SUMMARY:Family Fun and Dancing
DESCRIPTION:Join Changs International Folk Dancers for a night of music and dance for the entire family! \nAn hour of fun dance activities to music from around the world. Every Fourth Friday\, 7pm-8pm. Followed at 8-10pm by international folk dances from our club’s repertoire. \nAdults accompanied by kids always free!
URL:https://www.folkdance.com/event/bfd-family-fun-may26/2026-05-22/
LOCATION:Miraloma Park Clubhouse\, 350 O’Shaughnessey Boulevard (at Del Vale Avenue)\, San Francisco\, CA\, 94127\, United States
CATEGORIES:Dance Party,Workshop
ATTACH;FMTTYPE=image/png:https://www.folkdance.com/wp-content/uploads/2023/08/clipart3061462.png
ORGANIZER;CN="Changs International Folk Dancers":MAILTO:changsdancers@aol.com
GEO:37.7932697;-122.3928679
X-APPLE-STRUCTURED-LOCATION;VALUE=URI;X-ADDRESS=Miraloma Park Clubhouse 350 O’Shaughnessey Boulevard (at Del Vale Avenue) San Francisco CA 94127 United States;X-APPLE-RADIUS=500;X-TITLE=350 O’Shaughnessey Boulevard (at Del Vale Avenue):geo:-122.3928679,37.7932697
END:VEVENT
BEGIN:VEVENT
DTSTART;TZID=America/Los_Angeles:20260626T190000
DTEND;TZID=America/Los_Angeles:20260626T220000
DTSTAMP:20260420T221459
CREATED:20260214T063816Z
LAST-MODIFIED:20260214T063816Z
UID:10001550-1782500400-1782511200@www.folkdance.com
SUMMARY:Family Fun and Dancing
DESCRIPTION:Join Changs International Folk Dancers for a night of music and dance for the entire family! \nAn hour of fun dance activities to music from around the world. Every Fourth Friday\, 7pm-8pm. Followed at 8-10pm by international folk dances from our club’s repertoire. \nAdults accompanied by kids always free!
URL:https://www.folkdance.com/event/bfd-family-fun-jun26/2026-06-26/
LOCATION:Miraloma Park Clubhouse\, 350 O’Shaughnessey Boulevard (at Del Vale Avenue)\, San Francisco\, CA\, 94127\, United States
CATEGORIES:Dance Party,Workshop
ATTACH;FMTTYPE=image/png:https://www.folkdance.com/wp-content/uploads/2023/08/clipart3061462.png
ORGANIZER;CN="Changs International Folk Dancers":MAILTO:changsdancers@aol.com
GEO:37.7932697;-122.3928679
X-APPLE-STRUCTURED-LOCATION;VALUE=URI;X-ADDRESS=Miraloma Park Clubhouse 350 O’Shaughnessey Boulevard (at Del Vale Avenue) San Francisco CA 94127 United States;X-APPLE-RADIUS=500;X-TITLE=350 O’Shaughnessey Boulevard (at Del Vale Avenue):geo:-122.3928679,37.7932697
END:VEVENT
END:VCALENDAR