BEGIN:VCALENDAR
VERSION:2.0
PRODID:-//Folk Dance Federation of California - ECPv6.15.20//NONSGML v1.0//EN
CALSCALE:GREGORIAN
METHOD:PUBLISH
X-WR-CALNAME:Folk Dance Federation of California
X-ORIGINAL-URL:https://www.folkdance.com
X-WR-CALDESC:Events for Folk Dance Federation of California
REFRESH-INTERVAL;VALUE=DURATION:PT1H
X-Robots-Tag:noindex
X-PUBLISHED-TTL:PT1H
BEGIN:VTIMEZONE
TZID:America/Los_Angeles
BEGIN:DAYLIGHT
TZOFFSETFROM:-0800
TZOFFSETTO:-0700
TZNAME:PDT
DTSTART:20250309T100000
END:DAYLIGHT
BEGIN:STANDARD
TZOFFSETFROM:-0700
TZOFFSETTO:-0800
TZNAME:PST
DTSTART:20251102T090000
END:STANDARD
BEGIN:DAYLIGHT
TZOFFSETFROM:-0800
TZOFFSETTO:-0700
TZNAME:PDT
DTSTART:20260308T100000
END:DAYLIGHT
BEGIN:STANDARD
TZOFFSETFROM:-0700
TZOFFSETTO:-0800
TZNAME:PST
DTSTART:20261101T090000
END:STANDARD
BEGIN:DAYLIGHT
TZOFFSETFROM:-0800
TZOFFSETTO:-0700
TZNAME:PDT
DTSTART:20270314T100000
END:DAYLIGHT
BEGIN:STANDARD
TZOFFSETFROM:-0700
TZOFFSETTO:-0800
TZNAME:PST
DTSTART:20271107T090000
END:STANDARD
END:VTIMEZONE
BEGIN:VEVENT
DTSTART;TZID=America/Los_Angeles:20260711T183000
DTEND;TZID=America/Los_Angeles:20260711T220000
DTSTAMP:20260424T172241
CREATED:20251227T050002Z
LAST-MODIFIED:20251227T050002Z
UID:17342-1783794600-1783807200@www.folkdance.com
SUMMARY:Peninsula Folk Dance Party
DESCRIPTION:Join the Peninsula Council Folk Dancers for an all-request dance party! Invite your friends for a short beginner dancer workshop at 6:30pm. \nWe’ll have dances for all levels\, beginning to advanced\, and all forms (line\, couple\, and set). Dress comfortably in layers; sneakers or low-heeled dance shoes recommended. Donations to help cover the cost of the hall are welcome. We do dances from nearly every country in the world\, and the music is incredible.  \nSend your dance requests to pfdcparty@gmail.com along with any questions\, comments\, or suggestions.  \nPlease stay home if you are sick\, and please wear a mask if you are unsure or have been exposed to someone with a contagious illness. Thank you for your thoughtfulness.
URL:https://www.folkdance.com/event/pfdc-jul26/
LOCATION:St. Bede’s Church Hall\, 2650 Sand Hill Road\, Menlo Park\, CA\, United States
CATEGORIES:Dance Party
ATTACH;FMTTYPE=image/jpeg:https://www.folkdance.com/wp-content/uploads/2025/12/fireworks-new-years-eve-1703824563oeo.jpg
ORGANIZER;CN="Peninsula Council":MAILTO:pfdcparty@gmail.com
END:VEVENT
BEGIN:VEVENT
DTSTART;VALUE=DATE:20260719
DTEND;VALUE=DATE:20260803
DTSTAMP:20260424T172241
CREATED:20260410T204134Z
LAST-MODIFIED:20260410T211214Z
UID:17727-1784419200-1785715199@www.folkdance.com
SUMMARY:Stockton Folk Dance Camp
DESCRIPTION:July 2026\, Stockton Folk Dance Camp’s 79th summer\, will feature \n\nBruce Hamilton & Marcie Van Cleave\, Denise Heeman 💖 English Country\nDaniel Sandu 💖 Romanian Inspired\nRoo Lester & Harry Khamis 💖 Scandinavian\nStacy Rose 💖 Contras\nMaurits Van Geel 💖 Roma and International\nTineke Van Geel 💖 Armenian\nEmily Saletan 💖 Singing\nThe Boston Quartet: Brian Wilson\, Tom Pixton\, Ralph Iverson\, and Sammy Wetstein\n\nNow held at the University of California\, Santa Cruz campus. Come dance with them all!\nOur Artists teach the same dances both weeks\, but the Assemblies\, Parties\, and Evening Dancing are different each week. \nStockton Folk Dance Camp 2026 will be held during the following weeks: \nWeek 1 – July 19 – 26\nWeek 2 – July 26 – Aug 2 \nFor more details Click Here \nRegister Now!
URL:https://www.folkdance.com/event/stockton-fdc-2026/
LOCATION:University of California\, Santa Cruz\, 1156 High St.\, Santa Cruz\, 95064\, United States
CATEGORIES:Dance Party,Live Music,Workshop
ATTACH;FMTTYPE=application/pdf:https://www.folkdance.com/wp-content/uploads/2026/04/PORTRAIT-FLYER-DRAFT-14A.pdf
END:VEVENT
END:VCALENDAR