BEGIN:VCALENDAR
VERSION:2.0
PRODID:-//Folk Dance Federation of California - ECPv6.15.20//NONSGML v1.0//EN
CALSCALE:GREGORIAN
METHOD:PUBLISH
X-WR-CALNAME:Folk Dance Federation of California
X-ORIGINAL-URL:https://www.folkdance.com
X-WR-CALDESC:Events for Folk Dance Federation of California
REFRESH-INTERVAL;VALUE=DURATION:PT1H
X-Robots-Tag:noindex
X-PUBLISHED-TTL:PT1H
BEGIN:VTIMEZONE
TZID:America/Los_Angeles
BEGIN:DAYLIGHT
TZOFFSETFROM:-0800
TZOFFSETTO:-0700
TZNAME:PDT
DTSTART:20210314T100000
END:DAYLIGHT
BEGIN:STANDARD
TZOFFSETFROM:-0700
TZOFFSETTO:-0800
TZNAME:PST
DTSTART:20211107T090000
END:STANDARD
BEGIN:DAYLIGHT
TZOFFSETFROM:-0800
TZOFFSETTO:-0700
TZNAME:PDT
DTSTART:20220313T100000
END:DAYLIGHT
BEGIN:STANDARD
TZOFFSETFROM:-0700
TZOFFSETTO:-0800
TZNAME:PST
DTSTART:20221106T090000
END:STANDARD
BEGIN:DAYLIGHT
TZOFFSETFROM:-0800
TZOFFSETTO:-0700
TZNAME:PDT
DTSTART:20230312T100000
END:DAYLIGHT
BEGIN:STANDARD
TZOFFSETFROM:-0700
TZOFFSETTO:-0800
TZNAME:PST
DTSTART:20231105T090000
END:STANDARD
END:VTIMEZONE
BEGIN:VEVENT
DTSTART;TZID=America/Los_Angeles:20220813T170000
DTEND;TZID=America/Los_Angeles:20220813T220000
DTSTAMP:20260423T143532
CREATED:20220531T183303Z
LAST-MODIFIED:20220809T161828Z
UID:12938-1660410000-1660428000@www.folkdance.com
SUMMARY:A Jaap Leegwater Evening
DESCRIPTION:Come join us for a Bulgarian dance workshop with Jaap Leegwater! Jaap has brought us many of our favorite dances\, including Karamfil\, Mari Mariko\, Rusi Kosi\, and many more.   An international folk dance party will follow after a short dinner break.   \n\n\nTime\nEvent\nDonation\n\n\n5:00-6:45pm\nDance Workshop with Jaap Leegwater\n$10\n\n\n6:45-7:15pm\nDinner break (we’ll order pizza\, bring a snack to share!)\n\n\n\n7:15-10:00pm\nInternational Folk Dance Party (first-timers free) with MCs Ken Kaye and Adony Beiares\n$10\n\n\nAs a reminder\, vaccinated dancers only. If you’ve been to our parties in the past\, we’ve marked you as vaccinated. If this is your first party\, please bring proof of vaccination. N95 or KN95 masks highly recommended. \nSend dance requests to pfdcparty@gmail.com \nJaap Leegwater Jaap Leegwater started his dance career in his native country\, The Netherlands\, where he earned degrees in both education and international folk dance. Fascinated with the irregular Balkan rhyhms and drawn to the expressiveness of its movements\, Jaap specialized in Bulgarian dance and choreography. In 1969\, he was one of the first non-Bulgarians invited to study at the State Choreographer’s Schools in Sofia and Plovdiv\, Bulgaria. Mr. Leegwater was first introduced to the American folkdance scene by the late Ciga Despotovic in 1980. He gratefully recognizes the support and inspiration received from Marianne and Michael Herman\, Dennis Boxell and Yves Moreau in establishing himself in Northern America professionally. \nFor the past 30 years Mr. Leegwater has conducted workshops and dance seminars in various countries: The Netherlands\, Germany\, Switzerland\, Sweden\, Israël\, England\, United States\, Canada\, Japan\, Taiwan\, and Hong Kong. He is a regular instructor at many major dance camps and organizations including Maine Folk Dance Camp\, Stockton Folk Dance Camp at the University of the Pacific\, Mendocino Folklore Camp\, the EEFC Balkan Music and Dance Camp\, Kolo Festival\, in San Francisco\, Texas Folk Dance Camp\, New Mexico August folk dance Camp\, Santa Barbara Folk Dance Symposium\, Montreal International Folk Dance Camp\, Ontario Folk Dance Camp and the Bulgarian Festivals in Vancouver\, B.C. \nDances range from beginning to advanced\, and all forms (line\, couple\, and set). If you’d like to bring a snack to share\, please make sure they are prepared for individual servings.
URL:https://www.folkdance.com/event/pfdc-aug22/
LOCATION:St. Bede’s Church Hall\, 2650 Sand Hill Road\, Menlo Park\, CA\, United States
CATEGORIES:Dance Party,Potluck,Workshop
ATTACH;FMTTYPE=application/pdf:https://www.folkdance.com/wp-content/uploads/2022/05/PFDC-Party-Aug-2022-with-Jaap-Leegwater.pdf
ORGANIZER;CN="Peninsula Council":MAILTO:pfdcparty@gmail.com
END:VEVENT
END:VCALENDAR