BEGIN:VCALENDAR
VERSION:2.0
PRODID:-//Folk Dance Federation of California - ECPv6.15.20//NONSGML v1.0//EN
CALSCALE:GREGORIAN
METHOD:PUBLISH
X-WR-CALNAME:Folk Dance Federation of California
X-ORIGINAL-URL:https://www.folkdance.com
X-WR-CALDESC:Events for Folk Dance Federation of California
REFRESH-INTERVAL;VALUE=DURATION:PT1H
X-Robots-Tag:noindex
X-PUBLISHED-TTL:PT1H
BEGIN:VTIMEZONE
TZID:America/Los_Angeles
BEGIN:DAYLIGHT
TZOFFSETFROM:-0800
TZOFFSETTO:-0700
TZNAME:PDT
DTSTART:20210314T100000
END:DAYLIGHT
BEGIN:STANDARD
TZOFFSETFROM:-0700
TZOFFSETTO:-0800
TZNAME:PST
DTSTART:20211107T090000
END:STANDARD
BEGIN:DAYLIGHT
TZOFFSETFROM:-0800
TZOFFSETTO:-0700
TZNAME:PDT
DTSTART:20220313T100000
END:DAYLIGHT
BEGIN:STANDARD
TZOFFSETFROM:-0700
TZOFFSETTO:-0800
TZNAME:PST
DTSTART:20221106T090000
END:STANDARD
BEGIN:DAYLIGHT
TZOFFSETFROM:-0800
TZOFFSETTO:-0700
TZNAME:PDT
DTSTART:20230312T100000
END:DAYLIGHT
BEGIN:STANDARD
TZOFFSETFROM:-0700
TZOFFSETTO:-0800
TZNAME:PST
DTSTART:20231105T090000
END:STANDARD
END:VTIMEZONE
BEGIN:VEVENT
DTSTART;VALUE=DATE:20220611
DTEND;VALUE=DATE:20220614
DTSTAMP:20260419T175106
CREATED:20220322T141940Z
LAST-MODIFIED:20220506T162002Z
UID:12737-1654905600-1655164799@www.folkdance.com
SUMMARY:Scandia Camp 2022
DESCRIPTION:Free virtual camp via Zoom \nThe Scandia Camp Mendocino 2022 program will feature dance\, music\, and more from Norway and Sweden\, presented by instructors from those countries and the United States including: \n    Dance Classes \n\nPolsdans fra Finnskogen a popular dance found on both sides of the border between Norway and Sweden (about Finnskogen)\nDances from Hälsingland and Dalarna\, areas of Sweden with various dance traditions (about Hälsingland) (about Dalarna)\nGammeldans a collection of what we call old time dances from Norway (What is gammeldans?)\nScandinavian dance fundamentals\, including Hambo and waltz\n\n    Music Classes \n\nNorwegian Fiddle\, featuring tunes to accompany dance traditions being taught\nSwedish Fiddle\, featuring some of the teacher’s favorite tunes.\nBeginning Scandinavian Fiddle\nHardanger Fiddle\, a uniquely Norwegian fiddle with understrings (more information)\nNyckelharpa (a keyed fiddle)\, the national folk instrument of Sweden (more information)\nGroup Playing (allspel/samspel) all instruments welcome – Learn the most common/popular tunes for dances and play along at the parties.\nCow Horn\, a wind instrument made from a cow horn\nSinging\, with emphasis on songs from Foldal\n\n    Additional Activities \n\nWelcome Session\nCrafts\nCulture Sessions\nChat Rooms and Scandinavian Videos\nDance Parties\nJam Sessions\n\nThe mission of Scandia Camp Mendocino is to provide culturally unique enriching opportunities to learn about and actively experience the dance\, music and cultural traditions of Scandinavia (primarily Norway and Sweden) in a welcoming community.  \nSchedule\, list of instructors\, and more at http://scandiacamp.org \nRegister
URL:https://www.folkdance.com/event/scandia-camp-2022/
LOCATION:Online\, CA\, United States
CATEGORIES:Camp,Dance Party,Live Music,Online,Workshop
ATTACH;FMTTYPE=image/jpeg:https://www.folkdance.com/wp-content/uploads/2022/03/2022_Scandia_Mendo.jpg
ORGANIZER;CN="Scandia Camp Mendocino":MAILTO:Directors@ScandiaCamp.org
END:VEVENT
END:VCALENDAR