BEGIN:VCALENDAR
VERSION:2.0
PRODID:-//Folk Dance Federation of California - ECPv6.15.20//NONSGML v1.0//EN
CALSCALE:GREGORIAN
METHOD:PUBLISH
X-ORIGINAL-URL:https://www.folkdance.com
X-WR-CALDESC:Events for Folk Dance Federation of California
REFRESH-INTERVAL;VALUE=DURATION:PT1H
X-Robots-Tag:noindex
X-PUBLISHED-TTL:PT1H
BEGIN:VTIMEZONE
TZID:America/Los_Angeles
BEGIN:DAYLIGHT
TZOFFSETFROM:-0800
TZOFFSETTO:-0700
TZNAME:PDT
DTSTART:20210314T100000
END:DAYLIGHT
BEGIN:STANDARD
TZOFFSETFROM:-0700
TZOFFSETTO:-0800
TZNAME:PST
DTSTART:20211107T090000
END:STANDARD
BEGIN:DAYLIGHT
TZOFFSETFROM:-0800
TZOFFSETTO:-0700
TZNAME:PDT
DTSTART:20220313T100000
END:DAYLIGHT
BEGIN:STANDARD
TZOFFSETFROM:-0700
TZOFFSETTO:-0800
TZNAME:PST
DTSTART:20221106T090000
END:STANDARD
BEGIN:DAYLIGHT
TZOFFSETFROM:-0800
TZOFFSETTO:-0700
TZNAME:PDT
DTSTART:20230312T100000
END:DAYLIGHT
BEGIN:STANDARD
TZOFFSETFROM:-0700
TZOFFSETTO:-0800
TZNAME:PST
DTSTART:20231105T090000
END:STANDARD
END:VTIMEZONE
BEGIN:VEVENT
DTSTART;TZID=America/Los_Angeles:20220212T193000
DTEND;TZID=America/Los_Angeles:20220212T230000
DTSTAMP:20260423T005738
CREATED:20220212T002543Z
LAST-MODIFIED:20220212T002802Z
UID:12539-1644694200-1644706800@www.folkdance.com
SUMMARY:Cafe Shalom Dance Party
DESCRIPTION:Israeli folk dancers from all over the Bay Area dance the night away at Café Shalom’s Saturday party—a monthly tradition since the 1960s! We play a wonderful mix of oldies and the latest dances based on requests. Dancers of all ages are invited to join the fun on the second Saturday of every month.  \nIt has now been 24 months since our last face to face session\, away from the church and the dance floor. We choose to celebrate that milestone instead of getting upset about it! \nMeeting ID: 852 7648 7029\nPasscode: Dance4fun \nJoin Online \nOne tap mobile\n+13017158592\,\,85276487029#\,\,\,\,*742794498# US (Washington DC)\n+13126266799\,\,85276487029#\,\,\,\,*742794498# US (Chicago) \nTake care of yourselves\, your loved ones and stay healthy! \nLooking forward to dancing together.
URL:https://www.folkdance.com/event/cafe-shalom-feb-2022/
LOCATION:Online\, CA\, United States
CATEGORIES:Dance Party,Online,Workshop
ATTACH;FMTTYPE=image/jpeg:https://www.folkdance.com/wp-content/uploads/2020/02/about_dance.jpg
ORGANIZER;CN="Cafe Shalom":MAILTO:udy@yahoo.com
END:VEVENT
END:VCALENDAR