BEGIN:VCALENDAR
VERSION:2.0
PRODID:-//Folk Dance Federation of California - ECPv6.15.20//NONSGML v1.0//EN
CALSCALE:GREGORIAN
METHOD:PUBLISH
X-WR-CALNAME:Folk Dance Federation of California
X-ORIGINAL-URL:https://www.folkdance.com
X-WR-CALDESC:Events for Folk Dance Federation of California
REFRESH-INTERVAL;VALUE=DURATION:PT1H
X-Robots-Tag:noindex
X-PUBLISHED-TTL:PT1H
BEGIN:VTIMEZONE
TZID:America/Los_Angeles
BEGIN:DAYLIGHT
TZOFFSETFROM:-0800
TZOFFSETTO:-0700
TZNAME:PDT
DTSTART:20230312T100000
END:DAYLIGHT
BEGIN:STANDARD
TZOFFSETFROM:-0700
TZOFFSETTO:-0800
TZNAME:PST
DTSTART:20231105T090000
END:STANDARD
BEGIN:DAYLIGHT
TZOFFSETFROM:-0800
TZOFFSETTO:-0700
TZNAME:PDT
DTSTART:20240310T100000
END:DAYLIGHT
BEGIN:STANDARD
TZOFFSETFROM:-0700
TZOFFSETTO:-0800
TZNAME:PST
DTSTART:20241103T090000
END:STANDARD
BEGIN:DAYLIGHT
TZOFFSETFROM:-0800
TZOFFSETTO:-0700
TZNAME:PDT
DTSTART:20250309T100000
END:DAYLIGHT
BEGIN:STANDARD
TZOFFSETFROM:-0700
TZOFFSETTO:-0800
TZNAME:PST
DTSTART:20251102T090000
END:STANDARD
END:VTIMEZONE
BEGIN:VTIMEZONE
TZID:America/New_York
BEGIN:DAYLIGHT
TZOFFSETFROM:-0500
TZOFFSETTO:-0400
TZNAME:EDT
DTSTART:20230312T070000
END:DAYLIGHT
BEGIN:STANDARD
TZOFFSETFROM:-0400
TZOFFSETTO:-0500
TZNAME:EST
DTSTART:20231105T060000
END:STANDARD
BEGIN:DAYLIGHT
TZOFFSETFROM:-0500
TZOFFSETTO:-0400
TZNAME:EDT
DTSTART:20240310T070000
END:DAYLIGHT
BEGIN:STANDARD
TZOFFSETFROM:-0400
TZOFFSETTO:-0500
TZNAME:EST
DTSTART:20241103T060000
END:STANDARD
BEGIN:DAYLIGHT
TZOFFSETFROM:-0500
TZOFFSETTO:-0400
TZNAME:EDT
DTSTART:20250309T070000
END:DAYLIGHT
BEGIN:STANDARD
TZOFFSETFROM:-0400
TZOFFSETTO:-0500
TZNAME:EST
DTSTART:20251102T060000
END:STANDARD
END:VTIMEZONE
BEGIN:VEVENT
DTSTART;VALUE=DATE:20240721
DTEND;VALUE=DATE:20240804
DTSTAMP:20260422T135722
CREATED:20240306T094808Z
LAST-MODIFIED:20250309T135336Z
UID:15186-1721520000-1722729599@www.folkdance.com
SUMMARY:Stockton Folk Dance Camp
DESCRIPTION:July 2024\, Stockton Folk Dance Camp’s 77th summer\, will feature \n\nAaron Alpert 💖 Dances of Israel\nŽeljko Jergan 💖 Dances of Croatia\nAhmet Lüleci 💖 Dances of Turkey\nRobert McOwen 💖 Dances of Scotland\nLiina Teose 💖 Dances of Estonia\nKau’i Tuia 💖 Dances of Polynesia\nBand: Tom Pixton\, Ralph Iverson\, and Brian Wilson\n\nCome dance with them all\, with more artists to be announced!\nOur Artists teach the same dances both weeks\, but the Assemblies\, Parties\, and Evening Dancing are different each week. \nStockton Folk Dance Camp 2024 will be held during the following weeks: \nWeek 1 – July 21 – 27\nWeek 2 – July 28 – Aug 3 \nFor more details Click Here \nRegister
URL:https://www.folkdance.com/event/stockton-summer-2024/
LOCATION:University of the Pacific\, 3601 Pacific Ave\, Stockton\, CA\, 95211\, United States
CATEGORIES:Dance Party,Live Music,Workshop
ATTACH;FMTTYPE=image/jpeg:https://www.folkdance.com/wp-content/uploads/2024/03/Add2-scaled.jpg
END:VEVENT
BEGIN:VEVENT
DTSTART;VALUE=DATE:20240809
DTEND;VALUE=DATE:20240812
DTSTAMP:20260422T135722
CREATED:20240606T081352Z
LAST-MODIFIED:20240606T081352Z
UID:15430-1723161600-1723420799@www.folkdance.com
SUMMARY:John Filcich Folk Dance Festival
DESCRIPTION:A CELEBRATION OF OLD TIME KOLOS AND CLASSIC FOLK DANCES\nIn Honor of John Filcich’s 100th Birthday \nWe will kick off with a potluck & live music Friday night. Saturday will include dance and singing classes\, a delicious catered dinner\, more live music\, and dancing into the night. Sunday morning we’ll gather for a brunch and sing-a-long.  \n\nLive Music with Chubritza!\nLive music from Balkan Music Meet-Up!\nLive music\, singing classes\, and dance classes with John Morovich!\nDancing\, storytelling\, and merriment with John Filcich!\nOld time folk dance favorites dance class with Billy Burke!\nClassic kolos dance class with Jeff O’Connor.\n\nFull details at https://www.filcichfestival.com \nRegister
URL:https://www.folkdance.com/event/filcich-festival/
LOCATION:Arcata Veterans Memorial Building\, 1425 J Street\, Arcada\, CA\, United States
CATEGORIES:Dance Party,Festival,Workshop
END:VEVENT
BEGIN:VEVENT
DTSTART;TZID=America/Los_Angeles:20240817T150000
DTEND;TZID=America/Los_Angeles:20240817T183000
DTSTAMP:20260422T135722
CREATED:20240804T225319Z
LAST-MODIFIED:20240804T225401Z
UID:15520-1723906800-1723919400@www.folkdance.com
SUMMARY:Global Folk Dance Party
DESCRIPTION:Please join us on Saturday August 17 as we celebrate the dances of Tom Bozigian.  We’ll have our usual team of dance leaders and this month we’re also joined by guest leaders Tom Bozigian (of course!) and also Sheree King and Sherry Cochran.  Have any ideas? Send them along to us! Email your dance requests or questions in advance to virtualfolkdance@gmail.com. \nPlease come at 2:30pm for fun pre-show videos or music. \nConnect Globally\, Dance Locally. Follow folk dance leaders and dance watching enthusiasts worldwide. \nJoin The Party\nBy Zoom\nRegister by Zoom\nWe’ve changed Zoom numbers. Here’s what you need to do.  Use the registration link above and you’ll get an email from Zoom with your link for the Global Folk Dance Party. Feel free to share the above registration link with your friends\, they’ll get their own link to join. With the new registration\, you’ll get a reminder email the morning of the Global Folk Dance Party\, so you don’t have to look for your link. \n\nIMPORTANT – Do not use both computer and phone; you will generate feedback.\nZoom will best be viewed using side by side mode. See https://bit.ly/39dximU for info.\nWhen in the meeting\, click the ‘chat’ button to chat with everybody and make requests.\nWhen you sign into Zoom\, enter your name and city so we know where you’re from!\n\nBy Facebook Live\nJoin by Facebook Live \nif Zoom is full or you just want to watch.\nhttps://www.facebook.com/PFDCouncil/ \nFor more details or to send requests e-mail us at virtualfolkdance@gmail.com. Alicia La Fetra\, Lisa Michael\, and Stacy Rose will be happy to help.
URL:https://www.folkdance.com/event/gfd-aug24/
LOCATION:Online\, CA\, United States
CATEGORIES:Dance Party,Online,Workshop
ATTACH;FMTTYPE=image/png:https://www.folkdance.com/wp-content/uploads/2024/08/3ec83e94-daea-adb9-caf7-25b7fc7f9c9b.png
ORGANIZER;CN="Global Folk Dance Parties":MAILTO:virtualfolkdance@gmail.com
END:VEVENT
BEGIN:VEVENT
DTSTART;VALUE=DATE:20240818
DTEND;VALUE=DATE:20240901
DTSTAMP:20260422T135723
CREATED:20240308T032021Z
LAST-MODIFIED:20250322T045832Z
UID:15198-1723939200-1725148799@www.folkdance.com
SUMMARY:Mainewoods Dance Camp
DESCRIPTION:Two separate weeks of folk dance workshops\, music classes\, and evening dance parties. Campers who enjoy singing or playing an instrument can join in music classes. Each evening the professional camp musicians play a live music set. Each day features a different ethnic theme. \n2024 Schedule\nSESSION 1: August 18 – August 24 \n\nPenny Brichta – Israeli\nGergana Panova – Bulgarian\nTom Roby – English\nInternational Folk Musicians – The Pixton-Poirier Band\n\nSESSION 2: August 25 – August 31 \n\nRoo Lester – Scandinavian\, Basque\, and Beyond\nMaurits van Geel – Roma and International\nTineke van Geel – Armenian and International\nInternational Folk Musicians – John Matulis and Dottie Yacek-Matulis\n\nMore details… \nRegister
URL:https://www.folkdance.com/event/mainewoods-2024/
LOCATION:Camp Indian Acres\, 1712 Main St\,\, Fryeburg\, ME\, 04037\, United States
CATEGORIES:Camp,Workshop
ATTACH;FMTTYPE=image/jpeg:https://www.folkdance.com/wp-content/uploads/2024/03/Dance-party-2015.jpg
ORGANIZER;CN="Mainewoods Dance Camp":MAILTO:info@mainewoodsdancecamp.org
END:VEVENT
END:VCALENDAR