BEGIN:VCALENDAR
VERSION:2.0
PRODID:-//Folk Dance Federation of California - ECPv6.15.20//NONSGML v1.0//EN
CALSCALE:GREGORIAN
METHOD:PUBLISH
X-ORIGINAL-URL:https://www.folkdance.com
X-WR-CALDESC:Events for Folk Dance Federation of California
REFRESH-INTERVAL;VALUE=DURATION:PT1H
X-Robots-Tag:noindex
X-PUBLISHED-TTL:PT1H
BEGIN:VTIMEZONE
TZID:America/Los_Angeles
BEGIN:DAYLIGHT
TZOFFSETFROM:-0800
TZOFFSETTO:-0700
TZNAME:PDT
DTSTART:20210314T100000
END:DAYLIGHT
BEGIN:STANDARD
TZOFFSETFROM:-0700
TZOFFSETTO:-0800
TZNAME:PST
DTSTART:20211107T090000
END:STANDARD
BEGIN:DAYLIGHT
TZOFFSETFROM:-0800
TZOFFSETTO:-0700
TZNAME:PDT
DTSTART:20220313T100000
END:DAYLIGHT
BEGIN:STANDARD
TZOFFSETFROM:-0700
TZOFFSETTO:-0800
TZNAME:PST
DTSTART:20221106T090000
END:STANDARD
BEGIN:DAYLIGHT
TZOFFSETFROM:-0800
TZOFFSETTO:-0700
TZNAME:PDT
DTSTART:20230312T100000
END:DAYLIGHT
BEGIN:STANDARD
TZOFFSETFROM:-0700
TZOFFSETTO:-0800
TZNAME:PST
DTSTART:20231105T090000
END:STANDARD
END:VTIMEZONE
BEGIN:VEVENT
DTSTART;TZID=America/Los_Angeles:20221112T193000
DTEND;TZID=America/Los_Angeles:20221112T233000
DTSTAMP:20260422T134236
CREATED:20220815T065940Z
LAST-MODIFIED:20220815T065940Z
UID:13154-1668281400-1668295800@www.folkdance.com
SUMMARY:Cafe Shalom Dance Party
DESCRIPTION:Israeli folk dancers from all over the Bay Area dance the night away at Café Shalom’s Saturday party—a monthly tradition since the 1960s! We play a wonderful mix of oldies and the latest dances based on requests. Dancers of all ages are invited to join the fun on the second Saturday of every month.  \nSaturday classes are large parties with many dancers from all ages and spectrum. We dance dances from 1918 and from 2018 back to back. \nThe first part of the evening – 30-45 minutes starts with slow and beginners dances\, oldies\, and dances which we learn in Tuesday class. Later we increase the intensity\, up the beat and the pace and the evening is fully charged with great energy and fun. \n7:30 pm – Warm-up\, beginner’s\, oldies dances\, and recently taught dances\n8:00 pm – Our party perks up… with circle\, and couple dances\n9:15 pm – Birthday celebrations\, announcements\, followed by a line dance set\n9:30 – 11:30 pm – We’ll dance ‘til then or ‘til we drop – whatever comes first! \nAdmission is $10 for adults\, $5 for students. \nInfo:  Text 669.444.1284\nCafe Shalom\, more details…
URL:https://www.folkdance.com/event/cafe-shalom-nov-22/
LOCATION:Congregation Am Tikvah\, 625 Brotherhood Way\, San Francisco\, CA\, United States
CATEGORIES:Dance Party,Workshop
ATTACH;FMTTYPE=image/jpeg:https://www.folkdance.com/wp-content/uploads/2022/08/Cafe-Shalom-ReOpening-May-2022-23-small.jpg
ORGANIZER;CN="Cafe Shalom":MAILTO:udy@yahoo.com
END:VEVENT
BEGIN:VEVENT
DTSTART;TZID=America/Los_Angeles:20221119T150000
DTEND;TZID=America/Los_Angeles:20221119T183000
DTSTAMP:20260422T134236
CREATED:20220821T155944Z
LAST-MODIFIED:20221103T060912Z
UID:13193-1668870000-1668882600@www.folkdance.com
SUMMARY:Global Folk Dance Party
DESCRIPTION:This month the Global Folk Dance Party features the dances of Dennis Boxell\, Dick Crum\, and Anatol Joukowsky.   \nJoin our normal team\, as well as Franklin Houston\, Mady Newfield\, and Sherry Cochran\, as we feature dances from these master teachers. Also\, as a special bonus\, Yves Moreau is recording intros about each of these magnificent teachers that we’ll play throughout the party. \nThe party playlist may be found at https://bit.ly/vfdlist . \nAfter us\, the party continues with Paul Collins and Friends.  That link will be posted during our party. \nNext month’s Global Party will be Saturday\, December 17\, 2022 and every third Saturday after that. \nJoin The Party\nBy Zoom\nRegister by Zoom\nWe’ve changed Zoom numbers. Here’s what you need to do.  Use the registration link above and you’ll get an email from Zoom with your link for the Global Folk Dance Party. Feel free to share the above registration link with your friends\, they’ll get their own link to join. With the new registration\, you’ll get a reminder email the morning of the Global Folk Dance Party\, so you don’t have to look for your link. \n\nIMPORTANT – Do not use both computer and phone; you will generate feedback.\nZoom will best be viewed using side by side mode. See https://bit.ly/39dximU for info.\nWhen in the meeting\, click the ‘chat’ button to chat with everybody and make requests.\nWhen you sign into Zoom\, enter your name and city so we know where you’re from!\n\nBy Facebook Live\nJoin by Facebook Live \nif Zoom is full or you just want to watch.\nhttps://www.facebook.com/PFDCouncil/ \nFor more details\, ideas\, and requests e-mail us at virtualfolkdance@gmail.com.
URL:https://www.folkdance.com/event/gfd-nov-22/
LOCATION:Online\, CA\, United States
CATEGORIES:Dance Party,Online,Workshop
ATTACH;FMTTYPE=application/pdf:https://www.folkdance.com/wp-content/uploads/2022/08/GFDParty-November-19-2022.pdf
ORGANIZER;CN="Global Folk Dance Parties":MAILTO:virtualfolkdance@gmail.com
END:VEVENT
BEGIN:VEVENT
DTSTART;VALUE=DATE:20221124
DTEND;VALUE=DATE:20221128
DTSTAMP:20260422T134236
CREATED:20220915T162434Z
LAST-MODIFIED:20241019T024146Z
UID:13341-1669248000-1669593599@www.folkdance.com
SUMMARY:Texas Camp - Kolo Festival 2022
DESCRIPTION:On-site in California & Texas with globally inclusive Zoom sessions\nThanksgiving Weekend\, November 24-27\, 2022 \n \nAs always\, there will be live music from: Albania\, America\, Armenia\, Bulgaria\, Croatia\, Greece\, Hungary\, Israel\, Macedonia\, Norway\, Romani\, Romania\, Serbia\, South Africa\, Sweden and Turkey! Jam session charts available all year round! Bulgarian/Macedonian Jam & Sing-along — for all instruments! \nOn Site Registration\nKolo Festival\n \n2022 will be the 71st annual Kolo Festival!  For the health and safety of attendees\, the number of on-site participants will be limited. Register early to reserve your spot! Covid safety protocols.  \nDance Instructors\n\nSonia Dion & Cristian Florescu – Romanian Dances\nMichael Ginsburg – Bulgarian-Macedonian Dances\n\nMore details on instructors… \nKolo Festival On Site Registration \nFor details visit http://kolofestival.org \nDo you love Kolo Festival and wish to see it survive and flourish? We need your help to continue to produce this stellar music and dance program. Whether or not you can attend this year\, please consider making a monetary gift. \nThis year your donation will have twice the impact. An anonymous donor has generously offered to match all donations\, up to a total of $10\,000\, made directly to Kolo Festival. This offer expires November 30th.  \nThank you for your consideration!\nThe California Kolo Festival Board \n\nof \nTexas Camp\nTexas Camp is held at Greene Family Camp\, 1192 Smith Lane in Bruceville\, Texas\, just south of Waco. The closest major airports are in Austin (AUS) and Dallas (DFW). Proof of vaccination must be submitted prior to camp. Covid safety protocols.   \nDance Instructors\n\nAhmet Lüleci – Turkish Dances\nRoo Lester & Larry Harding – Swedish Dances\n\nand special guests Yves Moreau and France Bourque Moreau.  Bruce Sagan as guest musician. \nTexas Camp On Site Registration \nFor details visit https://tifd.org/2022-about-texas-camp/
URL:https://www.folkdance.com/event/texa-kolo-2022/
LOCATION:Croatian Cultural Center\, 60 Onondaga Ave.\, San Francisco\, CA\, 94708\, United States
CATEGORIES:Dance Party,Festival,Online,Workshop
ATTACH;FMTTYPE=image/jpeg:https://www.folkdance.com/wp-content/uploads/2022/09/TEXA-KOLO-2022-September-scaled.jpg
ORGANIZER;CN="Kolo Festival":MAILTO:info@kolofestival.org
END:VEVENT
END:VCALENDAR