BEGIN:VCALENDAR
VERSION:2.0
PRODID:-//Folk Dance Federation of California - ECPv6.15.20//NONSGML v1.0//EN
CALSCALE:GREGORIAN
METHOD:PUBLISH
X-WR-CALNAME:Folk Dance Federation of California
X-ORIGINAL-URL:https://www.folkdance.com
X-WR-CALDESC:Events for Folk Dance Federation of California
REFRESH-INTERVAL;VALUE=DURATION:PT1H
X-Robots-Tag:noindex
X-PUBLISHED-TTL:PT1H
BEGIN:VTIMEZONE
TZID:America/Los_Angeles
BEGIN:DAYLIGHT
TZOFFSETFROM:-0800
TZOFFSETTO:-0700
TZNAME:PDT
DTSTART:20250309T100000
END:DAYLIGHT
BEGIN:STANDARD
TZOFFSETFROM:-0700
TZOFFSETTO:-0800
TZNAME:PST
DTSTART:20251102T090000
END:STANDARD
BEGIN:DAYLIGHT
TZOFFSETFROM:-0800
TZOFFSETTO:-0700
TZNAME:PDT
DTSTART:20260308T100000
END:DAYLIGHT
BEGIN:STANDARD
TZOFFSETFROM:-0700
TZOFFSETTO:-0800
TZNAME:PST
DTSTART:20261101T090000
END:STANDARD
BEGIN:DAYLIGHT
TZOFFSETFROM:-0800
TZOFFSETTO:-0700
TZNAME:PDT
DTSTART:20270314T100000
END:DAYLIGHT
BEGIN:STANDARD
TZOFFSETFROM:-0700
TZOFFSETTO:-0800
TZNAME:PST
DTSTART:20271107T090000
END:STANDARD
END:VTIMEZONE
BEGIN:VEVENT
DTSTART;TZID=America/Los_Angeles:20260328T190000
DTEND;TZID=America/Los_Angeles:20260328T213000
DTSTAMP:20260422T174239
CREATED:20260303T163553Z
LAST-MODIFIED:20260328T143916Z
UID:17562-1774724400-1774733400@www.folkdance.com
SUMMARY:Live Music with Ezgija
DESCRIPTION:Live music dance party with the Ezgija band at the Live Oak Grange! Doors open at 7 pm; Ezgija plays 7:30-9:30. $15 sliding scale. \nSponsored by the Cabrillo Folk Dancers. \nEzgija\nEZGIJA is a Santa Cruz based band specializing in dance tunes from the Balkans\, Turkey\, and surrounding regions.
URL:https://www.folkdance.com/event/ezjia-party-26/
LOCATION:Live Oak Grange\, 1900 17th Ave\, Santa Cruz\, CA\, 95062\, United States
CATEGORIES:Dance Party,Live Music,Potluck
ATTACH;FMTTYPE=image/jpeg:https://www.folkdance.com/wp-content/uploads/2026/03/ezgija-facebook.jpg
ORGANIZER;CN="Cabrillo Folk Dancers":MAILTO:cabrillofolk@sbcglobal.net
END:VEVENT
END:VCALENDAR