BEGIN:VCALENDAR
VERSION:2.0
PRODID:-//Folk Dance Federation of California - ECPv6.15.20//NONSGML v1.0//EN
CALSCALE:GREGORIAN
METHOD:PUBLISH
X-WR-CALNAME:Folk Dance Federation of California
X-ORIGINAL-URL:https://www.folkdance.com
X-WR-CALDESC:Events for Folk Dance Federation of California
REFRESH-INTERVAL;VALUE=DURATION:PT1H
X-Robots-Tag:noindex
X-PUBLISHED-TTL:PT1H
BEGIN:VTIMEZONE
TZID:America/Los_Angeles
BEGIN:DAYLIGHT
TZOFFSETFROM:-0800
TZOFFSETTO:-0700
TZNAME:PDT
DTSTART:20220313T100000
END:DAYLIGHT
BEGIN:STANDARD
TZOFFSETFROM:-0700
TZOFFSETTO:-0800
TZNAME:PST
DTSTART:20221106T090000
END:STANDARD
BEGIN:DAYLIGHT
TZOFFSETFROM:-0800
TZOFFSETTO:-0700
TZNAME:PDT
DTSTART:20230312T100000
END:DAYLIGHT
BEGIN:STANDARD
TZOFFSETFROM:-0700
TZOFFSETTO:-0800
TZNAME:PST
DTSTART:20231105T090000
END:STANDARD
BEGIN:DAYLIGHT
TZOFFSETFROM:-0800
TZOFFSETTO:-0700
TZNAME:PDT
DTSTART:20240310T100000
END:DAYLIGHT
BEGIN:STANDARD
TZOFFSETFROM:-0700
TZOFFSETTO:-0800
TZNAME:PST
DTSTART:20241103T090000
END:STANDARD
END:VTIMEZONE
BEGIN:VEVENT
DTSTART;TZID=America/Los_Angeles:20231008T153000
DTEND;TZID=America/Los_Angeles:20231008T203000
DTSTAMP:20260423T024001
CREATED:20230113T194933Z
LAST-MODIFIED:20230904T170158Z
UID:13727-1696779000-1696797000@www.folkdance.com
SUMMARY:Basque Workshop and Dance Party
DESCRIPTION:Join the Peninsula Council Folk Dancers for an afternoon Basque dance workshop\, then socialize with dinner and evening dance party.  \nSchedule\n\n\nPrice\nTime (pm)\nEvent\n\n\n$10\n3:30-5030\nBasque Dance Workshop with Roo Lester\n\n\n\n5:00-5:45\nDinner break – Please bring your own dinner.\n\n\n$10\n5:45-8:30\nInternational Folk Dance Party. Bring snacks to share. Wear a red beret or sash if you have one! (Basque colors are red\, white and green). \n\n\nDoors open at 3:15.  Please bring your own dinner and snacks to share for the party.   We’ll provide punch and Basque tapas.\nWear a red beret or sash if you have one! (Basque colors are red\, white and green).  \nMasks are recommended\, but not required. Up to date vaccinations are required. If you’ve already shown us your vaccine info\, no need to do it again. If not\, you can email it to us at pfdcparty@gmail.com or bring it with you. \nWe’ll have dances for all levels\, beginning to advanced\, and all forms (line\, couple\, and set). Dress comfortably in layers; sneakers or low-heeled dance shoes recommended. Donations to help cover the cost of the hall are welcome. We do dances from nearly every country in the world\, and the music is incredible.  \nSend your dance requests to pfdcparty@gmail.com along with any questions\, comments\, or suggestions.  \n \nRoo Lester\nRoo was the last Master Teacher to visit the Bay Area before the COVID lockdown: she taught Basque dances and the Hambo at Saratoga on Thursday March 12\, 2020\, just one week before California issued a statewide “stay at home” order. She had been scheduled to teach at the Heritage Festival that weekend. Roo grew up in southern California. She has been dancing since elementary school and has a Masters degree in Dance from UCLA. She was a member of Westwind\, AMAN and has choreographed for many ensembles. She currently lives in the Chicago area and has\, during COVID\, adapted the Hambo for small\, carpeted areas.
URL:https://www.folkdance.com/event/pfdc-oct23/
LOCATION:St. Bede’s Church Hall\, 2650 Sand Hill Road\, Menlo Park\, CA\, United States
CATEGORIES:Dance Party,Potluck,Workshop
ATTACH;FMTTYPE=image/jpeg:https://www.folkdance.com/wp-content/uploads/2023/01/19536594706_01dd66991b_k.jpg
ORGANIZER;CN="Peninsula Council":MAILTO:pfdcparty@gmail.com
END:VEVENT
BEGIN:VEVENT
DTSTART;TZID=America/Los_Angeles:20231021T130000
DTEND;TZID=America/Los_Angeles:20231021T220000
DTSTAMP:20260423T024001
CREATED:20230713T015632Z
LAST-MODIFIED:20230926T180821Z
UID:14413-1697893200-1697925600@www.folkdance.com
SUMMARY:Officers Ball 2023
DESCRIPTION:The Folk Dance Federation’s annual festival of folk dance with workshops\, on-site dinner\, dance party\, and special attractions returns!  This year’s theme is “HARVEST HOEDOWN” so it’s time to find your favorite calico dress\, plaid shirt and jeans\, neck kerchief\, and boots (no spurs\, please)! Yeehaw!  \nSchedule\n\n\nPrice\nTime (pm)\nEvent\n\n\n\n1:00\nDoors open\n\n\n$25\n1:30-5:30\nDance workshops\n\n\n$20\n5:30-7:00\nOn-site dinner with the always popular sing-along with Bill Cope (for those registered by October 17)\n\n\n$25\n7:00-10:00\nEvening celebration\, dances from the workshop and your requests.\n\n\n \nWorkshop\nThe afternoon workshop will again feature new and classic folk dances taught by local teachers including  \n\nDenise Heenan – Pinewoods Two-Step (Scottish country dance for pairs of couples)\nLothar Narins – Levi Jackson Rose (circle of 5 couples)\nMarian Snyder –  Watermelon Crawl and Cowboy Hustle (CW line dances)\nLoui Tucker – All-Promenade Mixer (pairs of couples)\nCraig Kurumada – Bon Odori no Uta and Matsumoto Bon Bon and Ichi Tasu no Ondo (Japanese)\nAlan Rothchild –  Tzanah (Israeli)\nand maybe one more!\n\nThe Annual 50/50 Drawing is also a popular event: buy tickets for $1 each and\, if your ticket is drawn\, you receive 50% of the total ticket sales.  \nRegistration\nOfficers Ball 2023 Mail-In Registration Register by Tuesday October 17\, 2023 to obtain the special all event package pricing (workshop\, on-site dinner\, and evening party) of $55 and save $15. On-site dinner registration is not available after October 17.  New members with coupon pay for dinner only. \nOption 1: Mail-In Registration\nDownload and complete registration form.  \nMake checks payable to the FOLK DANCE FEDERATION. \nMail the check and registration form to: \nSabine Zappe\n153 Race Street\nSan Jose CA 95126\n  \nOption 2: Online Registration\nRegister online \nOur featured image is a publicity photo for the radio program National Barn Dance. Pictured are four couples dancing to the music and square dance caller Guy Colby. 24 March 1940 by WLS Radio\, Chicago. From Wikimedia Commons\, the free media repository
URL:https://www.folkdance.com/event/officers-ball-2023/
LOCATION:Veterans Memorial Building\, Pleasanton\, 301 Main Street\, Pleasanton\, CA\, 94566\, United States
CATEGORIES:Dance Party,Fund raiser,Live Music,Potluck,Workshop
ATTACH;FMTTYPE=image/jpeg:https://www.folkdance.com/wp-content/uploads/2023/07/National_Barn_Dance_1940-e1692008534261.jpg
END:VEVENT
END:VCALENDAR