BEGIN:VCALENDAR
VERSION:2.0
PRODID:-//Folk Dance Federation of California - ECPv6.15.20//NONSGML v1.0//EN
CALSCALE:GREGORIAN
METHOD:PUBLISH
X-WR-CALNAME:Folk Dance Federation of California
X-ORIGINAL-URL:https://www.folkdance.com
X-WR-CALDESC:Events for Folk Dance Federation of California
REFRESH-INTERVAL;VALUE=DURATION:PT1H
X-Robots-Tag:noindex
X-PUBLISHED-TTL:PT1H
BEGIN:VTIMEZONE
TZID:America/Los_Angeles
BEGIN:DAYLIGHT
TZOFFSETFROM:-0800
TZOFFSETTO:-0700
TZNAME:PDT
DTSTART:20230312T100000
END:DAYLIGHT
BEGIN:STANDARD
TZOFFSETFROM:-0700
TZOFFSETTO:-0800
TZNAME:PST
DTSTART:20231105T090000
END:STANDARD
BEGIN:DAYLIGHT
TZOFFSETFROM:-0800
TZOFFSETTO:-0700
TZNAME:PDT
DTSTART:20240310T100000
END:DAYLIGHT
BEGIN:STANDARD
TZOFFSETFROM:-0700
TZOFFSETTO:-0800
TZNAME:PST
DTSTART:20241103T090000
END:STANDARD
BEGIN:DAYLIGHT
TZOFFSETFROM:-0800
TZOFFSETTO:-0700
TZNAME:PDT
DTSTART:20250309T100000
END:DAYLIGHT
BEGIN:STANDARD
TZOFFSETFROM:-0700
TZOFFSETTO:-0800
TZNAME:PST
DTSTART:20251102T090000
END:STANDARD
END:VTIMEZONE
BEGIN:VEVENT
DTSTART;TZID=America/Los_Angeles:20241027T143000
DTEND;TZID=America/Los_Angeles:20241027T163000
DTSTAMP:20260423T023543
CREATED:20241025T164411Z
LAST-MODIFIED:20241025T165139Z
UID:15868-1730039400-1730046600@www.folkdance.com
SUMMARY:Dance Around the World 2024
DESCRIPTION:A fundraiser of world folk dance performances followed by a folk dance workshop for all to participate! Includes refreshments and party. \nHosted by the FC Dancers\, Repentance Prayer Community\, the Aloha Hula Dancers\, Laura Noel\, Fr. Gabriel Augustine\, and Folklorico Santa Paula. \nMaster Instructors\n\nRebecca Tasi\nRaul Herrera\nJanice Gonzalves\nFr. Gabriel Augustine\n\nTickets \nDOWNLOAD\, print\, or share a flier.
URL:https://www.folkdance.com/event/dance-around-the-world-2024/
LOCATION:Our Lady of Guadalupe School Parish\, 40382 Fremont Blvd\, Fremont\, CA\, 94538\, United States
CATEGORIES:Performance,Workshop
ATTACH;FMTTYPE=image/jpeg:https://www.folkdance.com/wp-content/uploads/2024/10/IMG_6283.jpeg
ORGANIZER;CN="Smile Folk Dancers":MAILTO:Smile.folkdancers@gmail.com
END:VEVENT
END:VCALENDAR