BEGIN:VCALENDAR
VERSION:2.0
PRODID:-//Folk Dance Federation of California - ECPv6.15.20//NONSGML v1.0//EN
CALSCALE:GREGORIAN
METHOD:PUBLISH
X-WR-CALNAME:Folk Dance Federation of California
X-ORIGINAL-URL:https://www.folkdance.com
X-WR-CALDESC:Events for Folk Dance Federation of California
REFRESH-INTERVAL;VALUE=DURATION:PT1H
X-Robots-Tag:noindex
X-PUBLISHED-TTL:PT1H
BEGIN:VTIMEZONE
TZID:America/Los_Angeles
BEGIN:DAYLIGHT
TZOFFSETFROM:-0800
TZOFFSETTO:-0700
TZNAME:PDT
DTSTART:20250309T100000
END:DAYLIGHT
BEGIN:STANDARD
TZOFFSETFROM:-0700
TZOFFSETTO:-0800
TZNAME:PST
DTSTART:20251102T090000
END:STANDARD
BEGIN:DAYLIGHT
TZOFFSETFROM:-0800
TZOFFSETTO:-0700
TZNAME:PDT
DTSTART:20260308T100000
END:DAYLIGHT
BEGIN:STANDARD
TZOFFSETFROM:-0700
TZOFFSETTO:-0800
TZNAME:PST
DTSTART:20261101T090000
END:STANDARD
BEGIN:DAYLIGHT
TZOFFSETFROM:-0800
TZOFFSETTO:-0700
TZNAME:PDT
DTSTART:20270314T100000
END:DAYLIGHT
BEGIN:STANDARD
TZOFFSETFROM:-0700
TZOFFSETTO:-0800
TZNAME:PST
DTSTART:20271107T090000
END:STANDARD
END:VTIMEZONE
BEGIN:VEVENT
DTSTART;TZID=America/Los_Angeles:20261003T130000
DTEND;TZID=America/Los_Angeles:20261003T220000
DTSTAMP:20260425T152738
CREATED:20260214T005015Z
LAST-MODIFIED:20260424T185012Z
UID:17508-1791032400-1791064800@www.folkdance.com
SUMMARY:Officers Ball 2026
DESCRIPTION:The Folk Dance Federation’s annual festival of folk dance with workshops\, on-site dinner\, dance party\, and special attractions returns! The theme this year is “FUN-ding the Future.” Workshop instructors include Craig Blackstone\, Memo Keswick\, Andy Paros\, Ina Tacheva\, Lenore Watson\, and Alex Shadle. \nThe Officers Ball is also an important fundraiser for the Federation Scholarship Fund. Its Annual 50/50 Drawing is a popular feature: buy tickets for $1 each and\, if your ticket is drawn\, you receive 50% of the total ticket sales. Consider bundling the 2026 Federation Folk Dance Wall Calendar with your ticket purchase and pick up the calendar at the Ball. \nMore details coming…
URL:https://www.folkdance.com/event/officers-ball-2026/
LOCATION:Veterans Memorial Building\, Pleasanton\, 301 Main Street\, Pleasanton\, CA\, 94566\, United States
CATEGORIES:Dance Party,Fund raiser,Live Music,Potluck,Workshop
ATTACH;FMTTYPE=image/jpeg:https://www.folkdance.com/wp-content/uploads/2024/12/8U7A2836-scaled.jpg
END:VEVENT
END:VCALENDAR