BEGIN:VCALENDAR
VERSION:2.0
PRODID:-//Folk Dance Federation of California - ECPv6.15.20//NONSGML v1.0//EN
CALSCALE:GREGORIAN
METHOD:PUBLISH
X-ORIGINAL-URL:https://www.folkdance.com
X-WR-CALDESC:Events for Folk Dance Federation of California
REFRESH-INTERVAL;VALUE=DURATION:PT1H
X-Robots-Tag:noindex
X-PUBLISHED-TTL:PT1H
BEGIN:VTIMEZONE
TZID:America/Los_Angeles
BEGIN:DAYLIGHT
TZOFFSETFROM:-0800
TZOFFSETTO:-0700
TZNAME:PDT
DTSTART:20220313T100000
END:DAYLIGHT
BEGIN:STANDARD
TZOFFSETFROM:-0700
TZOFFSETTO:-0800
TZNAME:PST
DTSTART:20221106T090000
END:STANDARD
BEGIN:DAYLIGHT
TZOFFSETFROM:-0800
TZOFFSETTO:-0700
TZNAME:PDT
DTSTART:20230312T100000
END:DAYLIGHT
BEGIN:STANDARD
TZOFFSETFROM:-0700
TZOFFSETTO:-0800
TZNAME:PST
DTSTART:20231105T090000
END:STANDARD
BEGIN:DAYLIGHT
TZOFFSETFROM:-0800
TZOFFSETTO:-0700
TZNAME:PDT
DTSTART:20240310T100000
END:DAYLIGHT
BEGIN:STANDARD
TZOFFSETFROM:-0700
TZOFFSETTO:-0800
TZNAME:PST
DTSTART:20241103T090000
END:STANDARD
END:VTIMEZONE
BEGIN:VEVENT
DTSTART;VALUE=DATE:20230127
DTEND;VALUE=DATE:20230131
DTSTAMP:20260419T193326
CREATED:20221206T175618Z
LAST-MODIFIED:20240915T011405Z
UID:13543-1674777600-1675123199@www.folkdance.com
SUMMARY:Stockton Folk Dance Camp Winter Weekend
DESCRIPTION:Instead of making you wait all the way to July to enjoy the wonders of Stockton Folk Dance Camp\, enjoy the 2023 Stockton Folk Dance Winter Weekend with  \nDance – Music – Presentations – Videos – Games – Parties – Virtual Hugs\n \nAll online via Zoom \nFeaturing an all-star faculty with more than 70 hours of classes\, presentations\, parties\, and replays \n\n💖 20+ hours of new dance classes\, presentations\, live music\, videos hours\, and events.\n💖 12+ hours of dance parties\n💖 Replays of almost everything\, so you get two chances to watch\n💖 Puzzles\, videos\, and all the other great things you’ve seen at our Camps.\n\nThis\, along with our great MCs and Techs\, will make it a wonderful weekend. \nREAD ARTIST BIOS… \nVisit http://folkdancecamp.org for emerging details… \nSchedule\nView Winter Weekend Camp Schedule
URL:https://www.folkdance.com/event/winter-weekend-2023/
LOCATION:Online\, CA\, United States
CATEGORIES:Camp,Dance Party,Fund raiser,Lecture,Live Music,Online,Performance,Workshop
ATTACH;FMTTYPE=image/png:https://www.folkdance.com/wp-content/uploads/2022/12/SFDC-Winter-Weekend-2023.png
END:VEVENT
END:VCALENDAR