BEGIN:VCALENDAR
VERSION:2.0
PRODID:-//Folk Dance Federation of California - ECPv6.15.20//NONSGML v1.0//EN
CALSCALE:GREGORIAN
METHOD:PUBLISH
X-WR-CALNAME:Folk Dance Federation of California
X-ORIGINAL-URL:https://www.folkdance.com
X-WR-CALDESC:Events for Folk Dance Federation of California
REFRESH-INTERVAL;VALUE=DURATION:PT1H
X-Robots-Tag:noindex
X-PUBLISHED-TTL:PT1H
BEGIN:VTIMEZONE
TZID:America/Los_Angeles
BEGIN:DAYLIGHT
TZOFFSETFROM:-0800
TZOFFSETTO:-0700
TZNAME:PDT
DTSTART:20240310T100000
END:DAYLIGHT
BEGIN:STANDARD
TZOFFSETFROM:-0700
TZOFFSETTO:-0800
TZNAME:PST
DTSTART:20241103T090000
END:STANDARD
BEGIN:DAYLIGHT
TZOFFSETFROM:-0800
TZOFFSETTO:-0700
TZNAME:PDT
DTSTART:20250309T100000
END:DAYLIGHT
BEGIN:STANDARD
TZOFFSETFROM:-0700
TZOFFSETTO:-0800
TZNAME:PST
DTSTART:20251102T090000
END:STANDARD
BEGIN:DAYLIGHT
TZOFFSETFROM:-0800
TZOFFSETTO:-0700
TZNAME:PDT
DTSTART:20260308T100000
END:DAYLIGHT
BEGIN:STANDARD
TZOFFSETFROM:-0700
TZOFFSETTO:-0800
TZNAME:PST
DTSTART:20261101T090000
END:STANDARD
BEGIN:DAYLIGHT
TZOFFSETFROM:-0800
TZOFFSETTO:-0700
TZNAME:PDT
DTSTART:20270314T100000
END:DAYLIGHT
BEGIN:STANDARD
TZOFFSETFROM:-0700
TZOFFSETTO:-0800
TZNAME:PST
DTSTART:20271107T090000
END:STANDARD
END:VTIMEZONE
BEGIN:VTIMEZONE
TZID:America/Chicago
BEGIN:DAYLIGHT
TZOFFSETFROM:-0600
TZOFFSETTO:-0500
TZNAME:CDT
DTSTART:20250309T080000
END:DAYLIGHT
BEGIN:STANDARD
TZOFFSETFROM:-0500
TZOFFSETTO:-0600
TZNAME:CST
DTSTART:20251102T070000
END:STANDARD
BEGIN:DAYLIGHT
TZOFFSETFROM:-0600
TZOFFSETTO:-0500
TZNAME:CDT
DTSTART:20260308T080000
END:DAYLIGHT
BEGIN:STANDARD
TZOFFSETFROM:-0500
TZOFFSETTO:-0600
TZNAME:CST
DTSTART:20261101T070000
END:STANDARD
BEGIN:DAYLIGHT
TZOFFSETFROM:-0600
TZOFFSETTO:-0500
TZNAME:CDT
DTSTART:20270314T080000
END:DAYLIGHT
BEGIN:STANDARD
TZOFFSETFROM:-0500
TZOFFSETTO:-0600
TZNAME:CST
DTSTART:20271107T070000
END:STANDARD
END:VTIMEZONE
BEGIN:VEVENT
DTSTART;TZID=America/Los_Angeles:20251220T170000
DTEND;TZID=America/Los_Angeles:20251220T210000
DTSTAMP:20260423T131243
CREATED:20251118T222142Z
LAST-MODIFIED:20251220T131635Z
UID:17261-1766250000-1766264400@www.folkdance.com
SUMMARY:Hungarian Christmas Fair
DESCRIPTION:For the first time\, Eszterlánc — in collaboration with the Hungarian Cultural Center — is bringing the magical atmosphere of Budapest’s and Europe’s Christmas markets to the San Francisco Bay Area! \nJoin us on Saturday\, December 20th at 5:00 PM at the Hungarian Cultural Center in Newark for a warm and festive holiday afternoon.\nDress warmly! \nProgram includes: \n\nartisan market and creative workshops\nhomemade holiday treats\nmulled wine\nhot chocolate\nChristmas cultural program\ncommunity caroling\ntraditional Hungarian dance house\n\nCelebrate with us and soak in the holiday spirit — mark your calendar so you don’t miss it!\nAdmission is free.
URL:https://www.folkdance.com/event/hungarian-christmas-fair/
LOCATION:Hungarian Cultural Center\, 35660 Cedar Boulevard\, Newark\, CA\, 94560\, United States
CATEGORIES:Festival,Performance
ATTACH;FMTTYPE=image/jpeg:https://www.folkdance.com/wp-content/uploads/2025/11/Eszterlanc-Christmas-Fair.jpg
END:VEVENT
BEGIN:VEVENT
DTSTART;VALUE=DATE:20260305
DTEND;VALUE=DATE:20260309
DTSTAMP:20260423T131243
CREATED:20250718T082114Z
LAST-MODIFIED:20251118T221530Z
UID:16643-1772668800-1773014399@www.folkdance.com
SUMMARY:NFO Conference 2026
DESCRIPTION:Annual NFO Meeting and Conference 2026\nMarch 5 – 8\, 2026 in Durham\, North Carolina \nSave the date! \nArrive in time for the Welcoming Reception on Thursday evening. Friday starts out with the NFO Annual Membership. The rest of the weekend will be full of presentations\, workshops\, performances\, and parties\, and the Awards Banquet on Saturday evening. Plan to stay through Monday morning for the post-conference debrief. \nWe hope you will join us in Durham for three+ days of cultural activities\, events\, and friends\, including: \n\nPresentations\nDance instruction\nMusic workshops\nEvening dance parties\nWorkshops\nPerformances\nLive music\nSinging\nNetworking opportunities\nAwards banquet\nAnnual business meeting\n\nPresenters\nMany more presenters and performers will be announced\, but here’s a preview of our exciting program. \n\nPhil Jamison – Appalachian Dance Traditions\nErik Bendix – International Dancing\nSheila Kay Adams – Storytelling\nBen Owen – Pottery\nTriangle Shape Note Singers – Singing\nApple Chill Cloggers – Dancing\nDebby Szajnberg – NFO Grant Report: Global Rhythm Games\n\nRegistration opens November 28\, 2025. More info will be posted to the website as updates are available. \nFor ongoing updates in programming\, schedule\, and registration visit the NFO 2026 Conference Web Page.
URL:https://www.folkdance.com/event/nfo-conference-2026/
LOCATION:Old Murphey School\, Shared Visions Retreat Center\, 3717 Murphy School Road\, Durham\, NC\, 27705\, United States
CATEGORIES:Camp,Dance Party,Festival,Live Music,Meeting / Conference
ATTACH;FMTTYPE=image/png:https://www.folkdance.com/wp-content/uploads/2025/07/cba16f2d-22b3-4ea6-3172-036eb89ee74a.png
END:VEVENT
BEGIN:VEVENT
DTSTART;VALUE=DATE:20260424
DTEND;VALUE=DATE:20260504
DTSTAMP:20260423T131243
CREATED:20260309T061755Z
LAST-MODIFIED:20260313T165311Z
UID:17608-1776988800-1777852799@www.folkdance.com
SUMMARY:Bay Area Dance Week 2026
DESCRIPTION:Save the date! Bay Area Dance Week is 10 days of free dance events celebrating our dynamic and diverse Bay Area dance community. Watch inspiring artists\, practice your own style\, or discover a new groove. Participating each year is easy and everything is free. \nEvent hosts around the Bay Area can submit free events to take place during Dance Week\, ranging from classes\, performances\, open studios\, workshops\, and more. \nParticipants can explore the Bay Area Dance Week Hub to sign up for free events and customize their own Dance Week experience. Become a free community member to receive updates on Bay Area Dance Week and stay in the know about dance jobs\, auditions\, performances\, discounts\, and more. \nWhether hip hop\, hula\, salsa\, aerial\, folk\, modern\, Bollywood\, ballet\, West African\, or many more – Join together in dance\, regardless of cultural background\, race\, faith\, size\, shape\, sexuality\, gender\, or ability or age.
URL:https://www.folkdance.com/event/bay-area-dance-week-2026/
LOCATION:San Francisco Bay Area\, CA\, United States
CATEGORIES:Class,Dance Party,Festival,Performance,Workshop
ATTACH;FMTTYPE=image/jpeg:https://www.folkdance.com/wp-content/uploads/2026/03/1-BADW_2026_Postcard-768x927-1.jpg
END:VEVENT
BEGIN:VEVENT
DTSTART;VALUE=DATE:20260612
DTEND;VALUE=DATE:20260615
DTSTAMP:20260423T131243
CREATED:20251103T015008Z
LAST-MODIFIED:20260220T025434Z
UID:16999-1781222400-1781481599@www.folkdance.com
SUMMARY:Statewide 2026
DESCRIPTION:The 2026 Statewide Folk Dance Festival\, the highly-anticipated annual weekend festival of folk dance and parties\, returns June 12-14\, 2026 in Chico California. This year’s Statewide theme is “Village Dance-What is it anyway?” \nStatewide 2026 features \n\nAhmet Luleci (Turkish dance)\n“Kotse” Marinov (Bulgarian dance)\nPetar Aleksiev (Bulgarian music)\nEvening parties dancing to live music by Da! Mozhem\nAnd more…\n\nInstructors and Band\nAhmet Luleci \nAhmet Luleci – Turkish Dance\nA native of Turkey\, Ahmet is an accomplished choreographer\, dance teacher and performer as well as a researcher of Anatolian culture. He is currently the artistic director of the Boston based Collage Dance Ensemble\, which allows him to further his goal of making folk dance and music accessible to a wider audience.  \nSince arriving in North America in 1985\, he has taught many workshops and camps throughout the United States as well as Canada\, Japan\, Taiwan\, Hong Kong\, Holland\, England\, Switzerland\, Brazil\, Argentina\, Germany\, Norway\, Italy\, Spain and Australia. He has set innumerable suites of dances for the stage working with dance organizations around the world. Read more… \nKonstantine “Kotse” Marinov – Bulgarian Dance\nKonstantine “Kose” Marinov \nKonstantin “Kotse” Marinov is from Stara Zagora\, Bulgaria. From the age of five he performed with Ensemble Zagorche. Kotse was born into a dancing family; he and his father\, mother\, and sister all have dancing in their blood! His father is a choreographer\, and is a long-time soloist of the Military Ensemble in Sofia. His mother dances with the Ensemble Zagore. \nIn 1987\, Kotse entered the State Choreographic School (now the National School of Dance Arts) in Sofia\, graduating with a diploma as artist/ballet dancer and teacher of dance arts. He has danced as a soloist with Ensemble Zagore and the Ensemble Slănčev Brjag\, was assistant choreographer with the Ensemble Zornitsa\, and he toured with both Slănčev Brjag and Zagore in Europe\, Canada\, and the United States. \nIn 2000 Kotse emigrated to the United States and settled in the Chicago area\, where he established several Bulgarian folklore clubs that preserve and nurture Bulgarian folk dance and folklore in a dynamic way. \nKotse organizes annual festivals in Chicago that feature multiple Bulgarian folk ensembles and cultural groups under the umbrella and name of his Vereya dance ensemble. Kotse has produced other concerts and festivals in North America and Europe. Read more… \nPetar Aleksiev – Bulgarian Music\nPetar Aleksiev \nPetar “Usmivkata” (The Smile) Aleksiev was born in Varna\, Bulgaria. He graduated from “Philip Kutev” Music School in Kotel\, then from Plovdiv’s Academy for Music and Dance Arts. He was part of the representative folk orchestra of the Plovdiv Academy. There he received his master’s degree in Music Arts with honors\, specializing in bagpipe. \nWhile he was at school Petar accompanied the world-known Grammy-winning women’s choir Le Mystère Des Voix Bulgares. He has participated in many groups in numerous projects\, and has played with the most famous musicians and bands in Bulgaria. Petar has made recordings with the Bulgarian National Radio\, and Bulgarian National Television. He has participated in many international projects\, folklore events\, and festivals in Greece\, Italy\, Malta\, Israel\, Netherlands\, Belgium\, Moldova\, Ukraine\, Serbia\, and elsewhere. Petar frequently composes for dance groups and bands\, and is a member of the UNESCO International Organization for Folk Art. \nSince 2008 Petar has been living in Chicago\, where he performs with Kolorit Orchestra\, Orpheus Hellenic Folklore Society\, and plays Bulgarian\, Greek\, and Macedonian music at various events and camps. Read more… \nDa! Mozhem\nDa! Mozhem at the San Francisco Free Folk Festival \nDa! Mozhem plays and sings high-energy pan-Balkan music for the joy of dancing.  D!M is a group of friends who have been playing together for well over a decade. The group has veterans from many excellent folklore bands such as the People’s International Silver String Macedonian Band\, Born to Drone\, Westwind\, Sviraci\, and the Slavonian Traveling Band.  The band plays with emphasis on Bulgarian\, Macedonian\, and ex-Yugoslav traditions.  Several members frequently travel to the Balkans to learn more about the folkloric music of the region.  The group plays on traditional instruments unique to the region as well as modern instruments. \n\nVenues\n\nFri-Sat: First Christian Church\, 295 E Washington Avenue\, Chico\, CA\nSun: Chico Women’s Club\, Third & Pine Streets\, Chico\, CA\n\nHotel\nHoliday Inn Express & Suites Chico \nOur host hotel is Holiday Inn Express & Suites Chico\, 2074 E 20th St\, Chico\, CA 95928. Conveniently located off Highway 99 and a short drive from Chico State University\, the hotel offers easy access to stunning landscapes and charming local attractions\, including Sierra Nevada Brewing Co\, Silver Dollar Speedway\, and Bidwell Park. This three-star hotel features a free breakfast\, fitness center\, pool\, wi-fi\, laundry\, business center\, on-site parking\, outdoor patio with cozy fire pit\, and quality coffee anytime. The hotel is about a 10min drive from either of our dance venues.  \nReservations: 1 888 465 4329. Ask for the “Statewide 2026” rate of $139. More details… \n\nRegistration\nLodging should be purchased separately. Recommended group pricing available. As of January\, unless changed\, the Saturday catered meal option is Greek/Mediterranean cuisine. \nDue to popular demand\, we’ve extended the 2026 Statewide “Early Bird” full package deadlines: $180 until March 8th\, then $200 afterward until April 30th\, and $240 thereafter.\n\nOnline Registration\nRegister online today!\n\n\nMail-In Registration\n2026 Statewide Registration Form \nDo NOT mail after June 6th\, instead pay at door. Make checks payable to FOLK DANCE FEDERATION. Send completed registration form with your check postmarked by the deadline to:  \nStatewide Registrar\n153 Race Street\nSan Jose\, CA 95126 \nPlease write one check for registration and additional offerings. \nShort of funds? For work scholarships contact Memo Keswick.\nThe Federation also has a Scholarship Program that helps pay for tuition. More details… \nMasks optional and proof of vaccination requirements will follow CDC\, State\, and County COVID regulations at the time of the event.
URL:https://www.folkdance.com/event/statewide-2026/
LOCATION:First Christian Church\, Chico\, 295 E Washington Avenue\, Chico\, 95926\, United States
CATEGORIES:Dance Party,Festival,Live Music,Performance,Workshop
ATTACH;FMTTYPE=image/jpeg:https://www.folkdance.com/wp-content/uploads/2026/02/2026-STATEWIDE-FLYER-draft-6.jpg
END:VEVENT
END:VCALENDAR