BEGIN:VCALENDAR
VERSION:2.0
PRODID:-//Folk Dance Federation of California - ECPv6.15.20//NONSGML v1.0//EN
CALSCALE:GREGORIAN
METHOD:PUBLISH
X-WR-CALNAME:Folk Dance Federation of California
X-ORIGINAL-URL:https://www.folkdance.com
X-WR-CALDESC:Events for Folk Dance Federation of California
REFRESH-INTERVAL;VALUE=DURATION:PT1H
X-Robots-Tag:noindex
X-PUBLISHED-TTL:PT1H
BEGIN:VTIMEZONE
TZID:America/Los_Angeles
BEGIN:DAYLIGHT
TZOFFSETFROM:-0800
TZOFFSETTO:-0700
TZNAME:PDT
DTSTART:20250309T100000
END:DAYLIGHT
BEGIN:STANDARD
TZOFFSETFROM:-0700
TZOFFSETTO:-0800
TZNAME:PST
DTSTART:20251102T090000
END:STANDARD
BEGIN:DAYLIGHT
TZOFFSETFROM:-0800
TZOFFSETTO:-0700
TZNAME:PDT
DTSTART:20260308T100000
END:DAYLIGHT
BEGIN:STANDARD
TZOFFSETFROM:-0700
TZOFFSETTO:-0800
TZNAME:PST
DTSTART:20261101T090000
END:STANDARD
BEGIN:DAYLIGHT
TZOFFSETFROM:-0800
TZOFFSETTO:-0700
TZNAME:PDT
DTSTART:20270314T100000
END:DAYLIGHT
BEGIN:STANDARD
TZOFFSETFROM:-0700
TZOFFSETTO:-0800
TZNAME:PST
DTSTART:20271107T090000
END:STANDARD
END:VTIMEZONE
BEGIN:VEVENT
DTSTART;TZID=America/Los_Angeles:20260221T130000
DTEND;TZID=America/Los_Angeles:20260221T173000
DTSTAMP:20260425T043327
CREATED:20251202T175651Z
LAST-MODIFIED:20251210T093949Z
UID:17267-1771678800-1771695000@www.folkdance.com
SUMMARY:Annual Lunar New Year Festival
DESCRIPTION:The annual Cerritos Folk Dancers Lunar New Year Festival is coming! Now in its 14th year\, this year the workshop teachers are master instructors Tom Bozigian and Sheree King. \nSave the date! \nFor more details contact CerritosFolkDancers@gmail.com or call Wen at 626 500 5035.
URL:https://www.folkdance.com/event/lunar-new-year-fest-2026/
LOCATION:Cerritos Senior Center\, 12340 South Street\, Cerritos\, CA\, 90703\, United States
CATEGORIES:Dance Party,Workshop
ATTACH;FMTTYPE=application/pdf:https://www.folkdance.com/wp-content/uploads/2025/12/CFD-fest-260221ws14-flierE.pdf
ORGANIZER;CN="Cerritos Folk Dancers":MAILTO:CerritosFolkDancers@gmail.com
END:VEVENT
BEGIN:VEVENT
DTSTART;TZID=America/Los_Angeles:20260221T150000
DTEND;TZID=America/Los_Angeles:20260221T183000
DTSTAMP:20260425T043327
CREATED:20260214T060406Z
LAST-MODIFIED:20260221T001307Z
UID:17512-1771686000-1771698600@www.folkdance.com
SUMMARY:Global Folk Dance Party
DESCRIPTION:What fun!   We’ll do some turning this month.  We’ll have our usual team of dance leaders\, who will be joined this month by Roo Lester.  Have any ideas? Send them along to us!  \nAs always\, join us 30 minutes before each Global Folk Dance Party at 2:30pm PST for a different pre-show (quiz\, video\, music\, trivia\, etc.) each month. Hope to see you on the virtual dance floor on Saturday! \nJoin The Party\nBy Zoom\nRegister by Zoom\nWe’ve changed Zoom numbers. Here’s what you need to do.  Use the registration link above and you’ll get an email from Zoom with your link for the Global Folk Dance Party. Feel free to share the above registration link with your friends\, they’ll get their own link to join. With the new registration\, you’ll get a reminder email the morning of the Global Folk Dance Party\, so you don’t have to look for your link. \n\nIMPORTANT – Do not use both computer and phone; you will generate feedback.\nZoom will best be viewed using side by side mode. See https://bit.ly/39dximU for info.\nWhen in the meeting\, click the ‘chat’ button to chat with everybody and make requests.\nWhen you sign into Zoom\, enter your name and city so we know where you’re from!\n\nBy Facebook Live\nJoin by Facebook Live \nif Zoom is full or you just want to watch.\nhttps://www.facebook.com/PFDCouncil/ \nFor more details or to send requests e-mail us at virtualfolkdance@gmail.com. Alicia La Fetra\, Lisa Michael\, and Stacy Rose will be happy to help.
URL:https://www.folkdance.com/event/gfd-feb26/
LOCATION:Online\, CA\, United States
CATEGORIES:Dance Party,Online,Workshop
ATTACH;FMTTYPE=image/png:https://www.folkdance.com/wp-content/uploads/2026/02/1083c9a4-c2e3-0ba4-2ce1-f62ce2d58ce5.png
ORGANIZER;CN="Global Folk Dance Parties":MAILTO:virtualfolkdance@gmail.com
END:VEVENT
BEGIN:VEVENT
DTSTART;TZID=America/Los_Angeles:20260221T193000
DTEND;TZID=America/Los_Angeles:20260221T233000
DTSTAMP:20260425T043327
CREATED:20260202T053345Z
LAST-MODIFIED:20260202T053433Z
UID:17473-1771702200-1771716600@www.folkdance.com
SUMMARY:Cafe Shalom Dance Party
DESCRIPTION:Israeli folk dancers from all over the Bay Area dance the night away at Café Shalom’s Saturday party—a monthly tradition since the 1960s! We play a wonderful mix of oldies and the latest dances based on requests. Dancers of all ages are invited to join the fun on the third Saturday of every month.  \nSaturday classes are large parties with many dancers from all ages and spectrum. We dance dances from 1918 and from 2018 back to back. \nThe first part of the evening – 30-45 minutes starts with slow and beginners dances\, oldies\, and dances which we learn in Tuesday class. Later we increase the intensity\, up the beat and the pace and the evening is fully charged with great energy and fun. \n7:30 pm – Warm-up\, beginner’s\, oldies dances\, and recently taught dances\n8:00 pm – Our party perks up… with circle\, and couple dances\n9:15 pm – Birthday celebrations\, announcements\, followed by a line dance set\n9:30 – 11:30 pm – We’ll dance ‘til then or ‘til we drop – whatever comes first! \nAdmission is $10 for adults\, $5 for students. \nInfo:  Text 669.444.1284\nCafe Shalom\, more details…
URL:https://www.folkdance.com/event/cafe-shalom-feb26/
LOCATION:Congregation Am Tikvah\, 625 Brotherhood Way\, San Francisco\, CA\, United States
CATEGORIES:Dance Party,Workshop
ATTACH;FMTTYPE=image/jpeg:https://www.folkdance.com/wp-content/uploads/2023/04/DSC_0131-scaled.jpg
ORGANIZER;CN="Cafe Shalom":MAILTO:udy@yahoo.com
END:VEVENT
END:VCALENDAR