BEGIN:VCALENDAR
VERSION:2.0
PRODID:-//Folk Dance Federation of California - ECPv6.15.20//NONSGML v1.0//EN
CALSCALE:GREGORIAN
METHOD:PUBLISH
X-ORIGINAL-URL:https://www.folkdance.com
X-WR-CALDESC:Events for Folk Dance Federation of California
REFRESH-INTERVAL;VALUE=DURATION:PT1H
X-Robots-Tag:noindex
X-PUBLISHED-TTL:PT1H
BEGIN:VTIMEZONE
TZID:America/Los_Angeles
BEGIN:DAYLIGHT
TZOFFSETFROM:-0800
TZOFFSETTO:-0700
TZNAME:PDT
DTSTART:20250309T100000
END:DAYLIGHT
BEGIN:STANDARD
TZOFFSETFROM:-0700
TZOFFSETTO:-0800
TZNAME:PST
DTSTART:20251102T090000
END:STANDARD
BEGIN:DAYLIGHT
TZOFFSETFROM:-0800
TZOFFSETTO:-0700
TZNAME:PDT
DTSTART:20260308T100000
END:DAYLIGHT
BEGIN:STANDARD
TZOFFSETFROM:-0700
TZOFFSETTO:-0800
TZNAME:PST
DTSTART:20261101T090000
END:STANDARD
BEGIN:DAYLIGHT
TZOFFSETFROM:-0800
TZOFFSETTO:-0700
TZNAME:PDT
DTSTART:20270314T100000
END:DAYLIGHT
BEGIN:STANDARD
TZOFFSETFROM:-0700
TZOFFSETTO:-0800
TZNAME:PST
DTSTART:20271107T090000
END:STANDARD
END:VTIMEZONE
BEGIN:VEVENT
DTSTART;TZID=America/Los_Angeles:20260130T163000
DTEND;TZID=America/Los_Angeles:20260202T030000
DTSTAMP:20260423T072441
CREATED:20251021T140737Z
LAST-MODIFIED:20260130T132231Z
UID:16902-1769790600-1770001200@www.folkdance.com
SUMMARY:Stockton Folk Dance Winter Weekend
DESCRIPTION:Instead of making you wait all the way to July to enjoy the wonders of Stockton Folk Dance Camp\, enjoy the 2026 Stockton Folk Dance Winter Weekend with  \nDance – Music – Presentations – Videos – Games – Parties – Virtual Hugs\nAll online via Zoom \nFeaturing an all-star faculty with more than 70 hours of classes\, presentations\, parties\, and replays \n\n💖 4 dance parties.\n💖 Dance With the Teachers hosted by Paul Collins\, Sherry Cochran\, Murray Spiegel\, and Roo Lester\n💖 Sherry Cochran and Will Cope – The Rise of Folk Bands in the U.S.\n💖 Our amazing house band\, Orkestar Unbound\n\nFeatured artists include: \n\nRichard Powers – Presentation\nJaap Leegwater and Angel Nazlâmov – Bulgarian\nTanya Dimitrov – Bulgarian\nShamulik Gov-Ari – Israeli\nAndy Taylor – Dances from Carpathian Europe\nHeidi Vorst and Süssefüsse – Dance Performance\nWill Cope and Orkestar Unbound – International Dance Music Favorites\n\nMore artist details… \nPlus games\, videos\, puzzles\, and more to be announced. This\, along with our great MCs and Techs\, will make it a wonderful weekend. \nVisit the Stockton Folk Dance Camp Winter Weekend page for emerging details… \nREGISTRATION\nThe entire online camp is free with registration on Zoom. Register now! If you are already registered for the Global Folk Dance Party\, you’re all set. We use the same Zoom. \nRegister \nDONATE\nOne hundred percent of each donation goes directly to the artists! Stockton Folk Dance Camp is a 501-c-3 nonprofit\, so all donations are tax deductible. No contribution is too small. \nDonate \nSchedule\n \nYour browser does not support iframes. You can view the content here.
URL:https://www.folkdance.com/event/stockton-folk-dance-winter-weekend/
LOCATION:Online\, CA\, United States
CATEGORIES:Camp,Dance Party,Fund raiser,Lecture,Live Music,Online,Performance,Workshop
ATTACH;FMTTYPE=image/png:https://www.folkdance.com/wp-content/uploads/2025/10/SWW-2026-800x448-1.png
END:VEVENT
BEGIN:VEVENT
DTSTART;TZID=America/Los_Angeles:20260130T180000
DTEND;TZID=America/Los_Angeles:20260201T130000
DTSTAMP:20260423T072442
CREATED:20251102T160419Z
LAST-MODIFIED:20251102T160730Z
UID:16989-1769796000-1769950800@www.folkdance.com
SUMMARY:Monte Toyon Weekend
DESCRIPTION:What a lovely combination\, folk dancing and friends\, all in the beautiful nature near Aptos. Join us for a weekend in the verdant redwoods with teacher Loui Tucker. Loui plans to poll attendees regarding their interests and will draw from her repertoire gathered during her 45+ years of teaching international folk dance. Be prepared for interesting and enjoyable dances to inspiring music.  \n\nInternational dances\nMorning classes 9 am to 12 noon\, Saturday and Sunday\nCulture Corner 1 pm\, Saturday\nAll-request dance parties\, Friday and Saturday evenings\nLots more fun!\n\nMail-in Registration Form Camp Monte Toyon is located near Santa Cruz\, outside of Aptos. Activities start with dinner Friday evening\, 6pm\, and end after lunch on Sunday. Saturday afternoon options are culture corner with Loui or possibly walking the beaches\, hiking through the redwoods\, visiting the nearby towns or the monarch butterflies at the state park. \nSpace is limited to 50 attendees\, and room assignments are made in the order that deposits are received. The onsite rate for the entire weekend is $320 and the offsite rate is $250; deduct $20 without Friday dinner. Save your spot with a deposit of $50 each\, or pay in full\, with the balance due by December 20\, 2025.  \nRegister online
URL:https://www.folkdance.com/event/monte-toyon-weekend/
LOCATION:Monte Toyon\, 220 Cloister Lane\, Aptos\, CA\, 95003\, United States
CATEGORIES:Camp,Dance Party,Workshop
ATTACH;FMTTYPE=image/jpeg:https://www.folkdance.com/wp-content/uploads/2025/11/Monte-Toyon-2026v.2_JPG-792x1024-1.jpeg
END:VEVENT
END:VCALENDAR