BEGIN:VCALENDAR
VERSION:2.0
PRODID:-//Folk Dance Federation of California - ECPv6.15.20//NONSGML v1.0//EN
CALSCALE:GREGORIAN
METHOD:PUBLISH
X-ORIGINAL-URL:https://www.folkdance.com
X-WR-CALDESC:Events for Folk Dance Federation of California
REFRESH-INTERVAL;VALUE=DURATION:PT1H
X-Robots-Tag:noindex
X-PUBLISHED-TTL:PT1H
BEGIN:VTIMEZONE
TZID:America/Los_Angeles
BEGIN:DAYLIGHT
TZOFFSETFROM:-0800
TZOFFSETTO:-0700
TZNAME:PDT
DTSTART:20240310T100000
END:DAYLIGHT
BEGIN:STANDARD
TZOFFSETFROM:-0700
TZOFFSETTO:-0800
TZNAME:PST
DTSTART:20241103T090000
END:STANDARD
BEGIN:DAYLIGHT
TZOFFSETFROM:-0800
TZOFFSETTO:-0700
TZNAME:PDT
DTSTART:20250309T100000
END:DAYLIGHT
BEGIN:STANDARD
TZOFFSETFROM:-0700
TZOFFSETTO:-0800
TZNAME:PST
DTSTART:20251102T090000
END:STANDARD
BEGIN:DAYLIGHT
TZOFFSETFROM:-0800
TZOFFSETTO:-0700
TZNAME:PDT
DTSTART:20260308T100000
END:DAYLIGHT
BEGIN:STANDARD
TZOFFSETFROM:-0700
TZOFFSETTO:-0800
TZNAME:PST
DTSTART:20261101T090000
END:STANDARD
END:VTIMEZONE
BEGIN:VEVENT
DTSTART;TZID=America/Los_Angeles:20251218T193000
DTEND;TZID=America/Los_Angeles:20251218T221500
DTSTAMP:20260425T145120
CREATED:20251106T090453Z
LAST-MODIFIED:20251106T090453Z
UID:17069-1766086200-1766096100@www.folkdance.com
SUMMARY:Saratoga Folk Dancers Black & White Ball
DESCRIPTION:Celebrate the holidays with the Saratoga International Folk Dancers. Dress in black\, white\, or some combination — it makes for great photos. Refreshments for the table welcome! \nWarmup and dances for beginners between 7:30 and 8:15pm. Request dancing for the rest of the evening. This is a large\, friendly group; you won’t be disappointed! Drop in fee $8\, seniors $6\, and first visit free. More details…
URL:https://www.folkdance.com/event/saratoga-folk-dancers-black-white-ball/
LOCATION:St. Archangel Michael Serbian Orthodox Church\, 18870 Allendale Avenue\, Saratoga\, California\, 95070
CATEGORIES:Dance Party
ATTACH;FMTTYPE=image/jpeg:https://www.folkdance.com/wp-content/uploads/2023/10/Bundesarchiv_Bild_183-R0909-0034_Berlin_Palast_der_Republik_Olympiaball.jpg
ORGANIZER;CN="Saratoga International Folk Dancers":MAILTO:loui@louitucker.com
END:VEVENT
END:VCALENDAR