BEGIN:VCALENDAR
VERSION:2.0
PRODID:-//Folk Dance Federation of California - ECPv6.15.20//NONSGML v1.0//EN
CALSCALE:GREGORIAN
METHOD:PUBLISH
X-WR-CALNAME:Folk Dance Federation of California
X-ORIGINAL-URL:https://www.folkdance.com
X-WR-CALDESC:Events for Folk Dance Federation of California
REFRESH-INTERVAL;VALUE=DURATION:PT1H
X-Robots-Tag:noindex
X-PUBLISHED-TTL:PT1H
BEGIN:VTIMEZONE
TZID:America/Los_Angeles
BEGIN:DAYLIGHT
TZOFFSETFROM:-0800
TZOFFSETTO:-0700
TZNAME:PDT
DTSTART:20240310T100000
END:DAYLIGHT
BEGIN:STANDARD
TZOFFSETFROM:-0700
TZOFFSETTO:-0800
TZNAME:PST
DTSTART:20241103T090000
END:STANDARD
BEGIN:DAYLIGHT
TZOFFSETFROM:-0800
TZOFFSETTO:-0700
TZNAME:PDT
DTSTART:20250309T100000
END:DAYLIGHT
BEGIN:STANDARD
TZOFFSETFROM:-0700
TZOFFSETTO:-0800
TZNAME:PST
DTSTART:20251102T090000
END:STANDARD
BEGIN:DAYLIGHT
TZOFFSETFROM:-0800
TZOFFSETTO:-0700
TZNAME:PDT
DTSTART:20260308T100000
END:DAYLIGHT
BEGIN:STANDARD
TZOFFSETFROM:-0700
TZOFFSETTO:-0800
TZNAME:PST
DTSTART:20261101T090000
END:STANDARD
END:VTIMEZONE
BEGIN:VEVENT
DTSTART;TZID=America/Los_Angeles:20251019T140000
DTEND;TZID=America/Los_Angeles:20251019T163000
DTSTAMP:20260420T005639
CREATED:20250808T203112Z
LAST-MODIFIED:20250829T021812Z
UID:16713-1760882400-1760891400@www.folkdance.com
SUMMARY:Dance Party with Bulgarika
DESCRIPTION:Dance to your favorite international tunes live with Bulgarika and Kopachka Folk Dancers\nat Strawberry Rec. Center\, Mill Valley!\nBULGARIKA is back for their 2025 tour: Donka Koleva\, Nikolay Kolev\, Stoyan Kostav\, and Anton Shekerjiev. The group features four maestros with decades of performing experience. They are all steeped in Bulgarian music and rhythms from a young age and bring the very best of the Bulgarian folk-music tradition for your enjoyment. \n$15 general admittance\, $7 students. Doors open at 1:30pm. Refreshments provided.\nCovid protocols: Vax/boosters strongly encouraged\, masks required if not (KN95\, N95\, and KF94–we can provide).\nAdditional parking at Strawberry Point school across street. \nBe sure to bring tips for the band.
URL:https://www.folkdance.com/event/bulgarika-2025/
LOCATION:Strawberry Recreation Center\, 118 E. Strawberry Drive\, Mill Valley\, CA\, 94941\, United States
CATEGORIES:Dance Party,Live Music
ATTACH;FMTTYPE=image/jpeg:https://www.folkdance.com/wp-content/uploads/2025/08/Bulgarika-at-Kopachka-19Oct2025-V3.jpg
ORGANIZER;CN="Kopachka Folk Dancers":MAILTO:president@kopachkafolkdancers.com
END:VEVENT
END:VCALENDAR