BEGIN:VCALENDAR
VERSION:2.0
PRODID:-//Folk Dance Federation of California - ECPv6.15.20//NONSGML v1.0//EN
CALSCALE:GREGORIAN
METHOD:PUBLISH
X-WR-CALNAME:Folk Dance Federation of California
X-ORIGINAL-URL:https://www.folkdance.com
X-WR-CALDESC:Events for Folk Dance Federation of California
REFRESH-INTERVAL;VALUE=DURATION:PT1H
X-Robots-Tag:noindex
X-PUBLISHED-TTL:PT1H
BEGIN:VTIMEZONE
TZID:America/Los_Angeles
BEGIN:DAYLIGHT
TZOFFSETFROM:-0800
TZOFFSETTO:-0700
TZNAME:PDT
DTSTART:20240310T100000
END:DAYLIGHT
BEGIN:STANDARD
TZOFFSETFROM:-0700
TZOFFSETTO:-0800
TZNAME:PST
DTSTART:20241103T090000
END:STANDARD
BEGIN:DAYLIGHT
TZOFFSETFROM:-0800
TZOFFSETTO:-0700
TZNAME:PDT
DTSTART:20250309T100000
END:DAYLIGHT
BEGIN:STANDARD
TZOFFSETFROM:-0700
TZOFFSETTO:-0800
TZNAME:PST
DTSTART:20251102T090000
END:STANDARD
BEGIN:DAYLIGHT
TZOFFSETFROM:-0800
TZOFFSETTO:-0700
TZNAME:PDT
DTSTART:20260308T100000
END:DAYLIGHT
BEGIN:STANDARD
TZOFFSETFROM:-0700
TZOFFSETTO:-0800
TZNAME:PST
DTSTART:20261101T090000
END:STANDARD
END:VTIMEZONE
BEGIN:VEVENT
DTSTART;TZID=America/Los_Angeles:20251010T190000
DTEND;TZID=America/Los_Angeles:20251012T130000
DTSTAMP:20260420T045728
CREATED:20250429T070209Z
LAST-MODIFIED:20250430T064102Z
UID:16418-1760122800-1760274000@www.folkdance.com
SUMMARY:North/South Folkdance Teachers’ Seminar
DESCRIPTION:Are you a folkdance teacher who would like to hone your skills or a dancer who would like to learn to teach? If so\, plan to come to the N/S Folkdance Teachers’ Seminar! \nAbout\nNorth/South Folkdance Teachers’ Seminar is a gathering of teachers focused on improving teaching skills and sharing information and ideas with other teachers. All Folk Dance teachers\, both current and prospective\, are welcome. Each annual seminar features two master instructors who have specialized knowledge of folk dance. \nThe 2025 North/South Master Teachers are Sonia Dion and Cristian Florescu. They will lead workshops on Saturday morning\, Saturday afternoon\, and Sunday morning\, plus cultural or teaching presentations. Both are professional teachers with decades of experience in welcoming and retaining dancers in the folk dance world. \nPrice\n$320 with on-site accommodations\, $270 off-site; Final payment due August 10\, 2025. Price includes meals from Saturday breakfast through Sunday lunch and all activities. On-site accommodation is dorm-style with shared bathrooms. \nFeatured Guests\nSonia Dion and Cristian Florescu\nRomanian Folk Dance and more…\nCristian and Sonia have been guest performers with the Collage International Dance Ensemble of Boston\, have been regular teachers at l’ École supérieure de danse du Québec and have been selected to be part of the Artists in the Schools program sponsored by the Québec Ministry of Education. In recent years\, they have developed a specific interest in working with recreational folk dance groups in Canada and the United States\, Mexico and Brazil. They have been teaching in Europa (Austria\, England\, Poland\, Germany\, Italy\,  Norway\, Belgium\, Switzerland\, The Netherlands\, France) in Asia (Taiwan\, Hong Kong\, Japan\, Singapore\, Malaysia) and Australia  to share their love of Romanian folk traditions.  \nIn recent years\, Cristian and Sonia have developed a specific interest in working with recreational folk dance groups. They’ve been teaching in Brazil\, Canada and the United States\, Europe (Austria\, Belgium\, England\, Germany\, Italy\, Norway\, Switzerland and the Netherlands)\, Asia (Hong Kong\, Japan\, Singapore and Taiwan) to share their love of Romanian folk traditions. They have taught workshops in Canada and the United States and choreographed Romanian suites for performing groups\, including the world-renowned BYU Folk Dance Ensemble in Utah. Read more… \n\nMonte Toyon Camp & Conference Center\nHelgesson Hall\, Monte Toyon \nMonte Toyon Camp & Conference Center is an idyllic oasis right in the heart of Aptos\, California. Just a short drive from the west coast beaches you’ll head inland on a road that meanders through a beautiful wooded forest opening to our doorstep. Situated in a gorgeous and refreshing redwood forest setting\, there are short nature trails that circle the camp for a peaceful walk in forest beauty. Monte Toyon is a short drive to nearby Nisene Marks State Park\, Seacliff State Beach\, and Santa Cruz Beaches and Boardwalk. Wi-Fi is available in meeting areas. Read more…\nRegistration deadline: August 10\, 2025 \nRegister
URL:https://www.folkdance.com/event/ns-seminar-2025/
LOCATION:Monte Toyon\, 220 Cloister Lane\, Aptos\, CA\, 95003\, United States
CATEGORIES:Camp,Dance Party,Workshop
ORGANIZER;CN="North/South Folk Dance Seminar":MAILTO:northsouthfolkdance@gmail.com
END:VEVENT
BEGIN:VEVENT
DTSTART;TZID=America/Los_Angeles:20251012T190000
DTEND;TZID=America/Los_Angeles:20251012T220000
DTSTAMP:20260420T045729
CREATED:20250108T062403Z
LAST-MODIFIED:20251012T104251Z
UID:16153-1760295600-1760306400@www.folkdance.com
SUMMARY:Peninsula Folk Dance Party
DESCRIPTION:Help us welcome special guests Arianna Ordway (Croatian)\, Sonia Dion and Cristian Florescu (Romanian) to our Sunday evening\, October 12th\, Peninsula Folk Dance Party. This is not a teaching workshop; they are joining us to relax and party! We’ll include many of the dances we’ve learned from Sonia\, Cristian and Željko on the program. We’ll also be preparing some yummy Romanian snacks for you to try! MC will be Adony Beniares. Please bring a finger food snack to share. \nWe’ll have dances for all levels\, beginning to advanced\, and all forms (line\, couple\, and set). Dress comfortably in layers; sneakers or low-heeled dance shoes recommended. Donations to help cover the cost of the hall are welcome. We do dances from nearly every country in the world\, and the music is incredible.  \nSend your dance requests to pfdcparty@gmail.com along with any questions\, comments\, or suggestions.  \nPlease stay home if you are sick\, and please wear a mask if you are unsure or have been exposed to someone with a contagious illness. Thank you for your thoughtfulness.
URL:https://www.folkdance.com/event/pfdc-oct25/
LOCATION:St. Bede’s Church Hall\, 2650 Sand Hill Road\, Menlo Park\, CA\, United States
CATEGORIES:Dance Party
ATTACH;FMTTYPE=image/jpeg:https://www.folkdance.com/wp-content/uploads/2025/01/IMG_5337.jpg
ORGANIZER;CN="Peninsula Council":MAILTO:pfdcparty@gmail.com
END:VEVENT
END:VCALENDAR