BEGIN:VCALENDAR
VERSION:2.0
PRODID:-//Folk Dance Federation of California - ECPv6.15.20//NONSGML v1.0//EN
CALSCALE:GREGORIAN
METHOD:PUBLISH
X-WR-CALNAME:Folk Dance Federation of California
X-ORIGINAL-URL:https://www.folkdance.com
X-WR-CALDESC:Events for Folk Dance Federation of California
REFRESH-INTERVAL;VALUE=DURATION:PT1H
X-Robots-Tag:noindex
X-PUBLISHED-TTL:PT1H
BEGIN:VTIMEZONE
TZID:America/Los_Angeles
BEGIN:DAYLIGHT
TZOFFSETFROM:-0800
TZOFFSETTO:-0700
TZNAME:PDT
DTSTART:20240310T100000
END:DAYLIGHT
BEGIN:STANDARD
TZOFFSETFROM:-0700
TZOFFSETTO:-0800
TZNAME:PST
DTSTART:20241103T090000
END:STANDARD
BEGIN:DAYLIGHT
TZOFFSETFROM:-0800
TZOFFSETTO:-0700
TZNAME:PDT
DTSTART:20250309T100000
END:DAYLIGHT
BEGIN:STANDARD
TZOFFSETFROM:-0700
TZOFFSETTO:-0800
TZNAME:PST
DTSTART:20251102T090000
END:STANDARD
BEGIN:DAYLIGHT
TZOFFSETFROM:-0800
TZOFFSETTO:-0700
TZNAME:PDT
DTSTART:20260308T100000
END:DAYLIGHT
BEGIN:STANDARD
TZOFFSETFROM:-0700
TZOFFSETTO:-0800
TZNAME:PST
DTSTART:20261101T090000
END:STANDARD
END:VTIMEZONE
BEGIN:VEVENT
DTSTART;TZID=America/Los_Angeles:20250904T193000
DTEND;TZID=America/Los_Angeles:20250904T221500
DTSTAMP:20260420T064815
CREATED:20250808T194515Z
LAST-MODIFIED:20250808T195423Z
UID:16694-1757014200-1757024100@www.folkdance.com
SUMMARY:Citrus Celebration Party (Orange You Glad to See Us?)
DESCRIPTION:Citrus Celebration Party\n(Orange You Glad to See Us?)\n\n\n\n\n\nDance with the Saratoga International Folk Dancers for their citrus themed party. Use your imagination and come dressed for the theme. Bring a snack to share for the refreshment table. \nWarmup and dances for beginners between 7:30 and 8:15pm. The dance party follows until 10:00-10:15pm.  \nThis is a large\, friendly group; you won’t be disappointed! Drop in fee $8\, seniors $6\, and first visit free. No charge for non-dancers and children. Discounts and scholarships available. No one will be turned away for lack of funds. More details…
URL:https://www.folkdance.com/event/sifd-sep25/
LOCATION:St. Archangel Michael Serbian Orthodox Church\, 18870 Allendale Avenue\, Saratoga\, California\, 95070
CATEGORIES:Dance Party
ATTACH;FMTTYPE=image/jpeg:https://www.folkdance.com/wp-content/uploads/2025/08/StockCake-Dancing-Fruit-Friends_1754681587.jpg
ORGANIZER;CN="Saratoga International Folk Dancers":MAILTO:loui@louitucker.com
END:VEVENT
END:VCALENDAR