BEGIN:VCALENDAR
VERSION:2.0
PRODID:-//Folk Dance Federation of California - ECPv6.15.20//NONSGML v1.0//EN
CALSCALE:GREGORIAN
METHOD:PUBLISH
X-ORIGINAL-URL:https://www.folkdance.com
X-WR-CALDESC:Events for Folk Dance Federation of California
REFRESH-INTERVAL;VALUE=DURATION:PT1H
X-Robots-Tag:noindex
X-PUBLISHED-TTL:PT1H
BEGIN:VTIMEZONE
TZID:America/Los_Angeles
BEGIN:DAYLIGHT
TZOFFSETFROM:-0800
TZOFFSETTO:-0700
TZNAME:PDT
DTSTART:20240310T100000
END:DAYLIGHT
BEGIN:STANDARD
TZOFFSETFROM:-0700
TZOFFSETTO:-0800
TZNAME:PST
DTSTART:20241103T090000
END:STANDARD
BEGIN:DAYLIGHT
TZOFFSETFROM:-0800
TZOFFSETTO:-0700
TZNAME:PDT
DTSTART:20250309T100000
END:DAYLIGHT
BEGIN:STANDARD
TZOFFSETFROM:-0700
TZOFFSETTO:-0800
TZNAME:PST
DTSTART:20251102T090000
END:STANDARD
BEGIN:DAYLIGHT
TZOFFSETFROM:-0800
TZOFFSETTO:-0700
TZNAME:PDT
DTSTART:20260308T100000
END:DAYLIGHT
BEGIN:STANDARD
TZOFFSETFROM:-0700
TZOFFSETTO:-0800
TZNAME:PST
DTSTART:20261101T090000
END:STANDARD
END:VTIMEZONE
BEGIN:VEVENT
DTSTART;VALUE=DATE:20250720
DTEND;VALUE=DATE:20250803
DTSTAMP:20260419T124847
CREATED:20241024T143447Z
LAST-MODIFIED:20250701T224628Z
UID:15862-1752969600-1754179199@www.folkdance.com
SUMMARY:Stockton Folk Dance Camp
DESCRIPTION:July 2025\, Stockton Folk Dance Camp’s 78th summer\, will feature \n\nEdwin G. “Ed” Austin 💖 Classic Dances\nSonia Dion and Cristian Florescu 💖 Romanian\nRoo Lester 💖 Spanish Basque\nRichard Powers 💖 American and European Partner Dances\nAndy Taylor 💖 Carpathian\nRichard Schmidt 💖 Polish Couple Dances\nStacy Rose 💖 Contras\nBand: Tom Pixton\, Ralph Iverson\, and Brian Wilson\n\nCome dance with them all!\nOur Artists teach the same dances both weeks\, but the Assemblies\, Parties\, and Evening Dancing are different each week. \nStockton Folk Dance Camp 2025 will be held during the following weeks: \nWeek 1 – July 20 – 26\nWeek 2 – July 27 – Aug 2 \nFor more details Click Here \nRegister
URL:https://www.folkdance.com/event/stockton-camp-2025/
LOCATION:University of the Pacific\, 3601 Pacific Ave\, Stockton\, CA\, 95211\, United States
CATEGORIES:Dance Party,Live Music,Workshop
ATTACH;FMTTYPE=image/png:https://www.folkdance.com/wp-content/uploads/2024/10/header-600x191-1.png
END:VEVENT
BEGIN:VEVENT
DTSTART;TZID=America/Los_Angeles:20250728T190000
DTEND;TZID=America/Los_Angeles:20250728T210000
DTSTAMP:20260419T124847
CREATED:20250723T130806Z
LAST-MODIFIED:20250723T131220Z
UID:16656-1753729200-1753736400@www.folkdance.com
SUMMARY:Dance Party with Greg Jenkins & Friends
DESCRIPTION:We love a party at GreekFeet and what a wonderful way to spend a Monday night dancing and listening to Greek music to the tunes of Greg and Friends.  Join us for a night of hospitality\, dancing\, and good vibes! \nGreg has managed to put together a group of talented Bay Area musicians just for our GreekFeet Party.  Greg and Friends will take you on a magical musical journey to Greece with a diverse repertoire from the deep\, soulful tunes of Epiros to the joyful\, spirited music of the Greek Islands.   \nBand\n\nGreg Jenkins on clarinet\, bouzouki and vocals\nAri Langer on violin\nJenette Selin on accordion and santouri\nMichael Garibaldi on Percussion\n\nGreekFeet meets at the Joe Goode Annex\, 401 Alabama Street at 17th Street\, San Francisco. Please ring the bell at the Gate and we will buzz you in
URL:https://www.folkdance.com/event/greg-jenkins-and-friends/
LOCATION:Joe Goode Annex\, 401 Alabama at 17th Street\, San Francisco\, CA\, 94110\, United States
CATEGORIES:Dance Party,Live Music
ATTACH;FMTTYPE=image/png:https://www.folkdance.com/wp-content/uploads/2024/10/Greek-Dancers-with-Meteora-Monasteries.png
ORGANIZER;CN="Greek Feet":MAILTO:greekfeet@icloud.com
END:VEVENT
END:VCALENDAR