BEGIN:VCALENDAR
VERSION:2.0
PRODID:-//Folk Dance Federation of California - ECPv6.15.20//NONSGML v1.0//EN
CALSCALE:GREGORIAN
METHOD:PUBLISH
X-ORIGINAL-URL:https://www.folkdance.com
X-WR-CALDESC:Events for Folk Dance Federation of California
REFRESH-INTERVAL;VALUE=DURATION:PT1H
X-Robots-Tag:noindex
X-PUBLISHED-TTL:PT1H
BEGIN:VTIMEZONE
TZID:America/Los_Angeles
BEGIN:DAYLIGHT
TZOFFSETFROM:-0800
TZOFFSETTO:-0700
TZNAME:PDT
DTSTART:20230312T100000
END:DAYLIGHT
BEGIN:STANDARD
TZOFFSETFROM:-0700
TZOFFSETTO:-0800
TZNAME:PST
DTSTART:20231105T090000
END:STANDARD
BEGIN:DAYLIGHT
TZOFFSETFROM:-0800
TZOFFSETTO:-0700
TZNAME:PDT
DTSTART:20240310T100000
END:DAYLIGHT
BEGIN:STANDARD
TZOFFSETFROM:-0700
TZOFFSETTO:-0800
TZNAME:PST
DTSTART:20241103T090000
END:STANDARD
BEGIN:DAYLIGHT
TZOFFSETFROM:-0800
TZOFFSETTO:-0700
TZNAME:PDT
DTSTART:20250309T100000
END:DAYLIGHT
BEGIN:STANDARD
TZOFFSETFROM:-0700
TZOFFSETTO:-0800
TZNAME:PST
DTSTART:20251102T090000
END:STANDARD
END:VTIMEZONE
BEGIN:VEVENT
DTSTART;VALUE=DATE:20240510
DTEND;VALUE=DATE:20240513
DTSTAMP:20260422T232150
CREATED:20240306T092959Z
LAST-MODIFIED:20240430T080820Z
UID:15177-1715299200-1715558399@www.folkdance.com
SUMMARY:Int'l Folkdance Camp
DESCRIPTION:An amazing International Folk Dance weekend with great teachers in Hopewell Junction\, NY.  \nTeachers are Petur Iliev (Bulgarian Dance) and Caspar Bik (Int’l & Georgian Dance). Petur is a renowned dancer previously in Bulgaria’s Ensemble Filip Koutev and now teaches professional and non-professional dance companies all across the US and Canada. His career is deeply steeped in the rich folk dance traditions of his family. Caspar is a rising star in the field of folkdance teachers. Born in the Netherlands\, his teaching style is impeccably clear\, precise and authentic; his selection of music is ideally suited for recreational dance groups. You will love meeting and learning from both of them! \nCamp includes: Huge Wooden Dance Floor\, Delicious Meals & Snacks\, Evening Dance Parties \nMore Information and Registration
URL:https://www.folkdance.com/event/ifc-2024/
LOCATION:Circle Lodge on Sylvan Lake\, 355 Sylvan Lake Rd\, Hopewell Junction\, NY\, 12533\, United States
CATEGORIES:Camp,Dance Party,Live Music,Workshop
ATTACH;FMTTYPE=image/jpeg:https://www.folkdance.com/wp-content/uploads/2024/03/Dance-party-2015.jpg
ORGANIZER;CN="IFC":MAILTO:DanceIFC@gmail.com
END:VEVENT
BEGIN:VEVENT
DTSTART;TZID=America/Los_Angeles:20240510T190000
DTEND;TZID=America/Los_Angeles:20240510T220000
DTSTAMP:20260422T232150
CREATED:20240509T160554Z
LAST-MODIFIED:20240509T161511Z
UID:15389-1715367600-1715378400@www.folkdance.com
SUMMARY:Changs International Folk Dancers Party with Da! Mozhem
DESCRIPTION:Dance to your favorite international tunes with Da! Mozhem and Changs International Folk Dancers. Please bring a snack to share. \n$5 plus tips for the band.  \nREMEMBER: Please help with set up and/or clean up if you can\, remember that we are a fragrance/scent free club\, and please bring your own bottle or cup to get water. \nMasks are not required\, but are recommended. Please remember not to attend if you feel ill\, have been exposed recently or have traveled to a COVID hot spot recently. \nDa! Mozhem\nDa! Mozhem plays and sings high-energy pan-Balkan music for the joy of dancing.  D!M is a group of friends who have been playing together for well over a decade. The group has veterans from many excellent folklore bands such as the People’s International Silver String Macedonian Band\, Born to Drone\, Westwind\, Sviraci\, and the Slavonian Traveling Band.  The band plays with emphasis on Bulgarian\, Macedonian\, and ex-Yugoslav traditions.  Several members frequently travel to the Balkans to learn more about the folkloric music of the region.  The group plays on traditional instruments unique to the region as well as modern instruments.
URL:https://www.folkdance.com/event/changs-da-mozhem-24/
LOCATION:Miraloma Park Clubhouse\, 350 O’Shaughnessey Boulevard (at Del Vale Avenue)\, San Francisco\, CA\, 94127\, United States
CATEGORIES:Dance Party
ATTACH;FMTTYPE=image/jpeg:https://www.folkdance.com/wp-content/uploads/2019/02/14502596266_155847aa8f_b.jpg
ORGANIZER;CN="Changs International Folk Dancers":MAILTO:changsdancers@aol.com
END:VEVENT
END:VCALENDAR