BEGIN:VCALENDAR
VERSION:2.0
PRODID:-//Folk Dance Federation of California - ECPv6.15.20//NONSGML v1.0//EN
CALSCALE:GREGORIAN
METHOD:PUBLISH
X-WR-CALNAME:Folk Dance Federation of California
X-ORIGINAL-URL:https://www.folkdance.com
X-WR-CALDESC:Events for Folk Dance Federation of California
REFRESH-INTERVAL;VALUE=DURATION:PT1H
X-Robots-Tag:noindex
X-PUBLISHED-TTL:PT1H
BEGIN:VTIMEZONE
TZID:America/Los_Angeles
BEGIN:DAYLIGHT
TZOFFSETFROM:-0800
TZOFFSETTO:-0700
TZNAME:PDT
DTSTART:20220313T100000
END:DAYLIGHT
BEGIN:STANDARD
TZOFFSETFROM:-0700
TZOFFSETTO:-0800
TZNAME:PST
DTSTART:20221106T090000
END:STANDARD
BEGIN:DAYLIGHT
TZOFFSETFROM:-0800
TZOFFSETTO:-0700
TZNAME:PDT
DTSTART:20230312T100000
END:DAYLIGHT
BEGIN:STANDARD
TZOFFSETFROM:-0700
TZOFFSETTO:-0800
TZNAME:PST
DTSTART:20231105T090000
END:STANDARD
BEGIN:DAYLIGHT
TZOFFSETFROM:-0800
TZOFFSETTO:-0700
TZNAME:PDT
DTSTART:20240310T100000
END:DAYLIGHT
BEGIN:STANDARD
TZOFFSETFROM:-0700
TZOFFSETTO:-0800
TZNAME:PST
DTSTART:20241103T090000
END:STANDARD
END:VTIMEZONE
BEGIN:VEVENT
DTSTART;TZID=America/Los_Angeles:20230730T130000
DTEND;TZID=America/Los_Angeles:20230730T160000
DTSTAMP:20260420T220339
CREATED:20230624T181255Z
LAST-MODIFIED:20230624T182448Z
UID:10000830-1690722000-1690732800@www.folkdance.com
SUMMARY:Beginner Class Dance Party
DESCRIPTION:Beginner Class Dance Party! Theme to be announced. \nBerkeley Folk Dancers (BFD) has been active in Berkeley for over 80 years! It is a group of over 100 people of all ages who enjoy doing a great variety of folk dances. All kinds of people belong to BFD\, from teenagers to retired people. Couples and singles are equally welcome. Lessons on four levels are held weekly; parties and special events are scheduled throughout the year.
URL:https://www.folkdance.com/event/beginner-class-dance-party/
LOCATION:Live Oak Recreation Center\, 1301 Shattuck Avenue (at Berryman)\, Berkeley\, CA\, 94709 \, United States
CATEGORIES:Dance Party
ATTACH;FMTTYPE=image/jpeg:https://www.folkdance.com/wp-content/uploads/2023/06/birthday-ball-bfd.jpg
GEO:37.8838082;-122.2691549
X-APPLE-STRUCTURED-LOCATION;VALUE=URI;X-ADDRESS=Live Oak Recreation Center 1301 Shattuck Avenue (at Berryman) Berkeley CA 94709  United States;X-APPLE-RADIUS=500;X-TITLE=1301 Shattuck Avenue (at Berryman):geo:-122.2691549,37.8838082
END:VEVENT
END:VCALENDAR