BEGIN:VCALENDAR
VERSION:2.0
PRODID:-//Folk Dance Federation of California - ECPv6.15.20//NONSGML v1.0//EN
CALSCALE:GREGORIAN
METHOD:PUBLISH
X-ORIGINAL-URL:https://www.folkdance.com
X-WR-CALDESC:Events for Folk Dance Federation of California
REFRESH-INTERVAL;VALUE=DURATION:PT1H
X-Robots-Tag:noindex
X-PUBLISHED-TTL:PT1H
BEGIN:VTIMEZONE
TZID:America/Los_Angeles
BEGIN:DAYLIGHT
TZOFFSETFROM:-0800
TZOFFSETTO:-0700
TZNAME:PDT
DTSTART:20190310T100000
END:DAYLIGHT
BEGIN:STANDARD
TZOFFSETFROM:-0700
TZOFFSETTO:-0800
TZNAME:PST
DTSTART:20191103T090000
END:STANDARD
BEGIN:DAYLIGHT
TZOFFSETFROM:-0800
TZOFFSETTO:-0700
TZNAME:PDT
DTSTART:20200308T100000
END:DAYLIGHT
BEGIN:STANDARD
TZOFFSETFROM:-0700
TZOFFSETTO:-0800
TZNAME:PST
DTSTART:20201101T090000
END:STANDARD
BEGIN:DAYLIGHT
TZOFFSETFROM:-0800
TZOFFSETTO:-0700
TZNAME:PDT
DTSTART:20210314T100000
END:DAYLIGHT
BEGIN:STANDARD
TZOFFSETFROM:-0700
TZOFFSETTO:-0800
TZNAME:PST
DTSTART:20211107T090000
END:STANDARD
END:VTIMEZONE
BEGIN:VEVENT
DTSTART;TZID=America/Los_Angeles:20200125T130000
DTEND;TZID=America/Los_Angeles:20200125T160000
DTSTAMP:20260423T062555
CREATED:20191205T160705Z
LAST-MODIFIED:20191205T161215Z
UID:10132-1579957200-1579968000@www.folkdance.com
SUMMARY:2020 Scholarship Ball
DESCRIPTION:GOLD DIGGERS DANCE\nEach year the Sacramento Folk Dance Council (SIFDAC) raises funds for scholarships to attend folk dance camps through donations from the Scholarship Ball. Eligible candidates are selected based on procedures and requirements determined by SIFDAC. \nPlease bring finger food to share–thank you!  Why not dress as “gold diggers” in denim or “fancy dress!” \nDOWNLOAD\, print\, and share a flier! \nDance requests will not be sold this year\, but SIFDAC member clubs are invited to pre-request popular dances–half of the program will be Golden Oldies and half will be Newer Dances.  The pre-request deadline will be the end of 2019. \nIn early January 2020\, preview the 2020 Scholarship Ball program\, plus visit membership and scholarship application details. \nThank you for your support in helping local dancers attend folk dance camps via our SIFDAC scholarships!
URL:https://www.folkdance.com/event/2020-scholarship-ball/
LOCATION:IOOF Hall\, 467 Main Street\, Placerville\, CA\, 95667\, United States
CATEGORIES:Dance Party
ATTACH;FMTTYPE=image/jpeg:https://www.folkdance.com/wp-content/uploads/2019/12/sb_flyer_2020_gold_diggers_dance_2.jpg
ORGANIZER;CN="Sacramento Folk Dance Council":MAILTO:sifdac@folkdancesac.org
END:VEVENT
END:VCALENDAR