BEGIN:VCALENDAR
VERSION:2.0
PRODID:-//Folk Dance Federation of California - ECPv6.15.20//NONSGML v1.0//EN
CALSCALE:GREGORIAN
METHOD:PUBLISH
X-ORIGINAL-URL:https://www.folkdance.com
X-WR-CALDESC:Events for Folk Dance Federation of California
REFRESH-INTERVAL;VALUE=DURATION:PT1H
X-Robots-Tag:noindex
X-PUBLISHED-TTL:PT1H
BEGIN:VTIMEZONE
TZID:America/Los_Angeles
BEGIN:DAYLIGHT
TZOFFSETFROM:-0800
TZOFFSETTO:-0700
TZNAME:PDT
DTSTART:20190310T100000
END:DAYLIGHT
BEGIN:STANDARD
TZOFFSETFROM:-0700
TZOFFSETTO:-0800
TZNAME:PST
DTSTART:20191103T090000
END:STANDARD
BEGIN:DAYLIGHT
TZOFFSETFROM:-0800
TZOFFSETTO:-0700
TZNAME:PDT
DTSTART:20200308T100000
END:DAYLIGHT
BEGIN:STANDARD
TZOFFSETFROM:-0700
TZOFFSETTO:-0800
TZNAME:PST
DTSTART:20201101T090000
END:STANDARD
BEGIN:DAYLIGHT
TZOFFSETFROM:-0800
TZOFFSETTO:-0700
TZNAME:PDT
DTSTART:20210314T100000
END:DAYLIGHT
BEGIN:STANDARD
TZOFFSETFROM:-0700
TZOFFSETTO:-0800
TZNAME:PST
DTSTART:20211107T090000
END:STANDARD
END:VTIMEZONE
BEGIN:VEVENT
DTSTART;TZID=America/Los_Angeles:20200119T123000
DTEND;TZID=America/Los_Angeles:20200119T150000
DTSTAMP:20260422T141155
CREATED:20200115T185749Z
LAST-MODIFIED:20200115T185820Z
UID:10262-1579437000-1579446000@www.folkdance.com
SUMMARY:San Leandro Folk Dance 1st Year Celebration
DESCRIPTION:Please join us in celebrating one year of sharing folk dance in the mid-East Bay.  The renowned Loui Tucker shares her teaching skill.   \n12:30 – 1:00pm Noshing\n1:00 – 3:00pm Class \nBe our guest! No class fees this day! \nShare with your wannabe-a-dancer friends\, especially if they live in the East Bay.  New dancers welcome!  No need to bring a partner\, but bring a friend to share the fun.  Wear comfortable shoes.  Bottled water is a good idea too. \nFree on-street parking and at Safeway city lot 1/2 block away. Give yourself some time to park. It’s only a short 4 block walk from the San Leandro Bart station to the studio.
URL:https://www.folkdance.com/event/first-birthday-celebration/
LOCATION:DC Dance Center\, 1555 Washington Avenue\, San Leandro\, CA\, 94577\, United States
CATEGORIES:Class,Dance Party
ATTACH;FMTTYPE=image/jpeg:https://www.folkdance.com/wp-content/uploads/2019/02/san-leandro-dancers-oct-2019-6___12201236931.jpg
ORGANIZER;CN="San Leandro Folk Dance":MAILTO:sanleandrofolkdance@gmail.com
END:VEVENT
END:VCALENDAR