BEGIN:VCALENDAR
VERSION:2.0
PRODID:-//Folk Dance Federation of California - ECPv6.15.20//NONSGML v1.0//EN
CALSCALE:GREGORIAN
METHOD:PUBLISH
X-WR-CALNAME:Folk Dance Federation of California
X-ORIGINAL-URL:https://www.folkdance.com
X-WR-CALDESC:Events for Folk Dance Federation of California
REFRESH-INTERVAL;VALUE=DURATION:PT1H
X-Robots-Tag:noindex
X-PUBLISHED-TTL:PT1H
BEGIN:VTIMEZONE
TZID:America/Los_Angeles
BEGIN:DAYLIGHT
TZOFFSETFROM:-0800
TZOFFSETTO:-0700
TZNAME:PDT
DTSTART:20190310T100000
END:DAYLIGHT
BEGIN:STANDARD
TZOFFSETFROM:-0700
TZOFFSETTO:-0800
TZNAME:PST
DTSTART:20191103T090000
END:STANDARD
BEGIN:DAYLIGHT
TZOFFSETFROM:-0800
TZOFFSETTO:-0700
TZNAME:PDT
DTSTART:20200308T100000
END:DAYLIGHT
BEGIN:STANDARD
TZOFFSETFROM:-0700
TZOFFSETTO:-0800
TZNAME:PST
DTSTART:20201101T090000
END:STANDARD
BEGIN:DAYLIGHT
TZOFFSETFROM:-0800
TZOFFSETTO:-0700
TZNAME:PDT
DTSTART:20210314T100000
END:DAYLIGHT
BEGIN:STANDARD
TZOFFSETFROM:-0700
TZOFFSETTO:-0800
TZNAME:PST
DTSTART:20211107T090000
END:STANDARD
END:VTIMEZONE
BEGIN:VEVENT
DTSTART;TZID=America/Los_Angeles:20200103T193000
DTEND;TZID=America/Los_Angeles:20200103T220000
DTSTAMP:20260419T165939
CREATED:20180404T031956Z
LAST-MODIFIED:20191230T232825Z
UID:8434-1578079800-1578088800@www.folkdance.com
SUMMARY:Dance Party with Da! Mozhem
DESCRIPTION:International Dance Party with Da! Mozhem Dance to your favorite international tunes with Da! Mozhem. \nBring snacks and non-alcoholic beverages to help make it a party\, and tips for the band!  \nDa! Mozhem\nDa! Mozhem is quite possibly the largest folk dance band popular today in the Bay Area. Da! Mozhem plays and sings high-energy pan-Balkan music for the joy of dancing. D!M is a group of friends who have been playing together for well over a decade. The group has veterans from many excellent folklore bands such as the People’s International Silver String Macedonian Band\, Born to Drone\, Westwind\, Sviraci\, and the Slavonian Travelling Band. The band plays with emphasis on Bulgarian\, Macedonian\, and ex-Yugoslav traditions. Several members frequently travel to the Balkans to learn more about the folkloric music of the region. The group plays on traditional instruments unique to the region as well as modern instruments. Its members for this party are John Burke (accordion\, vocals)\, Joyce Clyde (gadulka\, vocals)\, Sonne Lemke (vocals)\, Paul Litsky (tambura)\, Alan Moore (accordion\, kaval)\, Barbara Saxton (vocals)\, Lew Smith (doumbek\, tupan)\, Ginny Snyder (clarinet\, tambura\, accordion\, brach\, gajda\, vocals)\, Holly Thuman (bass\, vocals)\, Nettie Wijsman (vocals)\, and Radmila Zaric (vocals)
URL:https://www.folkdance.com/event/dance-party-with-da-mozem/
LOCATION:Bethany Lutheran Church\, 1095 Cloud Avenue\, Menlo Park\, CA\, 94025\, United States
CATEGORIES:Dance Party,Live Music
ATTACH;FMTTYPE=image/jpeg:https://www.folkdance.com/wp-content/uploads/2018/04/8U7A5215.jpg
ORGANIZER;CN="Stanford Folk Dancers":MAILTO:info@stanfordfolkdance.com
END:VEVENT
END:VCALENDAR