BEGIN:VCALENDAR
VERSION:2.0
PRODID:-//Folk Dance Federation of California - ECPv6.15.20//NONSGML v1.0//EN
CALSCALE:GREGORIAN
METHOD:PUBLISH
X-ORIGINAL-URL:https://www.folkdance.com
X-WR-CALDESC:Events for Folk Dance Federation of California
REFRESH-INTERVAL;VALUE=DURATION:PT1H
X-Robots-Tag:noindex
X-PUBLISHED-TTL:PT1H
BEGIN:VTIMEZONE
TZID:America/Los_Angeles
BEGIN:DAYLIGHT
TZOFFSETFROM:-0800
TZOFFSETTO:-0700
TZNAME:PDT
DTSTART:20180311T100000
END:DAYLIGHT
BEGIN:STANDARD
TZOFFSETFROM:-0700
TZOFFSETTO:-0800
TZNAME:PST
DTSTART:20181104T090000
END:STANDARD
BEGIN:DAYLIGHT
TZOFFSETFROM:-0800
TZOFFSETTO:-0700
TZNAME:PDT
DTSTART:20190310T100000
END:DAYLIGHT
BEGIN:STANDARD
TZOFFSETFROM:-0700
TZOFFSETTO:-0800
TZNAME:PST
DTSTART:20191103T090000
END:STANDARD
BEGIN:DAYLIGHT
TZOFFSETFROM:-0800
TZOFFSETTO:-0700
TZNAME:PDT
DTSTART:20200308T100000
END:DAYLIGHT
BEGIN:STANDARD
TZOFFSETFROM:-0700
TZOFFSETTO:-0800
TZNAME:PST
DTSTART:20201101T090000
END:STANDARD
BEGIN:DAYLIGHT
TZOFFSETFROM:-0800
TZOFFSETTO:-0700
TZNAME:PDT
DTSTART:20210314T100000
END:DAYLIGHT
BEGIN:STANDARD
TZOFFSETFROM:-0700
TZOFFSETTO:-0800
TZNAME:PST
DTSTART:20211107T090000
END:STANDARD
END:VTIMEZONE
BEGIN:VEVENT
DTSTART;TZID=America/Los_Angeles:20191231T210000
DTEND;TZID=America/Los_Angeles:20200101T000000
DTSTAMP:20260419T184134
CREATED:20191203T032425Z
LAST-MODIFIED:20191203T032425Z
UID:10109-1577826000-1577836800@www.folkdance.com
SUMMARY:BFD New Year's Eve Party
DESCRIPTION:HAPPY NEW YEAR 2020!!! Come celebrate with BFD! \nIt’s Tuesday night\, December 31st (of course) from 9pm to Midnight \nmembers $5\, non-members $7 \nWear your slinky\, sultry\, elegant\, fancy duds (or just comfy garments) and get ready to dance the night away. Bring some snacks to share with the crowd. It is an all request night\, so bring a list of your favorite dances (written out or in your agile brain).
URL:https://www.folkdance.com/event/bfd-new-years-eve-party/
LOCATION:Francis Albrier Community Center\, 2800 Park Street\, Berkeley\, CA\, 80\, United States
CATEGORIES:Dance Party
ATTACH;FMTTYPE=image/png:https://www.folkdance.com/wp-content/uploads/2018/09/new-year-582250_1920.png
END:VEVENT
END:VCALENDAR