BEGIN:VCALENDAR
VERSION:2.0
PRODID:-//Folk Dance Federation of California - ECPv6.15.20//NONSGML v1.0//EN
CALSCALE:GREGORIAN
METHOD:PUBLISH
X-ORIGINAL-URL:https://www.folkdance.com
X-WR-CALDESC:Events for Folk Dance Federation of California
REFRESH-INTERVAL;VALUE=DURATION:PT1H
X-Robots-Tag:noindex
X-PUBLISHED-TTL:PT1H
BEGIN:VTIMEZONE
TZID:America/Los_Angeles
BEGIN:DAYLIGHT
TZOFFSETFROM:-0800
TZOFFSETTO:-0700
TZNAME:PDT
DTSTART:20180311T100000
END:DAYLIGHT
BEGIN:STANDARD
TZOFFSETFROM:-0700
TZOFFSETTO:-0800
TZNAME:PST
DTSTART:20181104T090000
END:STANDARD
BEGIN:DAYLIGHT
TZOFFSETFROM:-0800
TZOFFSETTO:-0700
TZNAME:PDT
DTSTART:20190310T100000
END:DAYLIGHT
BEGIN:STANDARD
TZOFFSETFROM:-0700
TZOFFSETTO:-0800
TZNAME:PST
DTSTART:20191103T090000
END:STANDARD
BEGIN:DAYLIGHT
TZOFFSETFROM:-0800
TZOFFSETTO:-0700
TZNAME:PDT
DTSTART:20200308T100000
END:DAYLIGHT
BEGIN:STANDARD
TZOFFSETFROM:-0700
TZOFFSETTO:-0800
TZNAME:PST
DTSTART:20201101T090000
END:STANDARD
END:VTIMEZONE
BEGIN:VEVENT
DTSTART;TZID=America/Los_Angeles:20191219T193000
DTEND;TZID=America/Los_Angeles:20191219T220000
DTSTAMP:20260419T120333
CREATED:20191026T185523Z
LAST-MODIFIED:20191026T191557Z
UID:9956-1576783800-1576792800@www.folkdance.com
SUMMARY:Winter Solstice Celebration
DESCRIPTION:Celebrate Winter Solstice in an evening of dance\, music\, and Mandala’s annual bell ringing ceremony!  Bring your own bell or borrow one of ours.  Join us in the ringing of bells to scare away the demons of darkness and welcome the sunlight’s return showing the way to spring.  Some refreshments are provided and you are welcome to add to the table.
URL:https://www.folkdance.com/event/winter-solstice-celebration/
LOCATION:St. Paul’s Presbyterian Church\, 1399 43rd Ave\, at Judah St.\, San Francisco\, CA\, 94122\, United States
CATEGORIES:Dance Party
ATTACH;FMTTYPE=image/jpeg:https://www.folkdance.com/wp-content/uploads/2018/11/bells.jpeg
ORGANIZER;CN="Mandala Folk Dance":MAILTO:paulbourbin@hotmail.com
END:VEVENT
END:VCALENDAR