BEGIN:VCALENDAR
VERSION:2.0
PRODID:-//Folk Dance Federation of California - ECPv6.15.20//NONSGML v1.0//EN
CALSCALE:GREGORIAN
METHOD:PUBLISH
X-ORIGINAL-URL:https://www.folkdance.com
X-WR-CALDESC:Events for Folk Dance Federation of California
REFRESH-INTERVAL;VALUE=DURATION:PT1H
X-Robots-Tag:noindex
X-PUBLISHED-TTL:PT1H
BEGIN:VTIMEZONE
TZID:America/Los_Angeles
BEGIN:DAYLIGHT
TZOFFSETFROM:-0800
TZOFFSETTO:-0700
TZNAME:PDT
DTSTART:20180311T100000
END:DAYLIGHT
BEGIN:STANDARD
TZOFFSETFROM:-0700
TZOFFSETTO:-0800
TZNAME:PST
DTSTART:20181104T090000
END:STANDARD
BEGIN:DAYLIGHT
TZOFFSETFROM:-0800
TZOFFSETTO:-0700
TZNAME:PDT
DTSTART:20190310T100000
END:DAYLIGHT
BEGIN:STANDARD
TZOFFSETFROM:-0700
TZOFFSETTO:-0800
TZNAME:PST
DTSTART:20191103T090000
END:STANDARD
BEGIN:DAYLIGHT
TZOFFSETFROM:-0800
TZOFFSETTO:-0700
TZNAME:PDT
DTSTART:20200308T100000
END:DAYLIGHT
BEGIN:STANDARD
TZOFFSETFROM:-0700
TZOFFSETTO:-0800
TZNAME:PST
DTSTART:20201101T090000
END:STANDARD
END:VTIMEZONE
BEGIN:VEVENT
DTSTART;TZID=America/Los_Angeles:20191213T193000
DTEND;TZID=America/Los_Angeles:20191213T220000
DTSTAMP:20260419T100553
CREATED:20191031T154352Z
LAST-MODIFIED:20191209T191731Z
UID:9994-1576265400-1576274400@www.folkdance.com
SUMMARY:Balkan Dance Party with Zabava International!
DESCRIPTION:Live Balkan music and dancing to Bill Cope and Zabava International! Stanford International Dancers is also celebrating Melissa Miller’s birthday! It’s a party night\, so snacks and drinks are welcome\, as are tips for the band. \nBill Cope \nZabava International!\nEnergetic\, soulful\, and rhythmically dazzling music played from the center of the dance floor–music from Albania\, America\, Armenia\, Bulgaria\, Croatia\, Greece\, Hungary\, Israel\, Macedonia\, Norway\, the Romani\, Romania\, Serbia\, South Africa\, Sweden and Turkey traditions. The musicians recreate the vibrant interplay of traditional music and dance from the cultural crossroads. \nMichele Simon: Vocals & percussion\nValerie Rose: Violin\nTom Farris: Chordophones & percussion\nBill Cope: Bagpipes\, chordophones\, keyboard\, (and more?) \nMore details…
URL:https://www.folkdance.com/event/zabava-international/
LOCATION:Bethany Lutheran Church\, 1095 Cloud Avenue\, Menlo Park\, CA\, 94025\, United States
CATEGORIES:Dance Party,Live Music
ATTACH;FMTTYPE=image/jpeg:https://www.folkdance.com/wp-content/uploads/2019/10/8U7A7007.jpg
ORGANIZER;CN="Stanford Folk Dancers":MAILTO:info@stanfordfolkdance.com
END:VEVENT
END:VCALENDAR