BEGIN:VCALENDAR
VERSION:2.0
PRODID:-//Folk Dance Federation of California - ECPv6.15.20//NONSGML v1.0//EN
CALSCALE:GREGORIAN
METHOD:PUBLISH
X-WR-CALNAME:Folk Dance Federation of California
X-ORIGINAL-URL:https://www.folkdance.com
X-WR-CALDESC:Events for Folk Dance Federation of California
REFRESH-INTERVAL;VALUE=DURATION:PT1H
X-Robots-Tag:noindex
X-PUBLISHED-TTL:PT1H
BEGIN:VTIMEZONE
TZID:America/Los_Angeles
BEGIN:DAYLIGHT
TZOFFSETFROM:-0800
TZOFFSETTO:-0700
TZNAME:PDT
DTSTART:20240310T100000
END:DAYLIGHT
BEGIN:STANDARD
TZOFFSETFROM:-0700
TZOFFSETTO:-0800
TZNAME:PST
DTSTART:20241103T090000
END:STANDARD
BEGIN:DAYLIGHT
TZOFFSETFROM:-0800
TZOFFSETTO:-0700
TZNAME:PDT
DTSTART:20250309T100000
END:DAYLIGHT
BEGIN:STANDARD
TZOFFSETFROM:-0700
TZOFFSETTO:-0800
TZNAME:PST
DTSTART:20251102T090000
END:STANDARD
BEGIN:DAYLIGHT
TZOFFSETFROM:-0800
TZOFFSETTO:-0700
TZNAME:PDT
DTSTART:20260308T100000
END:DAYLIGHT
BEGIN:STANDARD
TZOFFSETFROM:-0700
TZOFFSETTO:-0800
TZNAME:PST
DTSTART:20261101T090000
END:STANDARD
END:VTIMEZONE
BEGIN:VEVENT
DTSTART;VALUE=DATE:20251031
DTEND;VALUE=DATE:20251103
DTSTAMP:20260420T003913
CREATED:20250626T011835Z
LAST-MODIFIED:20250626T023932Z
UID:16590-1761868800-1762127999@www.folkdance.com
SUMMARY:Fall Camp 2025
DESCRIPTION:Join us at Fall Camp 2025 for another magical\, fun-filled weekend of dance\, music\, crafts\, nature\, and camaraderie.  \nThis year\, Fall Camp 2025 will feature one main teacher\, Catherine Rudin\, plus several of our own California-based dance teachers.  Catherine will present an eclectic mix of forgotten-classic and recent captivating dances\, with particular attention to styling details that make a dance specific to a time and place. She has danced for more than 5 decades\, enjoying a wide variety of styles and traditions. She has both family and linguistic research ties to the Balkans\, especially Bulgaria. Balkan music and dance are her roots\, but she loves and participates in other traditions as well. \nIn a return to a practice from the first Fall Camp and Camp Hess Kramer\, several experienced and skilled California dance teachers will also present great dances that campers will enjoy learning. \nDancing will be in the magnificent\, air-conditioned Wapner room\, on a wooden dance floor.  Fall Camp offers many other activities\, including: \n\nDance parties on Friday and Saturday evening (Yes\, we will solicit your dance requests in the weeks before-hand)\,\nMeals together\, Happy Hours\, and other socializing with our precious dance friends\,\nThe opportunity to play an instrument and/or sing in the Potluck Band\,\nArt/craft projects in the campus’ inspiring environment\,\nMorning stretching sessions and nature walks in the tranquil\, outstandingly natural landscape\,\nExpertly-led star\, and maybe satellite-gazing\, well away from LA’s city lights.\n\nCampus\nOnce again\, Fall Camp will be on the beautiful rural Brandeis-Bardin Campus near Simi Valley\, with its comfortable motel-style rooms in an idyllic\, natural setting. Nestled in a woodsy alcove\, the campus is a lovely place where you can enjoy being close to nature while still having the creature comforts of excellent meals (upgraded from previous years)\, motel-style rooms (with private bathrooms\, heat\, and air conditioning)\, and more. You can dance when you feel like it\, and when you don’t\, do other things such as catching up with friends\, playing Scrabble\, working on a jigsaw puzzle with others\, getting a massage\, completing a craft project\, going for a walk in nature\, reading a good book\, meditating\, or doing nothing at all. You don’t have to get on a plane or drive treacherous mountain roads to be with nature\, and WiFi is available too! \nAbout 40 miles northwest of Los Angeles\, near Simi Valley\, Brandeis-Bardin is a lovely and comfortable place to spend a weekend dancing with friends. The beautifully landscaped grounds have many mature trees and offer breathtaking views of the Santa Susana Mountains. The camp’s address is 1101 Peppertree Lane\, Brandeis\, CA 93064. Fly into Burbank or LAX. \nFall Camp Registration \nRegistration\nNote that the Folk Dance Federation of California\, South\, Inc. requires participants to sign a waiver that is included in the file.  As we get closer to the date\, Brandeis-Bardin Campus will also require participants to sign a waiver\, and that waiver can be signed online. \nRegister
URL:https://www.folkdance.com/event/fall-camp-2025/
LOCATION:Brandeis-Bardin Campus\, 1101 Peppertree Lane\, Brandeis\, CA\, 93064\, United States
CATEGORIES:Camp,Dance Party,Live Music
ATTACH;FMTTYPE=image/jpeg:https://www.folkdance.com/wp-content/uploads/2025/06/FallCamp24.jpeg
END:VEVENT
BEGIN:VEVENT
DTSTART;TZID=America/Los_Angeles:20251108T150000
DTEND;TZID=America/Los_Angeles:20251108T183000
DTSTAMP:20260420T003913
CREATED:20250108T062522Z
LAST-MODIFIED:20251007T112453Z
UID:16155-1762614000-1762626600@www.folkdance.com
SUMMARY:Peninsula Folk Dance Party
DESCRIPTION:Join the Peninsula Council Folk Dancers for an all-request dance party with Kaela Fine and Laura Richards as MCs! Invite your friends for a short beginner dancer workshop at 3pm. \nWe’ll have dances for all levels\, beginning to advanced\, and all forms (line\, couple\, and set). Dress comfortably in layers; sneakers or low-heeled dance shoes recommended. Donations to help cover the cost of the hall are welcome. We do dances from nearly every country in the world\, and the music is incredible.  \nSend your dance requests to pfdcparty@gmail.com along with any questions\, comments\, or suggestions.  \nPlease stay home if you are sick\, and please wear a mask if you are unsure or have been exposed to someone with a contagious illness. Thank you for your thoughtfulness.
URL:https://www.folkdance.com/event/pfdc-nov25/
LOCATION:St. Bede’s Church Hall\, 2650 Sand Hill Road\, Menlo Park\, CA\, United States
CATEGORIES:Dance Party
ATTACH;FMTTYPE=application/pdf:https://www.folkdance.com/wp-content/uploads/2025/01/2025-November-V-1.pdf
ORGANIZER;CN="Peninsula Council":MAILTO:pfdcparty@gmail.com
END:VEVENT
BEGIN:VEVENT
DTSTART;TZID=America/Los_Angeles:20251115T150000
DTEND;TZID=America/Los_Angeles:20251115T183000
DTSTAMP:20260420T003913
CREATED:20251031T171833Z
LAST-MODIFIED:20251106T091205Z
UID:16979-1763218800-1763231400@www.folkdance.com
SUMMARY:Global Folk Dance Party
DESCRIPTION:We’re going to honor our Northern friends on Saturday November 15. We’ll have our usual team of dance leaders\, who will be joined this month by guest teachers Lori Larsen\, Bev Neilson\, Riki Advi and Judy Silver. Have any ideas? Send them along to us! Until the playlist is compiled email your dance requests or questions to  virtualfolkdance@gmail.com.  As always\, join us 30 minutes before each Global Folk Dance Party at 2:30pm PST for a different pre-show (quiz\, video\, music\, trivia\, etc.) each month. Hope to see you on the virtual dance floor on Saturday November 15. \nJoin The Party\nBy Zoom\nRegister by Zoom\nWe’ve changed Zoom numbers. Here’s what you need to do.  Use the registration link above and you’ll get an email from Zoom with your link for the Global Folk Dance Party. Feel free to share the above registration link with your friends\, they’ll get their own link to join. With the new registration\, you’ll get a reminder email the morning of the Global Folk Dance Party\, so you don’t have to look for your link. \n\nIMPORTANT – Do not use both computer and phone; you will generate feedback.\nZoom will best be viewed using side by side mode. See https://bit.ly/39dximU for info.\nWhen in the meeting\, click the ‘chat’ button to chat with everybody and make requests.\nWhen you sign into Zoom\, enter your name and city so we know where you’re from!\n\nBy Facebook Live\nJoin by Facebook Live \nif Zoom is full or you just want to watch.\nhttps://www.facebook.com/PFDCouncil/ \nFor more details or to send requests e-mail us at virtualfolkdance@gmail.com. Alicia La Fetra\, Lisa Michael\, and Stacy Rose will be happy to help.
URL:https://www.folkdance.com/event/gfd-nov25/
LOCATION:Online\, CA\, United States
CATEGORIES:Dance Party,Online,Workshop
ATTACH;FMTTYPE=image/png:https://www.folkdance.com/wp-content/uploads/2025/10/759c32d8-0dd4-f291-b573-104b4354f5e7.png
ORGANIZER;CN="Global Folk Dance Parties":MAILTO:virtualfolkdance@gmail.com
END:VEVENT
BEGIN:VEVENT
DTSTART;TZID=America/Los_Angeles:20251115T193000
DTEND;TZID=America/Los_Angeles:20251115T233000
DTSTAMP:20260420T003913
CREATED:20251031T064628Z
LAST-MODIFIED:20251031T064628Z
UID:16961-1763235000-1763249400@www.folkdance.com
SUMMARY:Cafe Shalom Dance Party
DESCRIPTION:Israeli folk dancers from all over the Bay Area dance the night away at Café Shalom’s Saturday party—a monthly tradition since the 1960s! We play a wonderful mix of oldies and the latest dances based on requests. Dancers of all ages are invited to join the fun on the third Saturday of every month.  \nSaturday classes are large parties with many dancers from all ages and spectrum. We dance dances from 1918 and from 2018 back to back. \nThe first part of the evening – 30-45 minutes starts with slow and beginners dances\, oldies\, and dances which we learn in Tuesday class. Later we increase the intensity\, up the beat and the pace and the evening is fully charged with great energy and fun. \n7:30 pm – Warm-up\, beginner’s\, oldies dances\, and recently taught dances\n8:00 pm – Our party perks up… with circle\, and couple dances\n9:15 pm – Birthday celebrations\, announcements\, followed by a line dance set\n9:30 – 11:30 pm – We’ll dance ‘til then or ‘til we drop – whatever comes first! \nAdmission is $10 for adults\, $5 for students. \nInfo:  Text 669.444.1284\nCafe Shalom\, more details…
URL:https://www.folkdance.com/event/cafe-shalom-nov-25/
LOCATION:Congregation Am Tikvah\, 625 Brotherhood Way\, San Francisco\, CA\, United States
CATEGORIES:Dance Party,Workshop
ATTACH;FMTTYPE=image/jpeg:https://www.folkdance.com/wp-content/uploads/2023/04/DSC_0131-scaled.jpg
ORGANIZER;CN="Cafe Shalom":MAILTO:udy@yahoo.com
END:VEVENT
BEGIN:VEVENT
DTSTART;TZID=America/Los_Angeles:20251128T090000
DTEND;TZID=America/Los_Angeles:20251130T000000
DTSTAMP:20260420T003913
CREATED:20250823T125343Z
LAST-MODIFIED:20251107T153308Z
UID:16742-1764320400-1764460800@www.folkdance.com
SUMMARY:Kolo Festival 2025
DESCRIPTION:2025 will be the 74nd annual Kolo Festival! Kolo Festival includes dance\, vocal\, and instrumental classes\, along with dancing\, sing-alongs\, culture corners\, instrumental jam sessions\, kafanas and parties\, brass\, Bitov\, Izvorno bands and more! \nMusicians from around the world playing folk dance music from Albania\, Bosnia\, Bulgaria\, Canada\, Croatia\, Greece\, Hungary\, Israel\, Macedonia\, Norway\, Romany communities\, Romania\, Serbia\, Sweden\, Turkey\, and the United States. \nSchedule\nKolo Festival 2025 Schedule \nDance Instructors\n\nRoberto Bagnoli\nBulgarian\, Romani and Turkish Dance\nRoberto Bagnoli Roberto Bagnoli grew up in Rome\, where he was first introduced to folk music and dance\, eventually taking part in several performances and teaching dance classes. He subsequently studied various forms of folk dance in workshops throughout Europe\, Israel\, and North America under the guidance of renowned choreographers and teachers. Roberto now lives in Reggio Emilia in Northern Italy\, considered to have one of the most important dance communities in Italy.  \nFrom 1995 to 2003\, he performed as a dancer and choreographer with the Terra di Danza Dance Company and was involved in the production of Raggi di luna Italiana and Capriccio Italiano (Italian dances)\, GiroGiroMondo (dances from around the world)\, Keltic Emotion (Celtic dances)\, Mazal Tov (Israeli dances)\, and Ethnos (international folk dances).  \nHe is the founder of Folk Atelier Reggio Emilia (FARE)\, devoted to the development and conservation of folk dance heritage. As director of FARE\, he is in charge of organizing and conducting folk dance classes\, workshops with Italian and foreign specialists\, and of the performing sector\, staging various performances\, parties\, and dance gatherings. \nHe currently organizes two dance camps in Europe: Balkanot  (Balkan and Israeli dance) and Camp Yofi (Israeli Dance). \nRoberto teaches weekly classes in various cities in the north of Italy and conducts monthly sessions in Rome and Milan besides conducting workshops and seminars throughout Europe\, the United States (notably the Stockton Folk Dance Camp)\, and Canada\, Taiwan\, Hong Kong\, Singapore\, and Japan. Read more…\nSonia Dion and Cristian Florescu\nRomanian Folk Dance\nCristian and Sonia have been guest performers with the Collage International Dance Ensemble of Boston\, have been regular teachers at l’ École supérieure de danse du Québec and have been selected to be part of the Artists in the Schools program sponsored by the Québec Ministry of Education. In recent years\, they have developed a specific interest in working with recreational folk dance groups in Canada and the United States\, Mexico and Brazil. They have been teaching in Europa (Austria\, England\, Poland\, Germany\, Italy\,  Norway\, Belgium\, Switzerland\, The Netherlands\, France) in Asia (Taiwan\, Hong Kong\, Japan\, Singapore\, Malaysia) and Australia  to share their love of Romanian folk traditions.  \nIn recent years\, Cristian and Sonia have developed a specific interest in working with recreational folk dance groups. They’ve been teaching in Brazil\, Canada and the United States\, Europe (Austria\, Belgium\, England\, Germany\, Italy\, Norway\, Switzerland and the Netherlands)\, Asia (Hong Kong\, Japan\, Singapore and Taiwan) to share their love of Romanian folk traditions. They have taught workshops in Canada and the United States and choreographed Romanian suites for performing groups\, including the world-renowned BYU Folk Dance Ensemble in Utah.Read more… \nTanya Dimitrov\nTanya Dimitrov’s journey into the world of dance began at the age of six in the small village of Petarch\, Bulgaria\, where traditional music and dance were a vibrant part of daily life. Inspired by her father\, who instilled in her a profound love for Bulgarian culture\, Tanya knew from an early age that dance was her true calling — the only path she ever wished to follow. She pursued this passion with unwavering dedication\, training at the prestigious National School of Dance Art in Sofia\, Bulgaria\, with a specialization in Bulgarian folk dances. Tanya continued her education\, earning an MFA in Dance from the Academy of Music\, Dance\, and Fine Arts in Bulgaria\, an MFA in Dance from Arizona State University\, an MA in Creative Enterprise and Cultural Leadership from ASU\, and a Masters degree in Business Economics from the University of Plovdiv. Now based in Phoenix\, Arizona\, Tanya is the Artistic Director of the Balkanik Dance Group and a leading organizer of the Bulgarian Folklore Festival “Tupan Bie.” Her work bridges generations and geographies\, celebrating the richness of not only Bulgarian traditions but also the diverse tapestry of Balkan dances. For Tanya\, dance is more than performance; it is storytelling\, memory\, and community made visible. With over two decades of experience\, she is dedicated to ensuring that these living traditions are passed on\, honoring the past while inspiring new generations to keep the spirit of Bulgarian and Balkan folk dance alive. Read more… \nMaria Bebelekova\nBulgarian Singing\nMaria Bebelekova from the Bulgarian Rhodope town of Shiroka Luka\, learned singing from her mother and grandmother. She studied at the Shiroka Luka Folk Music School and the Plovdiv Conservatory\, then returned to her hometown\, where she taught at the music school for 15 years. She sang with the Bulgarian women’s choir Angelite for three seasons\, and has performed and recorded regularly with other ensembles. Maria teaches kindergarten and singing for adults and children at the Khan Asparuh Bulgarian School in Sunnyvale\, CA\, and gives private singing lessons in the San Jose\, CA area.Read more… \nJohn Morovich\nTamburica\, Croatian Singing\nJohn Morovich John Morovich\, born in 1965\, grew up in Seattle’s sizable Croatian community. Since 1973\, he has studied\, taught\, and performed traditional music and dance of Croatia and other parts of Southeastern Europe. He was awarded the prestigious Washington State Arts Commission Folk Arts Fellowship for 2001. \nHe is currently the artistic director of the Seattle Junior Tamburitzans\, a 50-member youth ensemble of which he was a performer from 1974 through 1987 and since 2013 has directed Tamburaski Orkestar Kisobran. He conducted the Jele Croatian Women’s Choir and Klapa Ruzmarin in Vancouver\, BC\, Canada. He was selected as Guest Conductor for the Croatian Fraternal Union of America Junior Cultural Federation Festival held in Chicago\, in July 2005. \nJohn has taught at many camps and seminars\, including the California Kolo Festival in San Francisco\, the Balkana Seattle Balkan Camp\, the Texas Camp\, the East European Folklife Center’s Balkan Music & Dance Workshops\, and the Seattle Folk Dance Festival. John has also worked with many folklore ensembles across the United States and Canada. He most recently choreographed for the Ban Jelačić Croatian Dance Ensemble of Penticton\, B.C.\, Canada; Hrvatski Vitezovi; Sarajevo of Vancouver; and Zagreb of Victoria\, B.C.\, Canada\, and Ethnic Dance Theatre of Minneapolis. MN. Dances John has taught include Kabanica i Seksera\, Grizlica\, H’ajd Na Lievo\, Mazulka\, Okrani Se Moje Kolo Malo\, Repa\, Sad Moi Dragi u Šumi Kod Koza\, Saljsko Kolo\, Slavonsko Kukunješče\, Sroteš\, Sˇ’tiri Snehe\, Tanac po Susasko\, Veloluški Tanac\, and Žena Ide Na Gosti. Read more… \nMusicians (aka Performers)\nRegistration \n\nChubritza International Folk Band\nFanfare Zambelata\nOrkestar Unbound\nSinovi\nMore performers to be announced!\n\nMore details… \nRegistration\n \nRegister
URL:https://www.folkdance.com/event/kolo-festival-2025/
LOCATION:Croatian Cultural Center\, 60 Onondaga Ave.\, San Francisco\, CA\, 94708\, United States
CATEGORIES:Dance Party,Festival,Live Music,Workshop
ATTACH;FMTTYPE=image/jpeg:https://www.folkdance.com/wp-content/uploads/2025/08/KF25SherryFlyer2.jpg
ORGANIZER;CN="Kolo Festival":MAILTO:bill@kolofestival.org
END:VEVENT
BEGIN:VEVENT
DTSTART;TZID=America/Los_Angeles:20251128T190000
DTEND;TZID=America/Los_Angeles:20251128T220000
DTSTAMP:20260420T003913
CREATED:20251031T155331Z
LAST-MODIFIED:20251103T002040Z
UID:16974-1764356400-1764367200@www.folkdance.com
SUMMARY:Family Fun and Dancing
DESCRIPTION:Join Changs International Folk Dancers for a night of music and dance for the entire family! \nAn hour of fun dance activities to music from around the world. Every Fourth Friday\, 7pm-8pm. Followed at 8-10pm by international folk dances from our club’s repertoire. \nAdults accompanied by kids always free!
URL:https://www.folkdance.com/event/family-fun-nov25/
LOCATION:Miraloma Park Clubhouse\, 350 O’Shaughnessey Boulevard (at Del Vale Avenue)\, San Francisco\, CA\, 94127\, United States
CATEGORIES:Dance Party,Workshop
ATTACH;FMTTYPE=image/png:https://www.folkdance.com/wp-content/uploads/2023/08/clipart3061462.png
ORGANIZER;CN="Changs International Folk Dancers":MAILTO:changsdancers@aol.com
END:VEVENT
END:VCALENDAR