BEGIN:VCALENDAR
VERSION:2.0
PRODID:-//Folk Dance Federation of California - ECPv6.15.20//NONSGML v1.0//EN
CALSCALE:GREGORIAN
METHOD:PUBLISH
X-ORIGINAL-URL:https://www.folkdance.com
X-WR-CALDESC:Events for Folk Dance Federation of California
REFRESH-INTERVAL;VALUE=DURATION:PT1H
X-Robots-Tag:noindex
X-PUBLISHED-TTL:PT1H
BEGIN:VTIMEZONE
TZID:America/Los_Angeles
BEGIN:DAYLIGHT
TZOFFSETFROM:-0800
TZOFFSETTO:-0700
TZNAME:PDT
DTSTART:20240310T100000
END:DAYLIGHT
BEGIN:STANDARD
TZOFFSETFROM:-0700
TZOFFSETTO:-0800
TZNAME:PST
DTSTART:20241103T090000
END:STANDARD
BEGIN:DAYLIGHT
TZOFFSETFROM:-0800
TZOFFSETTO:-0700
TZNAME:PDT
DTSTART:20250309T100000
END:DAYLIGHT
BEGIN:STANDARD
TZOFFSETFROM:-0700
TZOFFSETTO:-0800
TZNAME:PST
DTSTART:20251102T090000
END:STANDARD
BEGIN:DAYLIGHT
TZOFFSETFROM:-0800
TZOFFSETTO:-0700
TZNAME:PDT
DTSTART:20260308T100000
END:DAYLIGHT
BEGIN:STANDARD
TZOFFSETFROM:-0700
TZOFFSETTO:-0800
TZNAME:PST
DTSTART:20261101T090000
END:STANDARD
END:VTIMEZONE
BEGIN:VEVENT
DTSTART;TZID=America/Los_Angeles:20250830T110000
DTEND;TZID=America/Los_Angeles:20250901T180000
DTSTAMP:20260421T035451
CREATED:20241029T074732Z
LAST-MODIFIED:20241029T074814Z
UID:10001338-1756551600-1756749600@www.folkdance.com
SUMMARY:Land Dancers Folk Dance Weekend
DESCRIPTION:Please join the Land Dancers this Labor Day weekend August 30 to September 1 for International and Israeli folk dancing and music at The Land. Anyone is welcome.  Fun for families. No charge. Held every Memorial Day and Labor Day weekend. Founded by Cliff Jenkins and friends in 1981.  \nYou can camp out for the whole weekend or just come for the day and enjoy the deck\, the creek\, the forest\, dancing and friends! \nWe dance outdoors on a big redwood deck where two creeks come together in the Santa Cruz Mountains\, off Skyline Blvd near Highway 9. Dancing typically runs from around noon to 11 pm Saturday and Sunday but there isn’t a set schedule. Note map shown is only general vicinity\, contact Betsy to RSVP and for directions. \nThe event is free of charge but we welcome donations to Land Dancers\, the 501c(3) organization we created to organize and carry on folk dance weekends at the land. You may bring a check or cash to the land\, mail a check to the address shown below\, or use this link to make a donation through PayPal (you do not need a PayPal account to donate). \nContact Betsy Moore\, eambetsy@gmail.com (408-507-7177) to request a flyer with directions and more info\, to ask questions\, or to be added to our email list.
URL:https://www.folkdance.com/event/land-dancers-sep-2025/
LOCATION:Cliff’s land in the Santa Cruz Mountains\, CA-9 & Skyline Blvd\, Saratoga\, CA\, 95070
CATEGORIES:Camp,Dance Party
ATTACH;FMTTYPE=image/jpeg:https://www.folkdance.com/wp-content/uploads/2022/05/1402426339.jpg
ORGANIZER;CN="Land Dancers":MAILTO:eambetsy@gmail.com
GEO:37.2585256;-122.1219704
X-APPLE-STRUCTURED-LOCATION;VALUE=URI;X-ADDRESS=Cliff’s land in the Santa Cruz Mountains CA-9 & Skyline Blvd Saratoga CA 95070;X-APPLE-RADIUS=500;X-TITLE=CA-9 & Skyline Blvd:geo:-122.1219704,37.2585256
END:VEVENT
BEGIN:VEVENT
DTSTART;TZID=America/Los_Angeles:20250904T193000
DTEND;TZID=America/Los_Angeles:20250904T221500
DTSTAMP:20260421T035451
CREATED:20250808T194515Z
LAST-MODIFIED:20250808T195423Z
UID:10001459-1757014200-1757024100@www.folkdance.com
SUMMARY:Citrus Celebration Party (Orange You Glad to See Us?)
DESCRIPTION:Citrus Celebration Party\n(Orange You Glad to See Us?)\n\n\n\n\n\nDance with the Saratoga International Folk Dancers for their citrus themed party. Use your imagination and come dressed for the theme. Bring a snack to share for the refreshment table. \nWarmup and dances for beginners between 7:30 and 8:15pm. The dance party follows until 10:00-10:15pm.  \nThis is a large\, friendly group; you won’t be disappointed! Drop in fee $8\, seniors $6\, and first visit free. No charge for non-dancers and children. Discounts and scholarships available. No one will be turned away for lack of funds. More details…
URL:https://www.folkdance.com/event/sifd-sep25/
LOCATION:St. Archangel Michael Serbian Orthodox Church\, 18870 Allendale Avenue\, Saratoga\, California\, 95070
CATEGORIES:Dance Party
ATTACH;FMTTYPE=image/jpeg:https://www.folkdance.com/wp-content/uploads/2025/08/StockCake-Dancing-Fruit-Friends_1754681587.jpg
ORGANIZER;CN="Saratoga International Folk Dancers":MAILTO:loui@louitucker.com
GEO:37.2666093;-122.0019138
X-APPLE-STRUCTURED-LOCATION;VALUE=URI;X-ADDRESS=St. Archangel Michael Serbian Orthodox Church 18870 Allendale Avenue Saratoga California 95070;X-APPLE-RADIUS=500;X-TITLE=18870 Allendale Avenue:geo:-122.0019138,37.2666093
END:VEVENT
BEGIN:VEVENT
DTSTART;TZID=America/Los_Angeles:20250906T120000
DTEND;TZID=America/Los_Angeles:20250906T170000
DTSTAMP:20260421T035451
CREATED:20250717T013749Z
LAST-MODIFIED:20250717T013838Z
UID:10001456-1757160000-1757178000@www.folkdance.com
SUMMARY:34th Annual Polish Festival
DESCRIPTION:A 34 Year Tradition of Celebrating Polish Culture\nHave you danced the Polka\, ate Pierogi\, and had your picture taken with a “Polish Princess”?  Never\, you say?  Well\, it’s about time you did! \nJoin the Polish American Club of Sacramento\, Inc. at the 34th Annual Polish Festival.  Come celebrate and learn about the Polish culture through traditional food\, drink and song. \nThe best part of the Festival is the food and entertainment. There are no Polish Restaurants in the greater Sacramento area\, so the Polish Festival is the only time when people can enjoy authentic Polish food while listening to traditional Polish music\, performed by professional musicians. \nBogdan Komorniczak\nPAC Entertainment VP \nMore than 1500 people are expected to attend this year’s festival.  But don’t worry\, there will be plenty of food.  Come fill up on home-made Polish delicacies – over 5\,000 Pierogi (potato-cheese filled\, meat filled\, or mushroom and sauerkraut filled dumplings); 1\,000 Golabki (cabbage rolls); 700 pounds of Kielbasa (Polish sausage)\, hundreds of servings of Placki (potato pancakes) and a variety of Polish Pastries will be served. \nBeside all the wonderful food and entertainment there will be several vendors on-hand selling Baltic Amber\, handmade crafts\, Polish souvenirs\, and Polish Sausages.  Don’t forget to visit the Polish marketplace!  If you’re in a bidding mood there is also the silent auction.  For those that wish to try their luck\, tickets for the raffle will be available.  You can commemorate your visit with a picture with a “Polish Princess” at the photo booth. \nDance the Polka or while you eat\, enjoy the music of Chet Chwalik Polmuz Polka Band and Accordian music from Nicolai Prisacar.  The performances of the Bay Area Polish Dance groups of Lowicznie and Sokoly are sure to impress. \nThere is something for everyone at the 34th Annual Polish Festival! The event is for all ages. \nAdmission and Parking are free. Wheelchair Access. Credit Cards Accepted. \nPolish American Club of Sacramento\nThe Polish American Club of Sacramento\, Inc preserves and perpetuates Polish traditions\, customs\, culture\, and heritage through social events and activities.  Since the foundation of the club in 1959 membership and the festival have grown.  For more information about the performers and vendors please visit the festival website.
URL:https://www.folkdance.com/event/34th-polish-festival/
LOCATION:Polish American Community Hall\, 327 Main Street\, Roseville\, CA\, 95678\, United States
CATEGORIES:Dance Party,Festival,Live Music,Performance
ATTACH;FMTTYPE=image/jpeg:https://www.folkdance.com/wp-content/uploads/2025/07/PolishFestival35.jpg
END:VEVENT
BEGIN:VEVENT
DTSTART;TZID=America/Los_Angeles:20250913T190000
DTEND;TZID=America/Los_Angeles:20250913T220000
DTSTAMP:20260421T035451
CREATED:20250108T062122Z
LAST-MODIFIED:20250804T165607Z
UID:10001392-1757790000-1757800800@www.folkdance.com
SUMMARY:Peninsula Folk Dance Party
DESCRIPTION:Join the Peninsula Council Folk Dancers for an all-request dance party with MCs Becky Beniares and Nancy Kaye! Come early at 6:30pm for a dance lesson. \nWe’ll have dances for all levels\, beginning to advanced\, and all forms (line\, couple\, and set). Dress comfortably in layers; sneakers or low-heeled dance shoes recommended. Donations to help cover the cost of the hall are welcome. We do dances from nearly every country in the world\, and the music is incredible.  \nSend your dance requests to pfdcparty@gmail.com along with any questions\, comments\, or suggestions.  \nPlease stay home if you are sick\, and please wear a mask if you are unsure or have been exposed to someone with a contagious illness. Thank you for your thoughtfulness.
URL:https://www.folkdance.com/event/pfdc-sep25/
LOCATION:St. Bede’s Church Hall\, 2650 Sand Hill Road\, Menlo Park\, CA\, United States
CATEGORIES:Dance Party
ATTACH;FMTTYPE=application/pdf:https://www.folkdance.com/wp-content/uploads/2025/01/2025-Sept.-V-2.pdf
ORGANIZER;CN="Peninsula Council":MAILTO:pfdcparty@gmail.com
GEO:37.4218289;-122.2079929
X-APPLE-STRUCTURED-LOCATION;VALUE=URI;X-ADDRESS=St. Bede’s Church Hall 2650 Sand Hill Road Menlo Park CA United States;X-APPLE-RADIUS=500;X-TITLE=2650 Sand Hill Road:geo:-122.2079929,37.4218289
END:VEVENT
BEGIN:VEVENT
DTSTART;TZID=America/Los_Angeles:20250920T130000
DTEND;TZID=America/Los_Angeles:20250920T160000
DTSTAMP:20260421T035451
CREATED:20250116T080941Z
LAST-MODIFIED:20250920T155608Z
UID:10001408-1758373200-1758384000@www.folkdance.com
SUMMARY:Inaugural Ball 2025
DESCRIPTION:Berkeley Folk Dancers welcomes their new and returning officers. These are the people who are providing layers of structure and support that keep the Berkeley Folk Dance club running.  \nPlease bring finger foods to share.
URL:https://www.folkdance.com/event/inaugural-ball-2025/
LOCATION:Live Oak Recreation Center\, 1301 Shattuck Avenue (at Berryman)\, Berkeley\, CA\, 94709 \, United States
CATEGORIES:Dance Party
ATTACH;FMTTYPE=image/jpeg:https://www.folkdance.com/wp-content/uploads/2021/08/Festival-of-the-Oaks.jpg
GEO:37.8838082;-122.2691549
X-APPLE-STRUCTURED-LOCATION;VALUE=URI;X-ADDRESS=Live Oak Recreation Center 1301 Shattuck Avenue (at Berryman) Berkeley CA 94709  United States;X-APPLE-RADIUS=500;X-TITLE=1301 Shattuck Avenue (at Berryman):geo:-122.2691549,37.8838082
END:VEVENT
BEGIN:VEVENT
DTSTART;TZID=America/Los_Angeles:20250920T193000
DTEND;TZID=America/Los_Angeles:20250920T233000
DTSTAMP:20260421T035451
CREATED:20250808T195844Z
LAST-MODIFIED:20250808T195844Z
UID:10001460-1758396600-1758411000@www.folkdance.com
SUMMARY:Cafe Shalom Dance Party
DESCRIPTION:Israeli folk dancers from all over the Bay Area dance the night away at Café Shalom’s Saturday party—a monthly tradition since the 1960s! We play a wonderful mix of oldies and the latest dances based on requests. Dancers of all ages are invited to join the fun on the third Saturday of every month.  \nSaturday classes are large parties with many dancers from all ages and spectrum. We dance dances from 1918 and from 2018 back to back. \nThe first part of the evening – 30-45 minutes starts with slow and beginners dances\, oldies\, and dances which we learn in Tuesday class. Later we increase the intensity\, up the beat and the pace and the evening is fully charged with great energy and fun. \n7:30 pm – Warm-up\, beginner’s\, oldies dances\, and recently taught dances\n8:00 pm – Our party perks up… with circle\, and couple dances\n9:15 pm – Birthday celebrations\, announcements\, followed by a line dance set\n9:30 – 11:30 pm – We’ll dance ‘til then or ‘til we drop – whatever comes first! \nAdmission is $10 for adults\, $5 for students. \nInfo:  Text 669.444.1284\nCafe Shalom\, more details…
URL:https://www.folkdance.com/event/cafe-shalom-sep25/2025-09-20/
LOCATION:Congregation Am Tikvah\, 625 Brotherhood Way\, San Francisco\, CA\, United States
CATEGORIES:Dance Party,Workshop
ATTACH;FMTTYPE=image/jpeg:https://www.folkdance.com/wp-content/uploads/2023/04/DSC_0131-scaled.jpg
ORGANIZER;CN="Cafe Shalom":MAILTO:udy@yahoo.com
GEO:37.7130731;-122.4746312
X-APPLE-STRUCTURED-LOCATION;VALUE=URI;X-ADDRESS=Congregation Am Tikvah 625 Brotherhood Way San Francisco CA United States;X-APPLE-RADIUS=500;X-TITLE=625 Brotherhood Way:geo:-122.4746312,37.7130731
END:VEVENT
BEGIN:VEVENT
DTSTART;TZID=America/Los_Angeles:20250926T190000
DTEND;TZID=America/Los_Angeles:20250926T220000
DTSTAMP:20260421T035451
CREATED:20250828T045154Z
LAST-MODIFIED:20250828T045154Z
UID:10001472-1758913200-1758924000@www.folkdance.com
SUMMARY:Family Fun and Dancing
DESCRIPTION:Join Changs International Folk Dancers for a night of music and dance for the entire family! \nAn hour of fun dance activities to music from around the world. Every Fourth Friday\, 7pm-8pm. Followed at 8-10pm by international folk dances from our club’s repertoire. \nAdults accompanied by kids always free!
URL:https://www.folkdance.com/event/family-night-sep25/2025-09-26/
LOCATION:Miraloma Park Clubhouse\, 350 O’Shaughnessey Boulevard (at Del Vale Avenue)\, San Francisco\, CA\, 94127\, United States
CATEGORIES:Dance Party,Workshop
ATTACH;FMTTYPE=image/png:https://www.folkdance.com/wp-content/uploads/2023/08/clipart3061462.png
ORGANIZER;CN="Changs International Folk Dancers":MAILTO:changsdancers@aol.com
GEO:37.7932697;-122.3928679
X-APPLE-STRUCTURED-LOCATION;VALUE=URI;X-ADDRESS=Miraloma Park Clubhouse 350 O’Shaughnessey Boulevard (at Del Vale Avenue) San Francisco CA 94127 United States;X-APPLE-RADIUS=500;X-TITLE=350 O’Shaughnessey Boulevard (at Del Vale Avenue):geo:-122.3928679,37.7932697
END:VEVENT
BEGIN:VEVENT
DTSTART;TZID=America/Los_Angeles:20250927T113000
DTEND;TZID=America/Los_Angeles:20250927T170000
DTSTAMP:20260421T035451
CREATED:20250116T081319Z
LAST-MODIFIED:20250808T190753Z
UID:10001410-1758972600-1758992400@www.folkdance.com
SUMMARY:David and Marija Anniversary Dance
DESCRIPTION:Come help celebrate David and Marija Hillis’ anniversary with picnic and dance. More details coming… Save the date! \nBanquet/Picnic 11:30am-3pm.\nDancing 2-5pm.
URL:https://www.folkdance.com/event/david-marija-anniversary/
LOCATION:Live Oak Recreation Center\, 1301 Shattuck Avenue (at Berryman)\, Berkeley\, CA\, 94709 \, United States
CATEGORIES:Dance Party
ATTACH;FMTTYPE=image/jpeg:https://www.folkdance.com/wp-content/uploads/2019/04/cake-366346_960_720.jpg
GEO:37.8838082;-122.2691549
X-APPLE-STRUCTURED-LOCATION;VALUE=URI;X-ADDRESS=Live Oak Recreation Center 1301 Shattuck Avenue (at Berryman) Berkeley CA 94709  United States;X-APPLE-RADIUS=500;X-TITLE=1301 Shattuck Avenue (at Berryman):geo:-122.2691549,37.8838082
END:VEVENT
END:VCALENDAR