BEGIN:VCALENDAR
VERSION:2.0
PRODID:-//Folk Dance Federation of California - ECPv6.15.20//NONSGML v1.0//EN
CALSCALE:GREGORIAN
METHOD:PUBLISH
X-ORIGINAL-URL:https://www.folkdance.com
X-WR-CALDESC:Events for Folk Dance Federation of California
REFRESH-INTERVAL;VALUE=DURATION:PT1H
X-Robots-Tag:noindex
X-PUBLISHED-TTL:PT1H
BEGIN:VTIMEZONE
TZID:America/Los_Angeles
BEGIN:DAYLIGHT
TZOFFSETFROM:-0800
TZOFFSETTO:-0700
TZNAME:PDT
DTSTART:20220313T100000
END:DAYLIGHT
BEGIN:STANDARD
TZOFFSETFROM:-0700
TZOFFSETTO:-0800
TZNAME:PST
DTSTART:20221106T090000
END:STANDARD
BEGIN:DAYLIGHT
TZOFFSETFROM:-0800
TZOFFSETTO:-0700
TZNAME:PDT
DTSTART:20230312T100000
END:DAYLIGHT
BEGIN:STANDARD
TZOFFSETFROM:-0700
TZOFFSETTO:-0800
TZNAME:PST
DTSTART:20231105T090000
END:STANDARD
BEGIN:DAYLIGHT
TZOFFSETFROM:-0800
TZOFFSETTO:-0700
TZNAME:PDT
DTSTART:20240310T100000
END:DAYLIGHT
BEGIN:STANDARD
TZOFFSETFROM:-0700
TZOFFSETTO:-0800
TZNAME:PST
DTSTART:20241103T090000
END:STANDARD
BEGIN:DAYLIGHT
TZOFFSETFROM:-0800
TZOFFSETTO:-0700
TZNAME:PDT
DTSTART:20250309T100000
END:DAYLIGHT
BEGIN:STANDARD
TZOFFSETFROM:-0700
TZOFFSETTO:-0800
TZNAME:PST
DTSTART:20251102T090000
END:STANDARD
END:VTIMEZONE
BEGIN:VEVENT
DTSTART;VALUE=DATE:20240608
DTEND;VALUE=DATE:20240616
DTSTAMP:20260423T005734
CREATED:20240306T093605Z
LAST-MODIFIED:20240306T093719Z
UID:15183-1717804800-1718495999@www.folkdance.com
SUMMARY:Scandia Camp 2024
DESCRIPTION:The Scandia Camp Mendocino 2023 program will feature dance\, music\, and more from Norway and Sweden\, presented by instructors from those countries and the United States.  This year we will feature the dance and music from\nHallingdal in Norway and Föllinge in Sweden.  \n    Dance Classes\n   Camp includes the following classes and more! \n\nDance classes with our Scandinavian guest teachers focusing on Hallingdal and Föllinge dances\nDances often found at Scandinavian dance events and parties\nSocial\, changing partners dances\nClasses focusing on Hambo\, waltzing\, and your requests\n\nMusic Classes \n\nRegular fiddle focusing on the music from Föllinge\nRegular fiddle for newer Scandinavian musicians\nHardanger fiddle\, the Norwegian fiddle with under-strings\, focusing on the music from Hallingdal and more\nNyckelharpa\, a keyed-fiddle with sympathetic strings\, is the national instrument of Sweden\nGroup playing: Allspel in Swedish and Samspel in Norwegian\, focusing on dance music. All instruments are welcome.\nSwedish Singing\n\nThe mission of Scandia Camp Mendocino is to provide culturally unique enriching opportunities to learn about and actively experience the dance\, music and cultural traditions of Scandinavia (primarily Norway and Sweden) in a welcoming community.  \nSchedule\, list of instructors\, and more at http://scandiacampmendocino.org/ \nRegister
URL:https://www.folkdance.com/event/scandia-camp-2024/
LOCATION:Mendocino Woodlands Camp\, 39350 Little Lake Rd\, Mendocino\, CA\, 95460\, United States
CATEGORIES:Camp,Dance Party,Live Music,Online,Workshop
ATTACH;FMTTYPE=image/png:https://www.folkdance.com/wp-content/uploads/2024/03/2024_Scandia_Mendo_temp.png
ORGANIZER;CN="Scandia Camp Mendocino":MAILTO:Directors@ScandiaCamp.org
END:VEVENT
BEGIN:VEVENT
DTSTART;TZID=America/Los_Angeles:20240608T130000
DTEND;TZID=America/Los_Angeles:20240608T173000
DTSTAMP:20260423T005734
CREATED:20240502T151702Z
LAST-MODIFIED:20240503T095639Z
UID:15215-1717851600-1717867800@www.folkdance.com
SUMMARY:15th Annual Cerritos Festival
DESCRIPTION:Help the Cerritos Folk Dancers celebrate their 15th anniversary with dance\, cake\, and your presence! \nFinger foods to share are welcome\, but not necessary. Your traditional or special costume will add splendid color to the party.\nEach group is welcome to perform\, lead\, and/or request one or more dances.
URL:https://www.folkdance.com/event/15th-annual-cerritos-festival/
LOCATION:Cerritos Senior Center\, 12340 South Street\, Cerritos\, CA\, 90703\, United States
CATEGORIES:Dance Party
ATTACH;FMTTYPE=image/jpeg:https://www.folkdance.com/wp-content/uploads/2024/05/annie-spratt-M20ylqCzSZw-unsplash-scaled.jpg
ORGANIZER;CN="Cerritos Folk Dancers":MAILTO:CerritosFolkDancers@gmail.com
END:VEVENT
BEGIN:VEVENT
DTSTART;TZID=America/Los_Angeles:20240608T153000
DTEND;TZID=America/Los_Angeles:20240608T183000
DTSTAMP:20260423T005734
CREATED:20231214T112009Z
LAST-MODIFIED:20240509T155123Z
UID:14810-1717860600-1717871400@www.folkdance.com
SUMMARY:Palomanians Ice Cream Social
DESCRIPTION:The Palomanians Ice Cream Social featuring request dancing\, refreshments\, and of course ice cream!  \nA tradition for decades\, the Palomanians will provide all the ingredients for an Ice Cream Social and Dance Party! With lots of toppings\, fresh and stewed fruit\, sprinkles\, whipped cream\, chocolate sauce\, and more! Punch\, water and coffee also provided. More dancing afterwards to work it all off.   \nTo submit a request for our dance program\, or to volunteer to help\, please contact pfdcparty@gmail.com \nAs a reminder\, vaccinated dancers only. If you’ve been to our parties in the past\, we’ve marked you as vaccinated. If this is your first party\, please bring proof of vaccination. Per county guidelines\, masks are not required but recommended.
URL:https://www.folkdance.com/event/palomanians-ice-cream-social-24/
LOCATION:St. Bede’s Church Hall\, 2650 Sand Hill Road\, Menlo Park\, CA\, United States
CATEGORIES:Dance Party
ATTACH;FMTTYPE=application/pdf:https://www.folkdance.com/wp-content/uploads/2023/12/2024-June-Palom-V-4.pdf
ORGANIZER;CN="Peninsula Council":MAILTO:pfdcparty@gmail.com
END:VEVENT
BEGIN:VEVENT
DTSTART;TZID=America/Los_Angeles:20240609T143000
DTEND;TZID=America/Los_Angeles:20240609T170000
DTSTAMP:20260423T005734
CREATED:20240531T185350Z
LAST-MODIFIED:20240531T185350Z
UID:15416-1717943400-1717952400@www.folkdance.com
SUMMARY:Dance in the Park with Da! Mozhem
DESCRIPTION:Everyone who came last year to our “open rehearsal” in Serra Park had fun dancing\, catching up and being together! Let’s do this again on June 9\, 2024! \nDa! Mozhem will present their well-loved (and even some new!) dance party tunes in Serra Park (corner of Hollenbeck and the Dalles in Sunnyvale) on Sunday\, June 9\, beginning at 2:30 p.m. We hope to play until about 5:00\, depending on weather (and other) conditions. \nYou are warmly invited to drop by— to say hello\, listen to us play\, dance\, or all of the above! There is a well-demarcated area in Serra Park (visible from major streets and the parking lot) for such an informal party. However\, the “dance floor” surface is cement that can be somewhat uneven. Please wear appropriate footwear. \nBand members are all fully vaccinated and boosted. Covid seems to be at bay for now\, but we encourage precautions. \nRestrooms and a water fountain are available near where we will be playing. Feel free to bring your own non-alcoholic beverages and snacks. There are some nearby benches\, but bring a chair if you want to be sure of having a seat. \nYou are welcome to invite others! Please help us publicize this live music event by forwarding this to fellow dancers. Feel free to share on Facebook or other social media.\nWe would love to play for and dance with you!\nBest wishes\, \nThe Members of Da! Mozhem for this adventure\nJoyce Clyde\, Sonne Lemke\, Sue Lindner\, Paul Litsky\, Alan Moore\, Lew Smith\, Ginny Snyder\, Holly Thuman. \nDa! Mozhem at the San Francisco Free Folk Festival \nDa! Mozhem\nDa! Mozhem plays and sings high-energy pan-Balkan music for the joy of dancing.  D!M is a group of friends who have been playing together for well over a decade. The group has veterans from many excellent folklore bands such as the People’s International Silver String Macedonian Band\, Born to Drone\, Westwind\, Sviraci\, and the Slavonian Traveling Band.  The band plays with emphasis on Bulgarian\, Macedonian\, and ex-Yugoslav traditions.  Several members frequently travel to the Balkans to learn more about the folkloric music of the region.  The group plays on traditional instruments unique to the region as well as modern instruments.
URL:https://www.folkdance.com/event/da-mozhem-serrapark24/
LOCATION:Serra Park\, Sunnyvale\, CA\, 94087\, United States
CATEGORIES:Dance Party
ATTACH;FMTTYPE=image/png:https://www.folkdance.com/wp-content/uploads/2023/05/piedmontDaMozhem.png
ORGANIZER;CN="East Bay Folk Dancers":MAILTO:kay.james@comcast.net
END:VEVENT
BEGIN:VEVENT
DTSTART;TZID=America/Los_Angeles:20240614T131500
DTEND;TZID=America/Los_Angeles:20240614T160000
DTSTAMP:20260423T005734
CREATED:20240522T190550Z
LAST-MODIFIED:20240526T155356Z
UID:15402-1718370900-1718380800@www.folkdance.com
SUMMARY:International Folk Dance Party
DESCRIPTION:Join the Smile Folk Dancers for their June rainbow-themed International Folk Dance Party. No partner or experience needed. Enjoy easy and fun dances from around the world.
URL:https://www.folkdance.com/event/sfd-party0624/
LOCATION:Age Well Center at South Fremont\, 47111 Mission Falls Ct.\, Fremont\, CA\, 94539\, United States
CATEGORIES:Dance Party
ATTACH;FMTTYPE=image/png:https://www.folkdance.com/wp-content/uploads/2024/05/original-414D035E-AC78-469B-8937-C28A6AE23977.png
ORGANIZER;CN="Smile Folk Dancers":MAILTO:Smile.folkdancers@gmail.com
END:VEVENT
BEGIN:VEVENT
DTSTART;TZID=America/Los_Angeles:20240615T150000
DTEND;TZID=America/Los_Angeles:20240615T183000
DTSTAMP:20260423T005734
CREATED:20240605T011810Z
LAST-MODIFIED:20240605T011930Z
UID:15422-1718463600-1718476200@www.folkdance.com
SUMMARY:Global Folk Dance Party
DESCRIPTION:This month’s Global Folk Dance Party will feature dances from non-US teachers!\nJoin us on June 15\, and immediately after the GFDParty we’ll go live to the June Camp Saturday party! Our Guest Dance Leaders this month are Pat Henderson\, Bobby Quibodeaux\, Sharon Flory\, and Asako Oshiro\, with Sherry Cochran joining us as a Guest MC! \nHave any ideas? Send them along to us! The playlist is still being compiled so email your dance requests or questions to virtualfolkdance@gmail.com. \nPlease come at 2:30pm for fun pre-show videos. \nConnect Globally\, Dance Locally. Follow folk dance leaders and dance watching enthusiasts worldwide. \nJoin The Party\nBy Zoom\nRegister by Zoom\nWe’ve changed Zoom numbers. Here’s what you need to do.  Use the registration link above and you’ll get an email from Zoom with your link for the Global Folk Dance Party. Feel free to share the above registration link with your friends\, they’ll get their own link to join. With the new registration\, you’ll get a reminder email the morning of the Global Folk Dance Party\, so you don’t have to look for your link. \n\nIMPORTANT – Do not use both computer and phone; you will generate feedback.\nZoom will best be viewed using side by side mode. See https://bit.ly/39dximU for info.\nWhen in the meeting\, click the ‘chat’ button to chat with everybody and make requests.\nWhen you sign into Zoom\, enter your name and city so we know where you’re from!\n\nBy Facebook Live\nJoin by Facebook Live \nif Zoom is full or you just want to watch.\nhttps://www.facebook.com/PFDCouncil/ \nFor more details or to send requests e-mail us at virtualfolkdance@gmail.com. Alicia La Fetra\, Lisa Michael\, and Stacy Rose will be happy to help.
URL:https://www.folkdance.com/event/gfd-jun24/
LOCATION:Online\, CA\, United States
CATEGORIES:Dance Party,Online,Workshop
ATTACH;FMTTYPE=image/jpeg:https://www.folkdance.com/wp-content/uploads/2024/06/GFDParty-June-15-2024-scaled.jpg
ORGANIZER;CN="Global Folk Dance Parties":MAILTO:virtualfolkdance@gmail.com
END:VEVENT
BEGIN:VEVENT
DTSTART;TZID=America/Los_Angeles:20231124T190000
DTEND;TZID=America/Los_Angeles:20231124T220000
DTSTAMP:20260423T005734
CREATED:20240207T071201Z
LAST-MODIFIED:20240207T071436Z
UID:15051-1700852400-1700863200@www.folkdance.com
SUMMARY:Family Fun and Dancing
DESCRIPTION:Join Changs International Folk Dancers for a night of music and dance for the entire family! \nAn hour of fun dance activities to music from around the world. Every Fourth Friday\, 7pm-8pm\nFollowed at 8-10pm by international folk dances from our club’s repertoire. \n$8 Adults (first time free!)\, Kids always free!
URL:https://www.folkdance.com/event/family-fun-and-dancing/
LOCATION:Miraloma Park Clubhouse\, 350 O’Shaughnessey Boulevard (at Del Vale Avenue)\, San Francisco\, CA\, 94127\, United States
CATEGORIES:Dance Party,Workshop
ATTACH;FMTTYPE=image/png:https://www.folkdance.com/wp-content/uploads/2023/08/clipart3061462.png
ORGANIZER;CN="Changs International Folk Dancers":MAILTO:changsdancers@aol.com
END:VEVENT
END:VCALENDAR