BEGIN:VCALENDAR
VERSION:2.0
PRODID:-//Folk Dance Federation of California - ECPv6.15.20//NONSGML v1.0//EN
CALSCALE:GREGORIAN
METHOD:PUBLISH
X-WR-CALNAME:Folk Dance Federation of California
X-ORIGINAL-URL:https://www.folkdance.com
X-WR-CALDESC:Events for Folk Dance Federation of California
REFRESH-INTERVAL;VALUE=DURATION:PT1H
X-Robots-Tag:noindex
X-PUBLISHED-TTL:PT1H
BEGIN:VTIMEZONE
TZID:America/Los_Angeles
BEGIN:DAYLIGHT
TZOFFSETFROM:-0800
TZOFFSETTO:-0700
TZNAME:PDT
DTSTART:20230312T100000
END:DAYLIGHT
BEGIN:STANDARD
TZOFFSETFROM:-0700
TZOFFSETTO:-0800
TZNAME:PST
DTSTART:20231105T090000
END:STANDARD
BEGIN:DAYLIGHT
TZOFFSETFROM:-0800
TZOFFSETTO:-0700
TZNAME:PDT
DTSTART:20240310T100000
END:DAYLIGHT
BEGIN:STANDARD
TZOFFSETFROM:-0700
TZOFFSETTO:-0800
TZNAME:PST
DTSTART:20241103T090000
END:STANDARD
BEGIN:DAYLIGHT
TZOFFSETFROM:-0800
TZOFFSETTO:-0700
TZNAME:PDT
DTSTART:20250309T100000
END:DAYLIGHT
BEGIN:STANDARD
TZOFFSETFROM:-0700
TZOFFSETTO:-0800
TZNAME:PST
DTSTART:20251102T090000
END:STANDARD
END:VTIMEZONE
BEGIN:VEVENT
DTSTART;TZID=America/Los_Angeles:20240926T193000
DTEND;TZID=America/Los_Angeles:20240926T221500
DTSTAMP:20260422T032648
CREATED:20240925T012050Z
LAST-MODIFIED:20240925T012745Z
UID:15686-1727379000-1727388900@www.folkdance.com
SUMMARY:Memorial Dance for Jerry Gregory
DESCRIPTION:Jerry Gregory 1947-2024 Sponsored by the Saratoga Folk Dancers and hosted by Susan Gregory. A low-key but fun dance memorial for Jerry\, dancing some of his favorite dances\, snacking on some of his favorite Chinese food\, sharing memories. \nWarmup and dances for beginners between 7:30 and 8:15pm. Request dancing for the rest of the evening. This is a large\, friendly group; you won’t be disappointed! Drop in fee $5-10 sliding scale. More details…
URL:https://www.folkdance.com/event/jerry-gregory-memorial-dance/
LOCATION:St. Archangel Michael Serbian Orthodox Church\, 18870 Allendale Avenue\, Saratoga\, California\, 95070
CATEGORIES:Class,Dance Party
ATTACH;FMTTYPE=image/jpeg:https://www.folkdance.com/wp-content/uploads/2021/08/Saratoga-Dancers.jpg
ORGANIZER;CN="Saratoga International Folk Dancers":MAILTO:loui@louitucker.com
END:VEVENT
END:VCALENDAR