BEGIN:VCALENDAR
VERSION:2.0
PRODID:-//Folk Dance Federation of California - ECPv6.15.20//NONSGML v1.0//EN
CALSCALE:GREGORIAN
METHOD:PUBLISH
X-ORIGINAL-URL:https://www.folkdance.com
X-WR-CALDESC:Events for Folk Dance Federation of California
REFRESH-INTERVAL;VALUE=DURATION:PT1H
X-Robots-Tag:noindex
X-PUBLISHED-TTL:PT1H
BEGIN:VTIMEZONE
TZID:America/Los_Angeles
BEGIN:DAYLIGHT
TZOFFSETFROM:-0800
TZOFFSETTO:-0700
TZNAME:PDT
DTSTART:20220313T100000
END:DAYLIGHT
BEGIN:STANDARD
TZOFFSETFROM:-0700
TZOFFSETTO:-0800
TZNAME:PST
DTSTART:20221106T090000
END:STANDARD
BEGIN:DAYLIGHT
TZOFFSETFROM:-0800
TZOFFSETTO:-0700
TZNAME:PDT
DTSTART:20230312T100000
END:DAYLIGHT
BEGIN:STANDARD
TZOFFSETFROM:-0700
TZOFFSETTO:-0800
TZNAME:PST
DTSTART:20231105T090000
END:STANDARD
BEGIN:DAYLIGHT
TZOFFSETFROM:-0800
TZOFFSETTO:-0700
TZNAME:PDT
DTSTART:20240310T100000
END:DAYLIGHT
BEGIN:STANDARD
TZOFFSETFROM:-0700
TZOFFSETTO:-0800
TZNAME:PST
DTSTART:20241103T090000
END:STANDARD
END:VTIMEZONE
BEGIN:VEVENT
DTSTART;VALUE=DATE:20230625
DTEND;VALUE=DATE:20230702
DTSTAMP:20260420T123355
CREATED:20230604T004711Z
LAST-MODIFIED:20230604T005322Z
UID:10000824-1687651200-1688255999@www.folkdance.com
SUMMARY:BACDS Family Camp 2023
DESCRIPTION:The Bay Area Country Dance Society’s Family Week is all about community—sharing music and song\, relaxing together\, and enjoying dance\, play\, and music making\, catalyzed by an amazing staff and buoyed by friendships old and new.  \nDancing\nIt is about traditions of moving together to music\, and we’ll teach everything\, no experience needed. There will be dance for all ages\, including American contra and squares\, English country and Morris dance\, Irish\, couple dances\, and play-party games.  The music at camp is the best! The extremely talented musical staff will make your toes tap for dancing and your ears happy from listening.  \nMusic and Song\nThe staff will provide music for all kinds of dancing\, will lead workshops for new and experienced musicians alike\, and will lead the camp in joyous song. Instruction will be offered for many instruments\, including fiddle\, guitar\, piano\, and mandolin. \nStorytelling\nEnjoy the eternal art of storytelling. Our professional storyteller will enchant children and adults alike with storytelling sessions every day and a bedtime story as well. After the evening story the children will be serenaded off to bed with our traditional pied-piper parade. \nCrafts\nFamily Dance Camp craft classes offer adults and children a chance to make things with their hands. Our talented and knowledgeable artists will help all ages take pride in what they create. \nCamper Testimonials\nBACDS Family Week isn’t just about “Dance”… it’s 6 days of community\, immersion & sheer joy of art\, song\, movement\, children & people. \nFamily Camp is absolutely unequalled for its ability to teach a variety of skills in dance\, music\, craft & games in a fun and supportive environment that strengthens family bonds and creates strong friendship which can last through childhood and through life. We are all better at our life work for having spent time at camp. \nCamp Schedule\, Staff\, Policies\, and More… \nRegister for Summer 2023
URL:https://www.folkdance.com/event/bacds-family-camp/
LOCATION:Monte Toyon\, 220 Cloister Lane\, Aptos\, CA\, 95003\, United States
CATEGORIES:Camp
GEO:36.996114;-121.896946
X-APPLE-STRUCTURED-LOCATION;VALUE=URI;X-ADDRESS=Monte Toyon 220 Cloister Lane Aptos CA 95003 United States;X-APPLE-RADIUS=500;X-TITLE=220 Cloister Lane:geo:-121.896946,36.996114
END:VEVENT
END:VCALENDAR