BEGIN:VCALENDAR
VERSION:2.0
PRODID:-//Folk Dance Federation of California - ECPv6.15.20//NONSGML v1.0//EN
CALSCALE:GREGORIAN
METHOD:PUBLISH
X-WR-CALNAME:Folk Dance Federation of California
X-ORIGINAL-URL:https://www.folkdance.com
X-WR-CALDESC:Events for Folk Dance Federation of California
REFRESH-INTERVAL;VALUE=DURATION:PT1H
X-Robots-Tag:noindex
X-PUBLISHED-TTL:PT1H
BEGIN:VTIMEZONE
TZID:America/Los_Angeles
BEGIN:DAYLIGHT
TZOFFSETFROM:-0800
TZOFFSETTO:-0700
TZNAME:PDT
DTSTART:20250309T100000
END:DAYLIGHT
BEGIN:STANDARD
TZOFFSETFROM:-0700
TZOFFSETTO:-0800
TZNAME:PST
DTSTART:20251102T090000
END:STANDARD
BEGIN:DAYLIGHT
TZOFFSETFROM:-0800
TZOFFSETTO:-0700
TZNAME:PDT
DTSTART:20260308T100000
END:DAYLIGHT
BEGIN:STANDARD
TZOFFSETFROM:-0700
TZOFFSETTO:-0800
TZNAME:PST
DTSTART:20261101T090000
END:STANDARD
BEGIN:DAYLIGHT
TZOFFSETFROM:-0800
TZOFFSETTO:-0700
TZNAME:PDT
DTSTART:20270314T100000
END:DAYLIGHT
BEGIN:STANDARD
TZOFFSETFROM:-0700
TZOFFSETTO:-0800
TZNAME:PST
DTSTART:20271107T090000
END:STANDARD
END:VTIMEZONE
BEGIN:VEVENT
DTSTART;TZID=America/Los_Angeles:20261212T153000
DTEND;TZID=America/Los_Angeles:20261212T183000
DTSTAMP:20260424T015054
CREATED:20251227T115541Z
LAST-MODIFIED:20251227T121003Z
UID:17363-1797089400-1797100200@www.folkdance.com
SUMMARY:Palomanians Pie Party
DESCRIPTION:The annual Palomanians Pie Party featuring ice cream\, refreshments and pie all provided by the Palomanians!  Come join us for an evening of dancing and pie. Denise Heenan is MC. \nNothing to bring\, all pies\, ice cream\, and refreshments will be supplied by the Palomanians.  Dances range from beginning to advanced\, and all forms (line\, couple\, and set). Email your requests or questions to pfdcparty@gmail.com \nPlease stay home if you are sick\, and please wear a mask if you are unsure or have been exposed to someone with a contagious illness. Thank you for your thoughtfulness.
URL:https://www.folkdance.com/event/pie-party-26/
LOCATION:St. Bede’s Church Hall\, 2650 Sand Hill Road\, Menlo Park\, CA\, United States
CATEGORIES:Dance Party,Potluck
ATTACH;FMTTYPE=image/png:https://www.folkdance.com/wp-content/uploads/2025/12/40af4085-d6c4-41ef-a9e9-34bbca85057d.png
ORGANIZER;CN="Palomanians":MAILTO:clemd@acm.org
END:VEVENT
END:VCALENDAR