BEGIN:VCALENDAR
VERSION:2.0
PRODID:-//Folk Dance Federation of California - ECPv6.15.20//NONSGML v1.0//EN
CALSCALE:GREGORIAN
METHOD:PUBLISH
X-WR-CALNAME:Folk Dance Federation of California
X-ORIGINAL-URL:https://www.folkdance.com
X-WR-CALDESC:Events for Folk Dance Federation of California
REFRESH-INTERVAL;VALUE=DURATION:PT1H
X-Robots-Tag:noindex
X-PUBLISHED-TTL:PT1H
BEGIN:VTIMEZONE
TZID:America/Los_Angeles
BEGIN:DAYLIGHT
TZOFFSETFROM:-0800
TZOFFSETTO:-0700
TZNAME:PDT
DTSTART:20250309T100000
END:DAYLIGHT
BEGIN:STANDARD
TZOFFSETFROM:-0700
TZOFFSETTO:-0800
TZNAME:PST
DTSTART:20251102T090000
END:STANDARD
BEGIN:DAYLIGHT
TZOFFSETFROM:-0800
TZOFFSETTO:-0700
TZNAME:PDT
DTSTART:20260308T100000
END:DAYLIGHT
BEGIN:STANDARD
TZOFFSETFROM:-0700
TZOFFSETTO:-0800
TZNAME:PST
DTSTART:20261101T090000
END:STANDARD
BEGIN:DAYLIGHT
TZOFFSETFROM:-0800
TZOFFSETTO:-0700
TZNAME:PDT
DTSTART:20270314T100000
END:DAYLIGHT
BEGIN:STANDARD
TZOFFSETFROM:-0700
TZOFFSETTO:-0800
TZNAME:PST
DTSTART:20271107T090000
END:STANDARD
END:VTIMEZONE
BEGIN:VEVENT
DTSTART;TZID=America/Los_Angeles:20260531T140000
DTEND;TZID=America/Los_Angeles:20260531T160000
DTSTAMP:20260423T045837
CREATED:20260311T062741Z
LAST-MODIFIED:20260317T014205Z
UID:17637-1780236000-1780243200@www.folkdance.com
SUMMARY:Sunday Afternoon Folk Dancing  at Almonte
DESCRIPTION:Kopachka Folk Dancers invites you to come as their guest May 31\, 2026 for a dance lesson 2pm-2:30pm for all level dancers followed by request dancing until 4pm. The afternoon is free. Doors open at 1:30pm. \nKopachka welcomes all dancers\, new to Balkan dance or experienced\, who enjoy community\, haunting music\, unusual rhythms and excellent exercise for mind and body. Come join us for our first once-a-month\, recurring\, Sunday afternoon dancing.  \nMore details about the Kopachka Folk Dancers
URL:https://www.folkdance.com/event/kopachka-may26/
LOCATION:Almonte Clubhouse\, 105 Wisteria Way\, Mill Valley\, CA\, United States
CATEGORIES:Class
ATTACH;FMTTYPE=image/jpeg:https://www.folkdance.com/wp-content/uploads/2025/12/joyful-circle-dance-european-village-square.jpg
ORGANIZER;CN="Kopachka Folk Dancers":MAILTO:president@kopachkafolkdancers.com
END:VEVENT
BEGIN:VEVENT
DTSTART;TZID=America/Los_Angeles:20260531T150000
DTEND;TZID=America/Los_Angeles:20260531T173000
DTSTAMP:20260423T045837
CREATED:20260301T140933Z
LAST-MODIFIED:20260301T141035Z
UID:17542-1780239600-1780248600@www.folkdance.com
SUMMARY:Scottish and English Country Dance Workshop
DESCRIPTION:Join the Palomanians for a Scottish and English country dance workshop with Denise Heenan featuring dances from the Palomanians repertoire. For newer dancers\, this is a chance to learn and for experienced dancers a chance to review. Workshop time will be divided between teaching\, reviewing\, and just dancing! \n\nNo experience or partner needed\nBeginning to advanced dances\n\nView our repertoire and vote for dances you’d like to have taught. Questions? Email us
URL:https://www.folkdance.com/event/country-dance-wksp/
LOCATION:St. Bede’s Church Hall\, 2650 Sand Hill Road\, Menlo Park\, CA\, United States
CATEGORIES:Dance Party,Workshop
ATTACH;FMTTYPE=application/pdf:https://www.folkdance.com/wp-content/uploads/2026/03/Palomanians-260531-Flyer-260228.pdf
ORGANIZER;CN="Palomanians":MAILTO:clemd@acm.org
END:VEVENT
END:VCALENDAR