BEGIN:VCALENDAR
VERSION:2.0
PRODID:-//Folk Dance Federation of California - ECPv6.15.20//NONSGML v1.0//EN
CALSCALE:GREGORIAN
METHOD:PUBLISH
X-WR-CALNAME:Folk Dance Federation of California
X-ORIGINAL-URL:https://www.folkdance.com
X-WR-CALDESC:Events for Folk Dance Federation of California
REFRESH-INTERVAL;VALUE=DURATION:PT1H
X-Robots-Tag:noindex
X-PUBLISHED-TTL:PT1H
BEGIN:VTIMEZONE
TZID:America/Los_Angeles
BEGIN:DAYLIGHT
TZOFFSETFROM:-0800
TZOFFSETTO:-0700
TZNAME:PDT
DTSTART:20240310T100000
END:DAYLIGHT
BEGIN:STANDARD
TZOFFSETFROM:-0700
TZOFFSETTO:-0800
TZNAME:PST
DTSTART:20241103T090000
END:STANDARD
BEGIN:DAYLIGHT
TZOFFSETFROM:-0800
TZOFFSETTO:-0700
TZNAME:PDT
DTSTART:20250309T100000
END:DAYLIGHT
BEGIN:STANDARD
TZOFFSETFROM:-0700
TZOFFSETTO:-0800
TZNAME:PST
DTSTART:20251102T090000
END:STANDARD
BEGIN:DAYLIGHT
TZOFFSETFROM:-0800
TZOFFSETTO:-0700
TZNAME:PDT
DTSTART:20260308T100000
END:DAYLIGHT
BEGIN:STANDARD
TZOFFSETFROM:-0700
TZOFFSETTO:-0800
TZNAME:PST
DTSTART:20261101T090000
END:STANDARD
END:VTIMEZONE
BEGIN:VEVENT
DTSTART;TZID=America/Los_Angeles:20251024T190000
DTEND;TZID=America/Los_Angeles:20251024T210000
DTSTAMP:20260422T084740
CREATED:20250808T204435Z
LAST-MODIFIED:20250808T204540Z
UID:16717-1761332400-1761339600@www.folkdance.com
SUMMARY:Łowiczanie Polish Folk Ensemble 50th Anniversary Concert
DESCRIPTION:Łowiczanie Dancers and Directors warmly invite you to attend their festivities celebrating 50 years of dance and tradition\, cultural\, and educational service to the Polish community and the greater Bay Area! \nTheir 50th anniversary concert guests include Tekla Klebetnica – award-winning Polish musicians from Poland – alongside acclaimed Polish folk ensemble\, Krakusy LA\, our own folk ensemble for kids\, “Sokoly” and other exciting performers. \nOn the following day\, October 25\,\nŁowiczanie celebrates a gala Dinner-Dance in San Francisco promises a sparkling evening of art  auction-bidding\, dancing to live and DJ’d music\, delicious Polish cuisine\, retrospective slideshow projections\, and delightful surprises for our guests. \nEarly Bird tickets for both events will bne available soon through the Lesher Center for the Arts Box Office – stay tuned!
URL:https://www.folkdance.com/event/lowiczanie-50-concert/
LOCATION:Lesher Center for the Arts\, 1601 Civic Dr\, Walnut Creek\, CA\, 94596\, United States
CATEGORIES:Live Music
ATTACH;FMTTYPE=image/jpeg:https://www.folkdance.com/wp-content/uploads/2025/08/488599996_1062625152568144_3513623999477398406_n.jpg
END:VEVENT
BEGIN:VEVENT
DTSTART;TZID=America/Los_Angeles:20251024T190000
DTEND;TZID=America/Los_Angeles:20251024T220000
DTSTAMP:20260422T084740
CREATED:20250828T045648Z
LAST-MODIFIED:20250828T045648Z
UID:16767-1761332400-1761343200@www.folkdance.com
SUMMARY:Family Fun and Dancing
DESCRIPTION:Join Changs International Folk Dancers for a night of music and dance for the entire family! \nAn hour of fun dance activities to music from around the world. Every Fourth Friday\, 7pm-8pm. Followed at 8-10pm by international folk dances from our club’s repertoire. \nAdults accompanied by kids always free!
URL:https://www.folkdance.com/event/family-night-oct25/
LOCATION:Miraloma Park Clubhouse\, 350 O’Shaughnessey Boulevard (at Del Vale Avenue)\, San Francisco\, CA\, 94127\, United States
CATEGORIES:Dance Party,Workshop
ATTACH;FMTTYPE=image/png:https://www.folkdance.com/wp-content/uploads/2023/08/clipart3061462.png
ORGANIZER;CN="Changs International Folk Dancers":MAILTO:changsdancers@aol.com
END:VEVENT
END:VCALENDAR