BEGIN:VCALENDAR
VERSION:2.0
PRODID:-//Folk Dance Federation of California - ECPv6.15.20//NONSGML v1.0//EN
CALSCALE:GREGORIAN
METHOD:PUBLISH
X-WR-CALNAME:Folk Dance Federation of California
X-ORIGINAL-URL:https://www.folkdance.com
X-WR-CALDESC:Events for Folk Dance Federation of California
REFRESH-INTERVAL;VALUE=DURATION:PT1H
X-Robots-Tag:noindex
X-PUBLISHED-TTL:PT1H
BEGIN:VTIMEZONE
TZID:America/Los_Angeles
BEGIN:DAYLIGHT
TZOFFSETFROM:-0800
TZOFFSETTO:-0700
TZNAME:PDT
DTSTART:20240310T100000
END:DAYLIGHT
BEGIN:STANDARD
TZOFFSETFROM:-0700
TZOFFSETTO:-0800
TZNAME:PST
DTSTART:20241103T090000
END:STANDARD
BEGIN:DAYLIGHT
TZOFFSETFROM:-0800
TZOFFSETTO:-0700
TZNAME:PDT
DTSTART:20250309T100000
END:DAYLIGHT
BEGIN:STANDARD
TZOFFSETFROM:-0700
TZOFFSETTO:-0800
TZNAME:PST
DTSTART:20251102T090000
END:STANDARD
BEGIN:DAYLIGHT
TZOFFSETFROM:-0800
TZOFFSETTO:-0700
TZNAME:PDT
DTSTART:20260308T100000
END:DAYLIGHT
BEGIN:STANDARD
TZOFFSETFROM:-0700
TZOFFSETTO:-0800
TZNAME:PST
DTSTART:20261101T090000
END:STANDARD
END:VTIMEZONE
BEGIN:VEVENT
DTSTART;TZID=America/Los_Angeles:20250314T131500
DTEND;TZID=America/Los_Angeles:20250314T160000
DTSTAMP:20260419T083242
CREATED:20250225T040129Z
LAST-MODIFIED:20250225T060653Z
UID:16296-1741958100-1741968000@www.folkdance.com
SUMMARY:International Folk Dance Party
DESCRIPTION:Join the Smile Folk Dancers for their March spring themed International Folk Dance Party. Dress in floral patterns to celebrate the coming of spring. No partner or experience needed. Enjoy easy and fun dances from around the world. Please bring one snack to share.
URL:https://www.folkdance.com/event/smile-folk-dance-party/
LOCATION:Age Well Center at South Fremont\, 47111 Mission Falls Ct.\, Fremont\, CA\, 94539\, United States
CATEGORIES:Dance Party
ORGANIZER;CN="Smile Folk Dancers":MAILTO:Smile.folkdancers@gmail.com
END:VEVENT
END:VCALENDAR