BEGIN:VCALENDAR
VERSION:2.0
PRODID:-//Folk Dance Federation of California - ECPv6.15.20//NONSGML v1.0//EN
CALSCALE:GREGORIAN
METHOD:PUBLISH
X-WR-CALNAME:Folk Dance Federation of California
X-ORIGINAL-URL:https://www.folkdance.com
X-WR-CALDESC:Events for Folk Dance Federation of California
REFRESH-INTERVAL;VALUE=DURATION:PT1H
X-Robots-Tag:noindex
X-PUBLISHED-TTL:PT1H
BEGIN:VTIMEZONE
TZID:America/Los_Angeles
BEGIN:DAYLIGHT
TZOFFSETFROM:-0800
TZOFFSETTO:-0700
TZNAME:PDT
DTSTART:20240310T100000
END:DAYLIGHT
BEGIN:STANDARD
TZOFFSETFROM:-0700
TZOFFSETTO:-0800
TZNAME:PST
DTSTART:20241103T090000
END:STANDARD
BEGIN:DAYLIGHT
TZOFFSETFROM:-0800
TZOFFSETTO:-0700
TZNAME:PDT
DTSTART:20250309T100000
END:DAYLIGHT
BEGIN:STANDARD
TZOFFSETFROM:-0700
TZOFFSETTO:-0800
TZNAME:PST
DTSTART:20251102T090000
END:STANDARD
BEGIN:DAYLIGHT
TZOFFSETFROM:-0800
TZOFFSETTO:-0700
TZNAME:PDT
DTSTART:20260308T100000
END:DAYLIGHT
BEGIN:STANDARD
TZOFFSETFROM:-0700
TZOFFSETTO:-0800
TZNAME:PST
DTSTART:20261101T090000
END:STANDARD
END:VTIMEZONE
BEGIN:VEVENT
DTSTART;TZID=America/Los_Angeles:20250125T100000
DTEND;TZID=America/Los_Angeles:20250125T230000
DTSTAMP:20260422T083158
CREATED:20240924T230704Z
LAST-MODIFIED:20250115T163925Z
UID:15674-1737799200-1737846000@www.folkdance.com
SUMMARY:Hungarian Dance House (Táncház) with Live Music
DESCRIPTION:Eszterlánc invites you to join us for a Hungarian Dance Day (táncház) on January 25th\, 2025. This is our regular start-of-the-year dance house with live music by Forrás Banda (violin\, viola\, double bass\, cimbalom (hammered dulcimer)\, moldavian drum). \nThere will be several new features: \n\nFree film screening before the dance house: The Hungarian film Akkord (with English subtitles) about the connection between folk music and pop music.\nFolk music concert by Forrás Banda to kick off the dance house. Everyone is welcome\, even if you can’t stay for the dance house itself.\nPerformance by the Mazsola Children’s Folk Dance Ensemble immediately following the concert.\nChildren’s dance house\, followed by:\nAdult dance house\, including instruction during the first part of the dance sets.\nNew this year: Marketplace\, where Eszterlánc dancers and others can sell folk-related items. If you have something to sell\, let us know in advance to coordinate.\n\n\nSchedule\n\nTime\nEvent\n\n\n10:00am\nFolk Music Workshop\n\n\n3:00pm\nAkkord Film Screening\n\n\n4:30pm\nHungarian Folk Concert with Forrás Band\n\n\n5:15pm\nMazsola Performance\n\n\n5:30pm\nKid’s Dance Circle\n\n\n6:30pm\nAdult Dance with Teaching\n\n\n11:00pm\nSinging\n\n\nWe reserve the right to make changes to the program. Start times may vary depending on the number\, composition\, and mood of attendees\, but we’ll do our best to stick to the original schedule. \nAll levels of experience welcome\, no partner needed.  \nHungarian food\, drinks\, and pastries available for purchase.
URL:https://www.folkdance.com/event/tanchaz-2025/
LOCATION:Hungarian Cultural Center\, 35660 Cedar Boulevard\, Newark\, CA\, 94560\, United States
CATEGORIES:Class,Dance Party,Live Music,Performance,Workshop
ATTACH;FMTTYPE=image/png:https://www.folkdance.com/wp-content/uploads/2024/09/tanchaz-schedule-v2.png
ORGANIZER;CN="Eszterl%C3%A1nc Hungarian Folk Ensemble":MAILTO:eszterlanc@eszterlanc.com
END:VEVENT
BEGIN:VEVENT
DTSTART;TZID=America/Los_Angeles:20250125T190000
DTEND;TZID=America/Los_Angeles:20250125T210000
DTSTAMP:20260422T083159
CREATED:20250116T075903Z
LAST-MODIFIED:20250116T075928Z
UID:16194-1737831600-1737838800@www.folkdance.com
SUMMARY:Dance Party with Da! Mozhem
DESCRIPTION:Dance to your favorite international tunes with Da! Mozhem and Cabrillo Folk Dancers. \n$15 sliding scale admission \nBe sure to bring tips for the band. If you are not well please stay home. \nDa! Mozhem\nDa! Mozhem at the San Francisco Free Folk Festival Da! Mozhem plays and sings high-energy pan-Balkan music for the joy of dancing.  D!M is a group of friends who have been playing together for well over a decade. The group has veterans from many excellent folklore bands such as the People’s International Silver String Macedonian Band\, Born to Drone\, Westwind\, Sviraci\, and the Slavonian Traveling Band.  The band plays with emphasis on Bulgarian\, Macedonian\, and ex-Yugoslav traditions.  Several members frequently travel to the Balkans to learn more about the folkloric music of the region.  The group plays on traditional instruments unique to the region as well as modern instruments.
URL:https://www.folkdance.com/event/da-mozhem-party-jan25/
LOCATION:Live Oak Grange\, 1900 17th Ave\, Santa Cruz\, CA\, 95062\, United States
CATEGORIES:Dance Party
ATTACH;FMTTYPE=image/jpeg:https://www.folkdance.com/wp-content/uploads/2019/05/Da-Mozhem1ByKaela.jpg
ORGANIZER;CN="Cabrillo Folk Dancers":MAILTO:cabrillofolk@sbcglobal.net
END:VEVENT
END:VCALENDAR