BEGIN:VCALENDAR
VERSION:2.0
PRODID:-//Folk Dance Federation of California - ECPv6.15.20//NONSGML v1.0//EN
CALSCALE:GREGORIAN
METHOD:PUBLISH
X-WR-CALNAME:Folk Dance Federation of California
X-ORIGINAL-URL:https://www.folkdance.com
X-WR-CALDESC:Events for Folk Dance Federation of California
REFRESH-INTERVAL;VALUE=DURATION:PT1H
X-Robots-Tag:noindex
X-PUBLISHED-TTL:PT1H
BEGIN:VTIMEZONE
TZID:America/Los_Angeles
BEGIN:DAYLIGHT
TZOFFSETFROM:-0800
TZOFFSETTO:-0700
TZNAME:PDT
DTSTART:20230312T100000
END:DAYLIGHT
BEGIN:STANDARD
TZOFFSETFROM:-0700
TZOFFSETTO:-0800
TZNAME:PST
DTSTART:20231105T090000
END:STANDARD
BEGIN:DAYLIGHT
TZOFFSETFROM:-0800
TZOFFSETTO:-0700
TZNAME:PDT
DTSTART:20240310T100000
END:DAYLIGHT
BEGIN:STANDARD
TZOFFSETFROM:-0700
TZOFFSETTO:-0800
TZNAME:PST
DTSTART:20241103T090000
END:STANDARD
BEGIN:DAYLIGHT
TZOFFSETFROM:-0800
TZOFFSETTO:-0700
TZNAME:PDT
DTSTART:20250309T100000
END:DAYLIGHT
BEGIN:STANDARD
TZOFFSETFROM:-0700
TZOFFSETTO:-0800
TZNAME:PST
DTSTART:20251102T090000
END:STANDARD
END:VTIMEZONE
BEGIN:VEVENT
DTSTART;TZID=America/Los_Angeles:20240112T131500
DTEND;TZID=America/Los_Angeles:20240112T160000
DTSTAMP:20260419T140717
CREATED:20231222T190154Z
LAST-MODIFIED:20240112T103627Z
UID:14897-1705065300-1705075200@www.folkdance.com
SUMMARY:International Folk Dance Party
DESCRIPTION:Free International Folk Dance Party. No partner or experience needed. \nDance Party Playlist\nParty Play List
URL:https://www.folkdance.com/event/intl-fd-party-fremont/
LOCATION:Age Well Center at South Fremont\, 47111 Mission Falls Ct.\, Fremont\, CA\, 94539\, United States
CATEGORIES:Dance Party
ATTACH;FMTTYPE=image/jpeg:https://www.folkdance.com/wp-content/uploads/2023/12/original-B861263E-89E6-4870-8843-A1330CC5ABC2.jpeg
ORGANIZER;CN="Smile Folk Dancers":MAILTO:Smile.folkdancers@gmail.com
END:VEVENT
END:VCALENDAR