BEGIN:VCALENDAR
VERSION:2.0
PRODID:-//Folk Dance Federation of California - ECPv6.15.20//NONSGML v1.0//EN
CALSCALE:GREGORIAN
METHOD:PUBLISH
X-WR-CALNAME:Folk Dance Federation of California
X-ORIGINAL-URL:https://www.folkdance.com
X-WR-CALDESC:Events for Folk Dance Federation of California
REFRESH-INTERVAL;VALUE=DURATION:PT1H
X-Robots-Tag:noindex
X-PUBLISHED-TTL:PT1H
BEGIN:VTIMEZONE
TZID:America/Los_Angeles
BEGIN:DAYLIGHT
TZOFFSETFROM:-0800
TZOFFSETTO:-0700
TZNAME:PDT
DTSTART:20220313T100000
END:DAYLIGHT
BEGIN:STANDARD
TZOFFSETFROM:-0700
TZOFFSETTO:-0800
TZNAME:PST
DTSTART:20221106T090000
END:STANDARD
BEGIN:DAYLIGHT
TZOFFSETFROM:-0800
TZOFFSETTO:-0700
TZNAME:PDT
DTSTART:20230312T100000
END:DAYLIGHT
BEGIN:STANDARD
TZOFFSETFROM:-0700
TZOFFSETTO:-0800
TZNAME:PST
DTSTART:20231105T090000
END:STANDARD
BEGIN:DAYLIGHT
TZOFFSETFROM:-0800
TZOFFSETTO:-0700
TZNAME:PDT
DTSTART:20240310T100000
END:DAYLIGHT
BEGIN:STANDARD
TZOFFSETFROM:-0700
TZOFFSETTO:-0800
TZNAME:PST
DTSTART:20241103T090000
END:STANDARD
END:VTIMEZONE
BEGIN:VEVENT
DTSTART;TZID=America/Los_Angeles:20230311T190000
DTEND;TZID=America/Los_Angeles:20230311T220000
DTSTAMP:20260422T084822
CREATED:20230103T034508Z
LAST-MODIFIED:20230126T124549Z
UID:13665-1678561200-1678572000@www.folkdance.com
SUMMARY:Peninsula Folk Dance Party
DESCRIPTION:Join the Peninsula Council Folk Dancers for an all-request dance party emceed by Alicia LaFetra and Ellie Wiener! \nWe’ll have dances for all levels\, beginning to advanced\, and all forms (line\, couple\, and set). Dress comfortably in layers; sneakers or low-heeled dance shoes recommended. Donations to help cover the cost of the hall are welcome. We do dances from nearly every country in the world\, and the music is incredible.  \nMasks strongly recommended while dancing. Up to date vaccinations are required. If you’ve already shown us your vaccine info\, no need to do it again. If not\, you can email it to us at pfdcparty@gmail.com or bring it with you. \nSend your dance requests to pfdcparty@gmail.com along with any questions\, comments\, or suggestions.  \nDOWNLOAD and share a flier! \nIf you’d like to bring a snack to share\, please make sure they are prepared for individual servings.
URL:https://www.folkdance.com/event/pfdc-mar23/
LOCATION:St. Bede’s Church Hall\, 2650 Sand Hill Road\, Menlo Park\, CA\, United States
CATEGORIES:Dance Party
ATTACH;FMTTYPE=application/pdf:https://www.folkdance.com/wp-content/uploads/2023/01/2023-March-PFDC-V-3.pdf
ORGANIZER;CN="Peninsula Council":MAILTO:pfdcparty@gmail.com
END:VEVENT
BEGIN:VEVENT
DTSTART;TZID=America/Los_Angeles:20230311T193000
DTEND;TZID=America/Los_Angeles:20230311T233000
DTSTAMP:20260422T084822
CREATED:20230103T033249Z
LAST-MODIFIED:20230103T033249Z
UID:13641-1678563000-1678577400@www.folkdance.com
SUMMARY:Cafe Shalom Dance Party
DESCRIPTION:Israeli folk dancers from all over the Bay Area dance the night away at Café Shalom’s Saturday party—a monthly tradition since the 1960s! We play a wonderful mix of oldies and the latest dances based on requests. Dancers of all ages are invited to join the fun on the second Saturday of every month.  \nSaturday classes are large parties with many dancers from all ages and spectrum. We dance dances from 1918 and from 2018 back to back. \nThe first part of the evening – 30-45 minutes starts with slow and beginners dances\, oldies\, and dances which we learn in Tuesday class. Later we increase the intensity\, up the beat and the pace and the evening is fully charged with great energy and fun. \n7:30 pm – Warm-up\, beginner’s\, oldies dances\, and recently taught dances\n8:00 pm – Our party perks up… with circle\, and couple dances\n9:15 pm – Birthday celebrations\, announcements\, followed by a line dance set\n9:30 – 11:30 pm – We’ll dance ‘til then or ‘til we drop – whatever comes first! \nAdmission is $10 for adults\, $5 for students. \nInfo:  Text 669.444.1284\nCafe Shalom\, more details…
URL:https://www.folkdance.com/event/cafe-shalom-mar23/
LOCATION:Congregation Am Tikvah\, 625 Brotherhood Way\, San Francisco\, CA\, United States
CATEGORIES:Dance Party,Workshop
ATTACH;FMTTYPE=image/jpeg:https://www.folkdance.com/wp-content/uploads/2022/08/Cafe-Shalom-ReOpening-May-2022-23-small.jpg
ORGANIZER;CN="Cafe Shalom":MAILTO:udy@yahoo.com
END:VEVENT
END:VCALENDAR