BEGIN:VCALENDAR
VERSION:2.0
PRODID:-//Folk Dance Federation of California - ECPv6.15.20//NONSGML v1.0//EN
CALSCALE:GREGORIAN
METHOD:PUBLISH
X-ORIGINAL-URL:https://www.folkdance.com
X-WR-CALDESC:Events for Folk Dance Federation of California
REFRESH-INTERVAL;VALUE=DURATION:PT1H
X-Robots-Tag:noindex
X-PUBLISHED-TTL:PT1H
BEGIN:VTIMEZONE
TZID:America/Los_Angeles
BEGIN:DAYLIGHT
TZOFFSETFROM:-0800
TZOFFSETTO:-0700
TZNAME:PDT
DTSTART:20220313T100000
END:DAYLIGHT
BEGIN:STANDARD
TZOFFSETFROM:-0700
TZOFFSETTO:-0800
TZNAME:PST
DTSTART:20221106T090000
END:STANDARD
BEGIN:DAYLIGHT
TZOFFSETFROM:-0800
TZOFFSETTO:-0700
TZNAME:PDT
DTSTART:20230312T100000
END:DAYLIGHT
BEGIN:STANDARD
TZOFFSETFROM:-0700
TZOFFSETTO:-0800
TZNAME:PST
DTSTART:20231105T090000
END:STANDARD
BEGIN:DAYLIGHT
TZOFFSETFROM:-0800
TZOFFSETTO:-0700
TZNAME:PDT
DTSTART:20240310T100000
END:DAYLIGHT
BEGIN:STANDARD
TZOFFSETFROM:-0700
TZOFFSETTO:-0800
TZNAME:PST
DTSTART:20241103T090000
END:STANDARD
END:VTIMEZONE
BEGIN:VEVENT
DTSTART;TZID=America/Los_Angeles:20230225T130000
DTEND;TZID=America/Los_Angeles:20230225T173000
DTSTAMP:20260419T153456
CREATED:20221228T224724Z
LAST-MODIFIED:20230101T005008Z
UID:13605-1677330000-1677346200@www.folkdance.com
SUMMARY:Annual Lunar New Year Festival
DESCRIPTION:The annual Cerritos Folk Dancers Lunar New Year Festival! \nFeaturing an East/West Workshop with Tom Bozigian and Sheree King \nSuggested donation: $15 per person at the door (non-refundable $12 if prepaid by Feb. 18\, 2023) \nFinger foods to share are welcome\, but not necessary \nDownload and share a flier! \nFor more details contact CerritosFolkDancers@gmail.com
URL:https://www.folkdance.com/event/lunar-new-year-fest-2023/
LOCATION:Cerritos Senior Center\, 12340 South Street\, Cerritos\, CA\, 90703\, United States
CATEGORIES:Dance Party,Workshop
ATTACH;FMTTYPE=application/pdf:https://www.folkdance.com/wp-content/uploads/2022/12/CFD-fest-230225ws11-flier-E-1.pdf
ORGANIZER;CN="Cerritos Folk Dancers":MAILTO:CerritosFolkDancers@gmail.com
END:VEVENT
END:VCALENDAR