BEGIN:VCALENDAR
VERSION:2.0
PRODID:-//Folk Dance Federation of California - ECPv6.15.20//NONSGML v1.0//EN
CALSCALE:GREGORIAN
METHOD:PUBLISH
X-WR-CALNAME:Folk Dance Federation of California
X-ORIGINAL-URL:https://www.folkdance.com
X-WR-CALDESC:Events for Folk Dance Federation of California
REFRESH-INTERVAL;VALUE=DURATION:PT1H
X-Robots-Tag:noindex
X-PUBLISHED-TTL:PT1H
BEGIN:VTIMEZONE
TZID:America/Los_Angeles
BEGIN:DAYLIGHT
TZOFFSETFROM:-0800
TZOFFSETTO:-0700
TZNAME:PDT
DTSTART:20200308T100000
END:DAYLIGHT
BEGIN:STANDARD
TZOFFSETFROM:-0700
TZOFFSETTO:-0800
TZNAME:PST
DTSTART:20201101T090000
END:STANDARD
BEGIN:DAYLIGHT
TZOFFSETFROM:-0800
TZOFFSETTO:-0700
TZNAME:PDT
DTSTART:20210314T100000
END:DAYLIGHT
BEGIN:STANDARD
TZOFFSETFROM:-0700
TZOFFSETTO:-0800
TZNAME:PST
DTSTART:20211107T090000
END:STANDARD
BEGIN:DAYLIGHT
TZOFFSETFROM:-0800
TZOFFSETTO:-0700
TZNAME:PDT
DTSTART:20220313T100000
END:DAYLIGHT
BEGIN:STANDARD
TZOFFSETFROM:-0700
TZOFFSETTO:-0800
TZNAME:PST
DTSTART:20221106T090000
END:STANDARD
END:VTIMEZONE
BEGIN:VEVENT
DTSTART;VALUE=DATE:20210423
DTEND;VALUE=DATE:20210426
DTSTAMP:20260425T191614
CREATED:20210203T083452Z
LAST-MODIFIED:20210203T084134Z
UID:11674-1619136000-1619395199@www.folkdance.com
SUMMARY:Lyrids Kyklos Folk Dance Festival
DESCRIPTION:The seventh Lyrids Folk Dance Festival\, co-organized with Kyklos International Folk Dancers\, features Tineke and Maurits van Geel teaching Armenian and Roma dances from different countries mixed with some international top hits in both mornings. In the afternoons\, cameo workshops covering Bulgarian dances\, Turkish dances\, Israeli dances\, Seated dances\, Balkan singing\, Instrumental music\, and Drumming. At mealtimes\, watch cultures talks and memorable videos from past Salt Spring Island & Lyrids Folk Dance Festivals. Friday and Sunday evening parties with recorded music\, and Saturday evening Party with Osem i Devet + Friends.  \nLyrids 2021 Instructors: Maurits van Geel and Tineke van Geel\nCameo Workshops\nProgram Schedule \nRegister \nFor more details e-mail info@lyridsfolkdancefestival.org
URL:https://www.folkdance.com/event/lyrids-kyklos-folk-dance-festival/
LOCATION:Online\, CA\, United States
CATEGORIES:Camp,Dance Party,Lecture,Live Music,Online,Workshop
ATTACH;FMTTYPE=image/jpeg:https://www.folkdance.com/wp-content/uploads/2021/02/Lyrids-Kyklos-half-page-flyer-for-print-clickable.jpg
END:VEVENT
END:VCALENDAR