BEGIN:VCALENDAR
VERSION:2.0
PRODID:-//Folk Dance Federation of California - ECPv6.15.20//NONSGML v1.0//EN
CALSCALE:GREGORIAN
METHOD:PUBLISH
X-WR-CALNAME:Folk Dance Federation of California
X-ORIGINAL-URL:https://www.folkdance.com
X-WR-CALDESC:Events for Folk Dance Federation of California
REFRESH-INTERVAL;VALUE=DURATION:PT1H
X-Robots-Tag:noindex
X-PUBLISHED-TTL:PT1H
BEGIN:VTIMEZONE
TZID:America/Los_Angeles
BEGIN:DAYLIGHT
TZOFFSETFROM:-0800
TZOFFSETTO:-0700
TZNAME:PDT
DTSTART:20200308T100000
END:DAYLIGHT
BEGIN:STANDARD
TZOFFSETFROM:-0700
TZOFFSETTO:-0800
TZNAME:PST
DTSTART:20201101T090000
END:STANDARD
BEGIN:DAYLIGHT
TZOFFSETFROM:-0800
TZOFFSETTO:-0700
TZNAME:PDT
DTSTART:20210314T100000
END:DAYLIGHT
BEGIN:STANDARD
TZOFFSETFROM:-0700
TZOFFSETTO:-0800
TZNAME:PST
DTSTART:20211107T090000
END:STANDARD
BEGIN:DAYLIGHT
TZOFFSETFROM:-0800
TZOFFSETTO:-0700
TZNAME:PDT
DTSTART:20220313T100000
END:DAYLIGHT
BEGIN:STANDARD
TZOFFSETFROM:-0700
TZOFFSETTO:-0800
TZNAME:PST
DTSTART:20221106T090000
END:STANDARD
END:VTIMEZONE
BEGIN:VEVENT
DTSTART;TZID=America/Los_Angeles:20210417T150000
DTEND;TZID=America/Los_Angeles:20210417T183000
DTSTAMP:20260423T132302
CREATED:20201212T113310Z
LAST-MODIFIED:20210407T150859Z
UID:11340-1618671600-1618684200@www.folkdance.com
SUMMARY:Global Folk Dance Party
DESCRIPTION:Connect Globally\, Dance Locally. Follow folk dance leaders and dance watching enthusiasts worldwide. \nJoin the Global Folk Dance Party team for a party named “Double Name Dances and Other Favorites.”  For a sneak preview\, here are a few of the dances: Galyam Galyam\, Zek Zek Dadumle and Rum Dum Dum. Guest dance leaders will include Michael Ginsburg\, Melissa Miller\, and Lew Smith. \nWe welcome your dance requests — and they don’t need to be Double Name!  Send your requests as well as with any questions you might have. Alicia La Fetra\, Lisa Michael\, and Stacy Rose will be happy to help (we are the communications branch of the Global Folk Dance Team).   \nLew Smith started folk dancing in 1966 and led folk dancing at UCSB in the late ’60’s and at SJSU in the early ’70’s. Lew is also a member of the Balkan band Svirači. \nMelissa Miller (aka Ghanima Gaditana) has been folk dancing since childhood\, and teaches and performs belly dance in the Bay Area and beyond. She also performs regularly with the band Svirači. \nMichael Ginsburg has always been interested in Balkan music and dances\, especially Macedonian and Serbian. He is an expert in the complicated rhythms of Balkan music and has made several research trips to Bulgaria and the former Yugoslavia\, and studied in Macedonia with Pece Atanasovski\, with whom he made research tours of the country. Michael has been on the teaching staff of the Macedonian Pearl seminar in Berovo\, Macedonia. Michael lives in Yonkers\, NY.  \nWe will: \n\nConnect and dance in our own homes\nWatch people leading dances from around the world\nSubmit requests and chat online\nSee each other; listen and dance to our favorites\n\nJoin The Party\nBy Zoom\nJoin by Zoom \nhttps://zoom.us/j/600066908 Meeting ID: 600 066 908 \n\nIMPORTANT – Do not use both computer and phone; you will generate feedback.\nZoom will best be viewed using side by side mode. See https://bit.ly/39dximU for info.\nWhen in the meeting\, click the ‘chat’ button to chat with everybody and make requests.\nWhen you sign into Zoom\, enter your name and city so we know where you’re from!\n\nTo dial in by phone: +1 669 900 9128 US (San Jose) \nBy Facebook Live\nJoin by Facebook Live \nif Zoom is full or you just want to watch.\nhttps://www.facebook.com/PFDCouncil/ \nFor more details and requests e-mail us at virtualfolkdance@gmail.com.
URL:https://www.folkdance.com/event/global-apr-2021-dance-party/
LOCATION:Online\, CA\, United States
CATEGORIES:Dance Party,Online,Workshop
ATTACH;FMTTYPE=image/png:https://www.folkdance.com/wp-content/uploads/2020/12/GFDParty-April-17-2021.png
ORGANIZER;CN="Peninsula Council":MAILTO:pfdcparty@gmail.com
END:VEVENT
END:VCALENDAR